BEGIN:VCALENDAR
VERSION:2.0
PRODID:-//Agenda Cofrade 365 Días - ECPv6.3.7//NONSGML v1.0//EN
CALSCALE:GREGORIAN
METHOD:PUBLISH
X-ORIGINAL-URL:https://cordobacapitalcofrade.com
X-WR-CALDESC:Eventos para Agenda Cofrade 365 Días
REFRESH-INTERVAL;VALUE=DURATION:PT1H
X-Robots-Tag:noindex
X-PUBLISHED-TTL:PT1H
BEGIN:VTIMEZONE
TZID:UTC
BEGIN:STANDARD
TZOFFSETFROM:+0000
TZOFFSETTO:+0000
TZNAME:UTC
DTSTART:20250101T000000
END:STANDARD
END:VTIMEZONE
BEGIN:VEVENT
DTSTART;TZID=UTC:20250903T183000
DTEND;TZID=UTC:20250904T203000
DTSTAMP:20260422T191957
CREATED:20250816T115802Z
LAST-MODIFIED:20250816T115802Z
UID:6725-1756924200-1757017800@cordobacapitalcofrade.com
SUMMARY:Exposición de Nuestra Señora del Socorro Coronada tras su restauración
DESCRIPTION:Exposición de Nuestra Señora del Socorro Coronada tras su restauración realizada por Dña. Ana Infante de la Torre en horario de 18:30 a 20:30 horas en la Basílica de San Pedro.
URL:https://cordobacapitalcofrade.com/agenda/exposicion-de-nuestra-senora-del-socorro-coronada-tras-su-restauracion/
LOCATION:Basílica de San Pedro\, Pl. de San Pedro\, 1\, 14002 Córdoba\, Córdoba\, España
CATEGORIES:Cultos
ATTACH;FMTTYPE=image/jpeg:https://cordobacapitalcofrade.com/wp-content/uploads/2025/08/Besamanos-Socorro-0155-min-1-scaled.jpg
END:VEVENT
BEGIN:VEVENT
DTSTART;TZID=UTC:20250904T204500
DTEND;TZID=UTC:20250904T214500
DTSTAMP:20260422T191957
CREATED:20250816T120245Z
LAST-MODIFIED:20250816T120245Z
UID:6728-1757018700-1757022300@cordobacapitalcofrade.com
SUMMARY:Conferencia sobre la restauración de Nuestra Señora del Socorro Coronada
DESCRIPTION:Conferencia sobre la restauración de Nuestra Señora del Socorro Coronada a cargo de Dña. Ana Infante de la Torre\, a las 20:45 horas en la Basílica de San Pedro.
URL:https://cordobacapitalcofrade.com/agenda/conferencia-sobre-la-restauracion-de-nuestra-senora-del-socorro-coronada/
LOCATION:Basílica de San Pedro\, Pl. de San Pedro\, 1\, 14002 Córdoba\, Córdoba\, España
CATEGORIES:Convivencia
ATTACH;FMTTYPE=image/jpeg:https://cordobacapitalcofrade.com/wp-content/uploads/2025/08/Besamanos-Socorro-0155-min-1-scaled.jpg
END:VEVENT
BEGIN:VEVENT
DTSTART;TZID=UTC:20250904T210000
DTEND;TZID=UTC:20250904T223000
DTSTAMP:20260422T191957
CREATED:20250717T193152Z
LAST-MODIFIED:20250717T193152Z
UID:6479-1757019600-1757025000@cordobacapitalcofrade.com
SUMMARY:Igualá de costaleros del Santísimo Cristo de Oración y Caridad Magno Vía Crucis
DESCRIPTION:Igualá de costaleros del Santísimo Cristo de Oración y Caridad de cara al Magno Vía Crucis\, a las 21:00 en la Parroquia de Nuestra Señora del Rosario.
URL:https://cordobacapitalcofrade.com/agenda/iguala-de-costaleros-del-santisimo-cristo-de-oracion-y-caridad-magno-via-crucis/
LOCATION:Iglesia de Ntra. Sra. Del Rosario\, Plaza de Electromecánicas\, Córdoba\, Córdoba\, 14005\, España
CATEGORIES:Igualás de costaleros
ATTACH;FMTTYPE=image/jpeg:https://cordobacapitalcofrade.com/wp-content/uploads/2025/07/491800514_705204225498771_1324553225486123724_n.jpg
END:VEVENT
BEGIN:VEVENT
DTSTART;TZID=UTC:20250904T213000
DTEND;TZID=UTC:20250904T230000
DTSTAMP:20260422T191957
CREATED:20250717T191938Z
LAST-MODIFIED:20250717T191938Z
UID:6468-1757021400-1757026800@cordobacapitalcofrade.com
SUMMARY:Igualá de costaleros de Nuestro Padre Jesús\, Divino Salvador en su Prendimiento Magno Vía Crucis
DESCRIPTION:Igualá de costaleros de Nuestro Padre Jesús\, Divino Salvador en su Prendimiento de cara al Magno Vía Crucis\, a las 21:30 horas en la Casa de Hdad. sita en la C/ Golondrina\, 3.
URL:https://cordobacapitalcofrade.com/agenda/iguala-de-costaleros-de-nuestro-padre-jesus-divino-salvador-en-su-prendimiento-magno-via-crucis/
LOCATION:Casa de Hermandad del Prendimiento 2ª\, C. Golondrina\, 3\, Centro\, 14002 Córdoba\, CÓRDOBA\, CÓRDOBA\, Spain
CATEGORIES:Igualás de costaleros
ATTACH;FMTTYPE=image/jpeg:https://cordobacapitalcofrade.com/wp-content/uploads/2025/07/518313313_1174268854743706_835000037787756417_n.jpg
END:VEVENT
END:VCALENDAR