BEGIN:VCALENDAR
VERSION:2.0
PRODID:-//Agenda Cofrade 365 Días - ECPv6.3.7//NONSGML v1.0//EN
CALSCALE:GREGORIAN
METHOD:PUBLISH
X-WR-CALNAME:Agenda Cofrade 365 Días
X-ORIGINAL-URL:https://cordobacapitalcofrade.com
X-WR-CALDESC:Eventos para Agenda Cofrade 365 Días
REFRESH-INTERVAL;VALUE=DURATION:PT1H
X-Robots-Tag:noindex
X-PUBLISHED-TTL:PT1H
BEGIN:VTIMEZONE
TZID:UTC
BEGIN:STANDARD
TZOFFSETFROM:+0000
TZOFFSETTO:+0000
TZNAME:UTC
DTSTART:20250101T000000
END:STANDARD
END:VTIMEZONE
BEGIN:VEVENT
DTSTART;TZID=UTC:20250905T193000
DTEND;TZID=UTC:20250907T204500
DTSTAMP:20260420T024635
CREATED:20250606T120148Z
LAST-MODIFIED:20250610T120613Z
UID:6206-1757100600-1757277900@cordobacapitalcofrade.com
SUMMARY:Solemne Triduo en honor de Nuestra Señora de Villaviciosa
DESCRIPTION:Solemne Triduo en honor de Nuestra Señora de Villaviciosa a las 20:00 horas en la Real Parroquia de San Lorenzo Mártir. Previamente a las 19:30 horas\, Exposición del Santísimo Sacramento y Rezo del Santo Rosario.
URL:https://cordobacapitalcofrade.com/agenda/solemne-triduo-en-honor-de-nuestra-senora-de-villaviciosa/
LOCATION:Real Parroquia de San Lorenzo Mártir\, Pl. de San Lorenzo\, 5\, Córdoba\, España
CATEGORIES:Cultos
ATTACH;FMTTYPE=image/jpeg:https://cordobacapitalcofrade.com/wp-content/uploads/2025/06/Triduo-Villaviciosa-0020-min-scaled.jpg
END:VEVENT
BEGIN:VEVENT
DTSTART;TZID=UTC:20250905T203000
DTEND;TZID=UTC:20250907T220000
DTSTAMP:20260420T024635
CREATED:20250901T154836Z
LAST-MODIFIED:20250901T183116Z
UID:6811-1757104200-1757282400@cordobacapitalcofrade.com
SUMMARY:Triduo a Ntra. Sra. De la Piedad
DESCRIPTION:Triduo a Ntra. Sra. De la Piedad\, tendrá lugar durante los días 5\, 6 y 7 de septiembre a las 20:30 horas con el rezo del Santo Rosario y a las 21 horas Santa Misa\, en el Santuario de María Auxiliadora.
URL:https://cordobacapitalcofrade.com/agenda/triduo-a-ntra-sra-de-la-piedad/
LOCATION:Santuario de María Auxiliadora\, C. María Auxiliadora\, 8\, Centro\, 14002 Córdoba\, Córdoba\, España
CATEGORIES:Cultos
ATTACH;FMTTYPE=image/jpeg:https://cordobacapitalcofrade.com/wp-content/uploads/2025/09/IMG-20250901-WA0516.jpg
END:VEVENT
BEGIN:VEVENT
DTSTART;TZID=UTC:20250906T200000
DTEND;TZID=UTC:20250906T220000
DTSTAMP:20260420T024635
CREATED:20250901T153754Z
LAST-MODIFIED:20250901T182835Z
UID:6803-1757188800-1757196000@cordobacapitalcofrade.com
SUMMARY:Rosario Ntra. Sra. De La Fuensanta
DESCRIPTION:Rosario Ntra. Sra. De La Fuensanta\, tendrá lugar el próximo 6 de septiembre a las 20 horas desde el Santuario de Ntra. Sra. De La Fuensanta hasta la Santa Iglesia Catedral. \nRecorrerá las calles: conquistador ordoño Álvarez\, Plaza Santuario de la Fuensanta\, Avenida de La Fuensanta\, Agustín Moreno\, Don Rodrigo\, Lineros\, Plaza del Potro\, Cardenal González\, Magistral González Francés\, Puerta de Santa Catalina\, Patio de los Naranjos y Puerta de las Palmas. \nAcompañamiento musical «Nuestra Señora de la Fuensanta» de Córdoba.
URL:https://cordobacapitalcofrade.com/agenda/rosario-ntra-sra-de-la-fuensanta/
LOCATION:Santuario de Nuestra Señora de la Fuensanta\, Pl. Santuario de la Fuensanta\, s/n\, Sureste\, 14010 Córdoba\, Córdoba\, España
CATEGORIES:Rosario
ATTACH;FMTTYPE=image/jpeg:https://cordobacapitalcofrade.com/wp-content/uploads/2025/09/Traslado-Fuensanta-2018-0032.jpg
END:VEVENT
BEGIN:VEVENT
DTSTART;TZID=UTC:20250906T200000
DTEND;TZID=UTC:20250906T223000
DTSTAMP:20260420T024635
CREATED:20250816T121856Z
LAST-MODIFIED:20250816T121856Z
UID:6733-1757188800-1757197800@cordobacapitalcofrade.com
SUMMARY:Misa de Acción de Gracias por el XXII Aniversario de la Coronación Canónica de Nuestra Señora del Socorro Coronada y traslado a su Ermita
DESCRIPTION:Misa de Acción de Gracias por el XXII Aniversario de la Coronación Canónica de Nuestra Señora del Socorro Coronada\, a las 20:00 horas en la Basílica de San Pedro. Tras la Eucaristía\, la Virgen regresará en traslado a su Ermita.
URL:https://cordobacapitalcofrade.com/agenda/misa-de-accion-de-gracias-por-el-xxii-aniversario-de-la-coronacion-canonica-de-nuestra-senora-del-socorro-coronada-y-traslado-a-su-ermita/
LOCATION:Basílica de San Pedro\, Pl. de San Pedro\, 1\, 14002 Córdoba\, Córdoba\, España
CATEGORIES:Cultos,Traslados
ATTACH;FMTTYPE=image/jpeg:https://cordobacapitalcofrade.com/wp-content/uploads/2025/08/470807729_18455502682067612_2831677586466452932_n.jpg
END:VEVENT
BEGIN:VEVENT
DTSTART;TZID=UTC:20250906T203000
DTEND;TZID=UTC:20250906T220000
DTSTAMP:20260420T024635
CREATED:20250806T121341Z
LAST-MODIFIED:20250806T121341Z
UID:6643-1757190600-1757196000@cordobacapitalcofrade.com
SUMMARY:Igualá de costaleros de Nuestro Padre Jesús de la Redención Magno Vía Crucis
DESCRIPTION:Igualá de costaleros de Nuestro Padre Jesús de la Redención de cara al Magno Vía Crucis\, a las 20:30 horas en la Casa de Hdad. sita en la C/ Joaquín Sama Naharro\, 26.
URL:https://cordobacapitalcofrade.com/agenda/iguala-de-costaleros-de-nuestro-padre-jesus-de-la-redencion-magno-via-crucis/
LOCATION:Casa de Hermandad de la Estrella\, C. Joaquín Sama Naharro\, 26\, Noroeste\, 14006 Córdoba\, Córdoba\, España
CATEGORIES:Igualás de costaleros
ATTACH;FMTTYPE=image/jpeg:https://cordobacapitalcofrade.com/wp-content/uploads/2025/08/527240035_1166302835540563_5366015714754470987_n.jpg
END:VEVENT
END:VCALENDAR