BEGIN:VCALENDAR
VERSION:2.0
PRODID:-//Agenda Cofrade 365 Días - ECPv6.3.7//NONSGML v1.0//EN
CALSCALE:GREGORIAN
METHOD:PUBLISH
X-WR-CALNAME:Agenda Cofrade 365 Días
X-ORIGINAL-URL:https://cordobacapitalcofrade.com
X-WR-CALDESC:Eventos para Agenda Cofrade 365 Días
REFRESH-INTERVAL;VALUE=DURATION:PT1H
X-Robots-Tag:noindex
X-PUBLISHED-TTL:PT1H
BEGIN:VTIMEZONE
TZID:UTC
BEGIN:STANDARD
TZOFFSETFROM:+0000
TZOFFSETTO:+0000
TZNAME:UTC
DTSTART:20250101T000000
END:STANDARD
END:VTIMEZONE
BEGIN:VEVENT
DTSTART;TZID=UTC:20250905T193000
DTEND;TZID=UTC:20250907T204500
DTSTAMP:20260419T194150
CREATED:20250606T120148Z
LAST-MODIFIED:20250610T120613Z
UID:6206-1757100600-1757277900@cordobacapitalcofrade.com
SUMMARY:Solemne Triduo en honor de Nuestra Señora de Villaviciosa
DESCRIPTION:Solemne Triduo en honor de Nuestra Señora de Villaviciosa a las 20:00 horas en la Real Parroquia de San Lorenzo Mártir. Previamente a las 19:30 horas\, Exposición del Santísimo Sacramento y Rezo del Santo Rosario.
URL:https://cordobacapitalcofrade.com/agenda/solemne-triduo-en-honor-de-nuestra-senora-de-villaviciosa/
LOCATION:Real Parroquia de San Lorenzo Mártir\, Pl. de San Lorenzo\, 5\, Córdoba\, España
CATEGORIES:Cultos
ATTACH;FMTTYPE=image/jpeg:https://cordobacapitalcofrade.com/wp-content/uploads/2025/06/Triduo-Villaviciosa-0020-min-scaled.jpg
END:VEVENT
BEGIN:VEVENT
DTSTART;TZID=UTC:20250905T203000
DTEND;TZID=UTC:20250907T220000
DTSTAMP:20260419T194150
CREATED:20250901T154836Z
LAST-MODIFIED:20250901T183116Z
UID:6811-1757104200-1757282400@cordobacapitalcofrade.com
SUMMARY:Triduo a Ntra. Sra. De la Piedad
DESCRIPTION:Triduo a Ntra. Sra. De la Piedad\, tendrá lugar durante los días 5\, 6 y 7 de septiembre a las 20:30 horas con el rezo del Santo Rosario y a las 21 horas Santa Misa\, en el Santuario de María Auxiliadora.
URL:https://cordobacapitalcofrade.com/agenda/triduo-a-ntra-sra-de-la-piedad/
LOCATION:Santuario de María Auxiliadora\, C. María Auxiliadora\, 8\, Centro\, 14002 Córdoba\, Córdoba\, España
CATEGORIES:Cultos
ATTACH;FMTTYPE=image/jpeg:https://cordobacapitalcofrade.com/wp-content/uploads/2025/09/IMG-20250901-WA0516.jpg
END:VEVENT
BEGIN:VEVENT
DTSTART;TZID=UTC:20250907T120000
DTEND;TZID=UTC:20250907T140000
DTSTAMP:20260419T194150
CREATED:20250826T124250Z
LAST-MODIFIED:20250826T124250Z
UID:6772-1757246400-1757253600@cordobacapitalcofrade.com
SUMMARY:Solemne Eucaristía por el L Aniversario de la llegada de Nuestra Señora de Araceli a Córdoba\, Presentación del programa de actos y del cartel de las Fiesta Aracelitana 2025
DESCRIPTION:Solemne Eucaristía por el L Aniversario de la llegada de Nuestra Señora de Araceli a Córdoba\, a las 12:00 horas en la Parroquia de Nuestra Señora de Araceli. A continuación\, Presentación del programa de actos y del cartel de las Fiesta Aracelitana 2025 a cargo de D. Antonio Nieto y D. Javier Algar. Se presentará también el nuevo emblema.
URL:https://cordobacapitalcofrade.com/agenda/solemne-eucaristia-por-el-l-aniversario-de-la-llegada-de-nuestra-senora-de-araceli-a-cordoba-presentacion-del-programa-de-actos-y-del-cartel-de-las-fiesta-aracelitana-2025/
LOCATION:Parroquia de Nuestra Señora de Araceli\, C. Ángel Ganivet\, 9\, Poniente Sur\, 14011 Córdoba\, Córdoba\, España
CATEGORIES:Cultos
ATTACH;FMTTYPE=image/jpeg:https://cordobacapitalcofrade.com/wp-content/uploads/2025/08/492152417_654245057227539_9173046578194790954_n.jpg
END:VEVENT
BEGIN:VEVENT
DTSTART;TZID=UTC:20250907T204500
DTEND;TZID=UTC:20250907T235500
DTSTAMP:20260419T194150
CREATED:20250901T154319Z
LAST-MODIFIED:20250901T183024Z
UID:6808-1757277900-1757289300@cordobacapitalcofrade.com
SUMMARY:Procesión Ntra. Sra. De la Fuensanta
DESCRIPTION:Procesión Ntra. Sra. De la Fuensanta\, tendrá lugar el 7 de septiembre a las 20:45 horas desde la Santa Iglesia Catedral hasta el Santuario de Ntra. Sra. De la Fuensanta. \nEl recorrido será el siguiente Puerta de Santa Catalina\, Cardenal González\, Lucano\, Plaza del Potro\, Lineros\, Don Rodrigo\, Agustín Moreno\, Avenida de La Fuensanta\, Pelagio\, Cuesta de la pólvora\, Conquistador Ordoño Álvarez\, Plaza Santuario de la Fuensanta\, entrada. \nAcompañamiento musical: en Cruz de Guía\, Banda de Cornetas y Tambores «Caido-Fuensanta» de Córdoba y\, tras la Virgen\, la Banda de Música del «Maestro Tejera» de Sevilla.
URL:https://cordobacapitalcofrade.com/agenda/procesion-ntra-sra-de-la-fuensanta/
LOCATION:Santa Iglesia Catedral de Córdoba\, C. Cardenal Herrero\, 1\, Córdoba\, España
CATEGORIES:Procesión
ATTACH;FMTTYPE=image/jpeg:https://cordobacapitalcofrade.com/wp-content/uploads/2025/09/Fuensanta.jpg
END:VEVENT
END:VCALENDAR