BEGIN:VCALENDAR
VERSION:2.0
PRODID:-//Agenda Cofrade 365 Días - ECPv6.3.7//NONSGML v1.0//EN
CALSCALE:GREGORIAN
METHOD:PUBLISH
X-WR-CALNAME:Agenda Cofrade 365 Días
X-ORIGINAL-URL:https://cordobacapitalcofrade.com
X-WR-CALDESC:Eventos para Agenda Cofrade 365 Días
REFRESH-INTERVAL;VALUE=DURATION:PT1H
X-Robots-Tag:noindex
X-PUBLISHED-TTL:PT1H
BEGIN:VTIMEZONE
TZID:UTC
BEGIN:STANDARD
TZOFFSETFROM:+0000
TZOFFSETTO:+0000
TZNAME:UTC
DTSTART:20250101T000000
END:STANDARD
END:VTIMEZONE
BEGIN:VEVENT
DTSTART;TZID=UTC:20251203T100000
DTEND;TZID=UTC:20251208T193000
DTSTAMP:20260420T020136
CREATED:20251126T133150Z
LAST-MODIFIED:20251126T133150Z
UID:7696-1764756000-1765222200@cordobacapitalcofrade.com
SUMMARY:II Muestra de Dulces Conventuales de la Hermandad del Socorro
DESCRIPTION:II Muestra de Dulces Conventuales de la Hermandad del Socorro en horario de 10:00 a 19:30 horas en el Palacio de Congresos y Exposiciones ubicado en la C/ Torrijos\, 10.
URL:https://cordobacapitalcofrade.com/agenda/ii-muestra-de-dulces-conventuales-de-la-hermandad-del-socorro/
LOCATION:Palacio de Congresos\, C. Torrijos\, 10\, Centro\, 14003 Córdoba\, Córdoba\, Spain
CATEGORIES:Muestras
ATTACH;FMTTYPE=image/jpeg:https://cordobacapitalcofrade.com/wp-content/uploads/2025/11/587475877_18518577736067612_4516747397945659391_n.jpg
END:VEVENT
BEGIN:VEVENT
DTSTART;TZID=UTC:20251204T100000
DTEND;TZID=UTC:20251208T220000
DTSTAMP:20260420T020136
CREATED:20251126T132108Z
LAST-MODIFIED:20251126T132108Z
UID:7690-1764842400-1765231200@cordobacapitalcofrade.com
SUMMARY:XX Muestra de Dulces Conventuales de la Hermandad del Calvario
DESCRIPTION:XX Muestra de Dulces Conventuales de la Hermandad del Calvario en horario de 10:00 a 22:00 horas en la Plaza de las Tendillas.
URL:https://cordobacapitalcofrade.com/agenda/xx-muestra-de-dulces-conventuales-de-la-hermandad-del-calvario/
LOCATION:Plaza de las Tendillas\, Centro\, Córdoba\, Córdoba\, Spain
CATEGORIES:Muestras
ATTACH;FMTTYPE=image/webp:https://cordobacapitalcofrade.com/wp-content/uploads/2025/11/2025112612352968042.webp
END:VEVENT
BEGIN:VEVENT
DTSTART;TZID=UTC:20251204T190000
DTEND;TZID=UTC:20251206T201500
DTSTAMP:20260420T020136
CREATED:20251127T154333Z
LAST-MODIFIED:20251127T154333Z
UID:7716-1764874800-1765052100@cordobacapitalcofrade.com
SUMMARY:Solemne Triduo de Nuestra Señora de la Palma
DESCRIPTION:Solemne Triduo de Nuestra Señora de la Palma a las 19:30 horas en la Real Parroquia de San Lorenzo Mártir. Previamente a las 19:00 horas rezo del Santo Rosario.
URL:https://cordobacapitalcofrade.com/agenda/solemne-triduo-de-nuestra-senora-de-la-palma-2/
LOCATION:Real Parroquia de San Lorenzo Mártir\, Pl. de San Lorenzo\, 5\, Córdoba\, España
CATEGORIES:Cultos
ATTACH;FMTTYPE=image/jpeg:https://cordobacapitalcofrade.com/wp-content/uploads/2025/11/480351915_640480785162354_6514718694413040650_n.jpg
END:VEVENT
BEGIN:VEVENT
DTSTART;TZID=UTC:20251205T103000
DTEND;TZID=UTC:20251213T200000
DTSTAMP:20260420T020136
CREATED:20251127T155654Z
LAST-MODIFIED:20251127T155654Z
UID:7725-1764930600-1765656000@cordobacapitalcofrade.com
SUMMARY:V Muestra de Dulces Conventuales de la Hermandad del Descendimiento
DESCRIPTION:V Muestra de Dulces Conventuales de la Hermandad del Descendimiento en horario de 10:30 a 20:00 horas en el Convento de las Siervas de María ubicado en la C/ Blanco Belmonte\, 3.
URL:https://cordobacapitalcofrade.com/agenda/v-muestra-de-dulces-conventuales-de-la-hermandad-del-descendimiento/
LOCATION:Convento de las Siervas de María\, C. Blanco Belmonte\, 3\, Centro\, 14003 Córdoba\, Córdoba\, Spain
CATEGORIES:Muestras
ATTACH;FMTTYPE=image/jpeg:https://cordobacapitalcofrade.com/wp-content/uploads/2025/11/588620849_18296834539273736_3113432801552516227_n.jpeg
END:VEVENT
BEGIN:VEVENT
DTSTART;TZID=UTC:20251205T191500
DTEND;TZID=UTC:20251207T201500
DTSTAMP:20260420T020136
CREATED:20251112T130642Z
LAST-MODIFIED:20251112T130642Z
UID:7491-1764962100-1765138500@cordobacapitalcofrade.com
SUMMARY:Solemne Triduo en honor de Nuestra Señora Reina de los Ángeles
DESCRIPTION:Solemne Triduo en honor de Nuestra Señora Reina de los Ángeles\, a las 19:15 horas en la Iglesia Conventual del Santo Ángel (Capuchinos).
URL:https://cordobacapitalcofrade.com/agenda/solemne-triduo-en-honor-de-nuestra-senora-reina-de-los-angeles-2/
LOCATION:Iglesia Conventual del Santo Ángel (Capuchinos)\, Pl. de Capuchinos\, 5\, Córdoba\, España
CATEGORIES:Cultos
ATTACH;FMTTYPE=image/jpeg:https://cordobacapitalcofrade.com/wp-content/uploads/2025/11/487810675_1082295037267798_6931230221045025534_n.jpg
END:VEVENT
BEGIN:VEVENT
DTSTART;TZID=UTC:20251205T193000
DTEND;TZID=UTC:20251207T201500
DTSTAMP:20260420T020136
CREATED:20251120T130137Z
LAST-MODIFIED:20251120T130137Z
UID:7616-1764963000-1765138500@cordobacapitalcofrade.com
SUMMARY:Solemne Triduo en honor de María Santísima de la Concepción
DESCRIPTION:Solemne Triduo en honor de María Santísima de la Concepción\, a las 19:30 horas en la Parroquia de Santiago Apóstol.
URL:https://cordobacapitalcofrade.com/agenda/solemne-triduo-en-honor-de-maria-santisima-de-la-concepcion/
LOCATION:Parroquia de Santiago Apóstol\, C. de Agustín Moreno\, 26\, 14002 Córdoba\, Córdoba\, España
CATEGORIES:Cultos
ATTACH;FMTTYPE=image/jpeg:https://cordobacapitalcofrade.com/wp-content/uploads/2025/11/488795020_1147729047399318_8642297249121172938_n.jpg
END:VEVENT
BEGIN:VEVENT
DTSTART;TZID=UTC:20251205T193000
DTEND;TZID=UTC:20251207T203000
DTSTAMP:20260420T020136
CREATED:20251126T130413Z
LAST-MODIFIED:20251126T130413Z
UID:7679-1764963000-1765139400@cordobacapitalcofrade.com
SUMMARY:Triduo en honor de María Santísima Reina de Nuestra Alegría
DESCRIPTION:Triduo en honor de María Santísima Reina de Nuestra Alegría a las 19:30 horas en la Parroquia de Santa Marina de Aguas Santas.
URL:https://cordobacapitalcofrade.com/agenda/triduo-en-honor-de-maria-santisima-reina-de-nuestra-alegria/
LOCATION:Parroquia de Santa Marina de Aguas Santas\, Pl. de Sta. Marina\, 6\, 14001 Córdoba\, Córdoba\, España
CATEGORIES:Cultos
ATTACH;FMTTYPE=image/jpeg:https://cordobacapitalcofrade.com/wp-content/uploads/2025/11/488494925_1080132210817752_8322025666571822109_n.jpg
END:VEVENT
BEGIN:VEVENT
DTSTART;TZID=UTC:20251205T200000
DTEND;TZID=UTC:20251207T210000
DTSTAMP:20260420T020136
CREATED:20251128T161128Z
LAST-MODIFIED:20251128T161128Z
UID:7746-1764964800-1765141200@cordobacapitalcofrade.com
SUMMARY:Solemne Triduo en honor de la Inmaculada Concepción
DESCRIPTION:Solemne Triduo en honor de la Inmaculada Concepción\, a las 20:00 horas en la Parroquia del Salvador y Santo Domingo de Silos (Compañía).
URL:https://cordobacapitalcofrade.com/agenda/solemne-triduo-en-honor-de-la-inmaculada-concepcion/
LOCATION:Parroquia Salvador y Santo Domingo de Silos (Compañía)\, Pl. de la Compañía\, 7\, Córdoba\, España
CATEGORIES:Cultos
ATTACH;FMTTYPE=image/jpeg:https://cordobacapitalcofrade.com/wp-content/uploads/2025/11/Triduo-Inmaculada-Concepcion-0035-scaled.jpg
END:VEVENT
BEGIN:VEVENT
DTSTART;TZID=UTC:20251206T123000
DTEND;TZID=UTC:20251206T220000
DTSTAMP:20260420T020136
CREATED:20251112T125042Z
LAST-MODIFIED:20251112T125042Z
UID:7485-1765024200-1765058400@cordobacapitalcofrade.com
SUMMARY:Zambomba organizada por la Hermandad del Rescatado
DESCRIPTION:Zambomba organizada por la Hermandad del Rescatado desde las 12:30 horas en el Patio del Colegio de los Trinitarios. Habrá diferentes actuaciones como la de la Banda de Música «Nuestra Señora de la Estrella» de Córdoba interpretando Villancicos (13:00 horas)\, el Coro Rociero de la Hermandad de la Estrella (16:00 horas) o el Grupo de Lucía Vallecillo (18:00 horas).
URL:https://cordobacapitalcofrade.com/agenda/zambomba-organizada-por-la-hermandad-del-rescatado/
LOCATION:Patio del Colegio de los Trinitarios\, C. Rda. del Marrubial\, 2\, Centro\, 14007 Córdoba\, Córdoba\, España
CATEGORIES:zambomba
ATTACH;FMTTYPE=image/jpeg:https://cordobacapitalcofrade.com/wp-content/uploads/2025/11/581268150_1309694431202221_7215956792076583821_n.jpg
END:VEVENT
BEGIN:VEVENT
DTSTART;TZID=UTC:20251206T183000
DTEND;TZID=UTC:20251206T203000
DTSTAMP:20260420T020136
CREATED:20251109T140149Z
LAST-MODIFIED:20251109T140149Z
UID:7462-1765045800-1765053000@cordobacapitalcofrade.com
SUMMARY:Besamanos de Nuestra Señora del Mayor Dolor en su Soledad
DESCRIPTION:Besamanos de Nuestra Señora del Mayor Dolor en su Soledad en horario de 18:30 a 20:30 horas en el Santuario de Nuestra Señora del Carmen (San Cayetano).
URL:https://cordobacapitalcofrade.com/agenda/besamanos-de-nuestra-senora-del-mayor-dolor-en-su-soledad-5/
LOCATION:Santuario de Nuestra Señora del Carmen\, C. Cta. de San Cayetano\, Centro\, 14001 Córdoba\, Córdoba\, España
CATEGORIES:Cultos
ATTACH;FMTTYPE=image/jpeg:https://cordobacapitalcofrade.com/wp-content/uploads/2025/11/Besamanos-Soledad-0074-min-scaled.jpg
END:VEVENT
BEGIN:VEVENT
DTSTART;TZID=UTC:20251206T183000
DTEND;TZID=UTC:20251208T213000
DTSTAMP:20260420T020136
CREATED:20251126T132753Z
LAST-MODIFIED:20251126T132753Z
UID:7693-1765045800-1765229400@cordobacapitalcofrade.com
SUMMARY:IX Muestra de Dulces Conventuales de la Hermandad de la Sentencia
DESCRIPTION:IX Muestra de Dulces Conventuales de la Hermandad de la Sentencia en horario de misas en la Parroquia de San Nicolás de la Villa.
URL:https://cordobacapitalcofrade.com/agenda/ix-muestra-de-dulces-conventuales-de-la-hermandad-de-la-sentencia/
LOCATION:Parroquia de San Nicolás de la Villa\, Pl. de San Nicolás\, 14003 Córdoba\, Córdoba\, España
CATEGORIES:Muestras
ATTACH;FMTTYPE=image/jpeg:https://cordobacapitalcofrade.com/wp-content/uploads/2025/11/587535716_18492162874072913_2948842874396035812_n.jpg
END:VEVENT
BEGIN:VEVENT
DTSTART;TZID=UTC:20251206T190000
DTEND;TZID=UTC:20251208T201500
DTSTAMP:20260420T020136
CREATED:20251130T142638Z
LAST-MODIFIED:20251130T142638Z
UID:7760-1765047600-1765224900@cordobacapitalcofrade.com
SUMMARY:Triduo de María Santísima del Dulce Nombre
DESCRIPTION:Triduo de María Santísima del Dulce Nombre\, a las 19:00 horas en la Parroquia de San José y Espíritu Santo
URL:https://cordobacapitalcofrade.com/agenda/triduo-de-maria-santisima-del-dulce-nombre-3/
LOCATION:Parroquia de San José y Espíritu Santo\, Pl. de Santa Teresa\, 1\, Córdoba\, España
CATEGORIES:Cultos
ATTACH;FMTTYPE=image/jpeg:https://cordobacapitalcofrade.com/wp-content/uploads/2025/11/484548527_1032964038856213_6011601779502453352_n.jpg
END:VEVENT
BEGIN:VEVENT
DTSTART;TZID=UTC:20251206T193000
DTEND;TZID=UTC:20251206T203000
DTSTAMP:20260420T020136
CREATED:20251125T175840Z
LAST-MODIFIED:20251125T175840Z
UID:7673-1765049400-1765053000@cordobacapitalcofrade.com
SUMMARY:Solemne Triduo en honor de María Santísima de la Trinidad
DESCRIPTION:Solemne Triduo en honor de María Santísima de la Trinidad\, a las 19:30 horas en la Parroquia de San Juan y Todos los Santos (Trinidad).
URL:https://cordobacapitalcofrade.com/agenda/solemne-triduo-en-honor-de-maria-santisima-de-la-trinidad-3/
LOCATION:Parroquia de la Trinidad\, Plaza de la Trinidad\, Córdoba\, España
CATEGORIES:Cultos
ATTACH;FMTTYPE=image/jpeg:https://cordobacapitalcofrade.com/wp-content/uploads/2025/11/487558041_1069360925225478_7911687991607992581_n.jpg
END:VEVENT
BEGIN:VEVENT
DTSTART;TZID=UTC:20251206T193000
DTEND;TZID=UTC:20251207T204500
DTSTAMP:20260420T020136
CREATED:20251201T131036Z
LAST-MODIFIED:20251201T131036Z
UID:7774-1765049400-1765140300@cordobacapitalcofrade.com
SUMMARY:Solemne Triduo a Nuestra Señora de la Cabeza
DESCRIPTION:Solemne Triduo a Nuestra Señora de la Cabeza a las 20:00 horas en la Parroquia de San Francisco y San Eulogio. Previamente a las 19:30 horas Rezo del Santo Rosario.
URL:https://cordobacapitalcofrade.com/agenda/solemne-triduo-a-nuestra-senora-de-la-cabeza/
LOCATION:Parroquia de San Francisco y San Eulogio\, C. Compás de San Francisco\, 0\, Córdoba\, España
CATEGORIES:Cultos
ATTACH;FMTTYPE=image/jpeg:https://cordobacapitalcofrade.com/wp-content/uploads/2025/12/481766951_646248307777119_8902849394890805073_n.jpg
END:VEVENT
BEGIN:VEVENT
DTSTART;TZID=UTC:20251206T200000
DTEND;TZID=UTC:20251206T204500
DTSTAMP:20260420T020136
CREATED:20251126T133553Z
LAST-MODIFIED:20251126T133553Z
UID:7699-1765051200-1765053900@cordobacapitalcofrade.com
SUMMARY:Función Solemne en honor de San Nicolás
DESCRIPTION:Función Solemne en honor de San Nicolás\, a las 20:00 horas en la Parroquia de San Nicolás de la Villa.
URL:https://cordobacapitalcofrade.com/agenda/funcion-solemne-en-honor-de-san-nicolas/
LOCATION:Parroquia de San Nicolás de la Villa\, Pl. de San Nicolás\, 14003 Córdoba\, Córdoba\, España
CATEGORIES:Cultos
ATTACH;FMTTYPE=image/jpeg:https://cordobacapitalcofrade.com/wp-content/uploads/2025/11/487208547_1106855951472354_5735607720972970048_n.jpg
END:VEVENT
END:VCALENDAR