BEGIN:VCALENDAR
VERSION:2.0
PRODID:-//Agenda Cofrade 365 Días - ECPv6.3.7//NONSGML v1.0//EN
CALSCALE:GREGORIAN
METHOD:PUBLISH
X-WR-CALNAME:Agenda Cofrade 365 Días
X-ORIGINAL-URL:https://cordobacapitalcofrade.com
X-WR-CALDESC:Eventos para Agenda Cofrade 365 Días
REFRESH-INTERVAL;VALUE=DURATION:PT1H
X-Robots-Tag:noindex
X-PUBLISHED-TTL:PT1H
BEGIN:VTIMEZONE
TZID:UTC
BEGIN:STANDARD
TZOFFSETFROM:+0000
TZOFFSETTO:+0000
TZNAME:UTC
DTSTART:20250101T000000
END:STANDARD
END:VTIMEZONE
BEGIN:VEVENT
DTSTART;TZID=UTC:20251203T100000
DTEND;TZID=UTC:20251208T193000
DTSTAMP:20260420T144120
CREATED:20251126T133150Z
LAST-MODIFIED:20251126T133150Z
UID:7696-1764756000-1765222200@cordobacapitalcofrade.com
SUMMARY:II Muestra de Dulces Conventuales de la Hermandad del Socorro
DESCRIPTION:II Muestra de Dulces Conventuales de la Hermandad del Socorro en horario de 10:00 a 19:30 horas en el Palacio de Congresos y Exposiciones ubicado en la C/ Torrijos\, 10.
URL:https://cordobacapitalcofrade.com/agenda/ii-muestra-de-dulces-conventuales-de-la-hermandad-del-socorro/
LOCATION:Palacio de Congresos\, C. Torrijos\, 10\, Centro\, 14003 Córdoba\, Córdoba\, Spain
CATEGORIES:Muestras
ATTACH;FMTTYPE=image/jpeg:https://cordobacapitalcofrade.com/wp-content/uploads/2025/11/587475877_18518577736067612_4516747397945659391_n.jpg
END:VEVENT
BEGIN:VEVENT
DTSTART;TZID=UTC:20251204T100000
DTEND;TZID=UTC:20251208T220000
DTSTAMP:20260420T144120
CREATED:20251126T132108Z
LAST-MODIFIED:20251126T132108Z
UID:7690-1764842400-1765231200@cordobacapitalcofrade.com
SUMMARY:XX Muestra de Dulces Conventuales de la Hermandad del Calvario
DESCRIPTION:XX Muestra de Dulces Conventuales de la Hermandad del Calvario en horario de 10:00 a 22:00 horas en la Plaza de las Tendillas.
URL:https://cordobacapitalcofrade.com/agenda/xx-muestra-de-dulces-conventuales-de-la-hermandad-del-calvario/
LOCATION:Plaza de las Tendillas\, Centro\, Córdoba\, Córdoba\, Spain
CATEGORIES:Muestras
ATTACH;FMTTYPE=image/webp:https://cordobacapitalcofrade.com/wp-content/uploads/2025/11/2025112612352968042.webp
END:VEVENT
BEGIN:VEVENT
DTSTART;TZID=UTC:20251205T103000
DTEND;TZID=UTC:20251213T200000
DTSTAMP:20260420T144120
CREATED:20251127T155654Z
LAST-MODIFIED:20251127T155654Z
UID:7725-1764930600-1765656000@cordobacapitalcofrade.com
SUMMARY:V Muestra de Dulces Conventuales de la Hermandad del Descendimiento
DESCRIPTION:V Muestra de Dulces Conventuales de la Hermandad del Descendimiento en horario de 10:30 a 20:00 horas en el Convento de las Siervas de María ubicado en la C/ Blanco Belmonte\, 3.
URL:https://cordobacapitalcofrade.com/agenda/v-muestra-de-dulces-conventuales-de-la-hermandad-del-descendimiento/
LOCATION:Convento de las Siervas de María\, C. Blanco Belmonte\, 3\, Centro\, 14003 Córdoba\, Córdoba\, Spain
CATEGORIES:Muestras
ATTACH;FMTTYPE=image/jpeg:https://cordobacapitalcofrade.com/wp-content/uploads/2025/11/588620849_18296834539273736_3113432801552516227_n.jpeg
END:VEVENT
BEGIN:VEVENT
DTSTART;TZID=UTC:20251206T183000
DTEND;TZID=UTC:20251208T213000
DTSTAMP:20260420T144120
CREATED:20251126T132753Z
LAST-MODIFIED:20251126T132753Z
UID:7693-1765045800-1765229400@cordobacapitalcofrade.com
SUMMARY:IX Muestra de Dulces Conventuales de la Hermandad de la Sentencia
DESCRIPTION:IX Muestra de Dulces Conventuales de la Hermandad de la Sentencia en horario de misas en la Parroquia de San Nicolás de la Villa.
URL:https://cordobacapitalcofrade.com/agenda/ix-muestra-de-dulces-conventuales-de-la-hermandad-de-la-sentencia/
LOCATION:Parroquia de San Nicolás de la Villa\, Pl. de San Nicolás\, 14003 Córdoba\, Córdoba\, España
CATEGORIES:Muestras
ATTACH;FMTTYPE=image/jpeg:https://cordobacapitalcofrade.com/wp-content/uploads/2025/11/587535716_18492162874072913_2948842874396035812_n.jpg
END:VEVENT
BEGIN:VEVENT
DTSTART;TZID=UTC:20251206T190000
DTEND;TZID=UTC:20251208T201500
DTSTAMP:20260420T144120
CREATED:20251130T142638Z
LAST-MODIFIED:20251130T142638Z
UID:7760-1765047600-1765224900@cordobacapitalcofrade.com
SUMMARY:Triduo de María Santísima del Dulce Nombre
DESCRIPTION:Triduo de María Santísima del Dulce Nombre\, a las 19:00 horas en la Parroquia de San José y Espíritu Santo
URL:https://cordobacapitalcofrade.com/agenda/triduo-de-maria-santisima-del-dulce-nombre-3/
LOCATION:Parroquia de San José y Espíritu Santo\, Pl. de Santa Teresa\, 1\, Córdoba\, España
CATEGORIES:Cultos
ATTACH;FMTTYPE=image/jpeg:https://cordobacapitalcofrade.com/wp-content/uploads/2025/11/484548527_1032964038856213_6011601779502453352_n.jpg
END:VEVENT
BEGIN:VEVENT
DTSTART;TZID=UTC:20251207T110000
DTEND;TZID=UTC:20251208T120000
DTSTAMP:20260420T144120
CREATED:20251128T162130Z
LAST-MODIFIED:20251128T162130Z
UID:7755-1765105200-1765195200@cordobacapitalcofrade.com
SUMMARY:2º y 3er día del Solemne Triduo en honor de la Purísima Concepción de Linares Coronada
DESCRIPTION:2º y 3er día del Solemne Triduo en honor de la Purísima Concepción de Linares Coronada\, a las 11:00 horas en el Santuario de Linares.
URL:https://cordobacapitalcofrade.com/agenda/2o-y-3er-dia-del-solemne-triduo-en-honor-de-la-purisima-concepcion-de-linares-coronada/
LOCATION:Santuario de Nuestra Señora de Linares\, Carretera del Santuario de Linares\, 14029 Córdoba\, Córdoba\, España
CATEGORIES:Cultos
ATTACH;FMTTYPE=image/jpeg:https://cordobacapitalcofrade.com/wp-content/uploads/2025/11/583451625_1285399746967175_7937359150085514915_n.jpg
END:VEVENT
BEGIN:VEVENT
DTSTART;TZID=UTC:20251207T110000
DTEND;TZID=UTC:20251208T203000
DTSTAMP:20260420T144120
CREATED:20251109T140353Z
LAST-MODIFIED:20251109T140353Z
UID:7465-1765105200-1765225800@cordobacapitalcofrade.com
SUMMARY:Besamanos de Nuestra Señora del Mayor Dolor en su Soledad
DESCRIPTION:Besamanos de Nuestra Señora del Mayor Dolor en su Soledad en horario de 11:00 a 14:00 horas y de 18:30 a 20:30 horas en el Santuario de Nuestra Señora del Carmen (San Cayetano).
URL:https://cordobacapitalcofrade.com/agenda/besamanos-de-nuestra-senora-del-mayor-dolor-en-su-soledad-6/
LOCATION:Santuario de Nuestra Señora del Carmen\, C. Cta. de San Cayetano\, Centro\, 14001 Córdoba\, Córdoba\, España
CATEGORIES:Cultos
ATTACH;FMTTYPE=image/jpeg:https://cordobacapitalcofrade.com/wp-content/uploads/2025/11/Besamanos-Soledad-0074-min-scaled.jpg
END:VEVENT
BEGIN:VEVENT
DTSTART;VALUE=DATE:20251208
DTEND;VALUE=DATE:20251209
DTSTAMP:20260420T144120
CREATED:20251112T131514Z
LAST-MODIFIED:20251112T131514Z
UID:7496-1765152000-1765238399@cordobacapitalcofrade.com
SUMMARY:Besamanos de Nuestra Señora Reina de los Ángeles
DESCRIPTION:Besamanos de Nuestra Señora Reina de los Ángeles durante todo el día en la Iglesia Conventual del Santo Ángel (Capuchinos).
URL:https://cordobacapitalcofrade.com/agenda/besamanos-de-nuestra-senora-reina-de-los-angeles-2/
LOCATION:Iglesia Conventual del Santo Ángel (Capuchinos)\, Pl. de Capuchinos\, 5\, Córdoba\, España
CATEGORIES:Cultos
ATTACH;FMTTYPE=image/jpeg:https://cordobacapitalcofrade.com/wp-content/uploads/2025/11/Besamanos-Reina-de-los-Angeles-0186-min-scaled.jpg
END:VEVENT
BEGIN:VEVENT
DTSTART;VALUE=DATE:20251208
DTEND;VALUE=DATE:20251209
DTSTAMP:20260420T144120
CREATED:20251120T130535Z
LAST-MODIFIED:20251120T130535Z
UID:7622-1765152000-1765238399@cordobacapitalcofrade.com
SUMMARY:Besamanos de María Santísima de la Concepción
DESCRIPTION:Besamanos de María Santísima de la Concepción durante todo el día en la Parroquia de Santiago Apóstol.
URL:https://cordobacapitalcofrade.com/agenda/besamanos-de-maria-santisima-de-la-concepcion-3/
LOCATION:Parroquia de Santiago Apóstol\, C. de Agustín Moreno\, 26\, 14002 Córdoba\, Córdoba\, España
CATEGORIES:Cultos
ATTACH;FMTTYPE=image/jpeg:https://cordobacapitalcofrade.com/wp-content/uploads/2025/11/488616008_1147729814065908_3552792087169258719_n.jpg
END:VEVENT
BEGIN:VEVENT
DTSTART;VALUE=DATE:20251208
DTEND;VALUE=DATE:20251209
DTSTAMP:20260420T144120
CREATED:20251126T131409Z
LAST-MODIFIED:20251126T131409Z
UID:7684-1765152000-1765238399@cordobacapitalcofrade.com
SUMMARY:Besamanos de María Santísima Reina de Nuestra Alegría
DESCRIPTION:Besamanos de María Santísima Reina de Nuestra Alegría\, durante todo el día en la Parroquia de Santa Marina de Aguas Santas.
URL:https://cordobacapitalcofrade.com/agenda/besamanos-de-maria-santisima-reina-de-nuestra-alegria-2/
LOCATION:Parroquia de Santa Marina de Aguas Santas\, Pl. de Sta. Marina\, 6\, 14001 Córdoba\, Córdoba\, España
CATEGORIES:Cultos
ATTACH;FMTTYPE=image/jpeg:https://cordobacapitalcofrade.com/wp-content/uploads/2025/11/Besamanos-Alegria-0346-scaled.jpg
END:VEVENT
BEGIN:VEVENT
DTSTART;TZID=UTC:20251208T082000
DTEND;TZID=UTC:20251208T112000
DTSTAMP:20260420T144120
CREATED:20251201T152808Z
LAST-MODIFIED:20251201T152854Z
UID:7779-1765182000-1765192800@cordobacapitalcofrade.com
SUMMARY:Rosario de la Aurora de María Santísima de la Esperanza
DESCRIPTION:Rosario de la Aurora de María Santísima de la Esperanza desde la Parroquia de San Andrés Apóstol hasta la Basílica de San Pedro siguiendo este itinerario: \nIDA: Salida (08:20 horas)\, Plaza de San Andrés\, Fernan Pérez de Oliva\, Gutiérrez de los Ríos\, Plaza de la Almagra\, Escultor Juan de Mesa\, Plaza de San Pedro y Entrada a la Basílica de San Pedro (09:15 horas). \n\nA las 09:30 horas\, Solemne Eucaristía.\n\nVUELTA: Salida de la Basílica de San Pedro\, Plaza de San Pedro\, La Palma\, Plaza de Regina\, Regina\, Gutiérrez de los Ríos\, Fernan Pérez de Oliva\, Plaza de San Andrés y Entrada (11:20 horas).
URL:https://cordobacapitalcofrade.com/agenda/rosario-de-la-aurora-de-maria-santisima-de-la-esperanza-2/
LOCATION:Parroquia de San Andrés Apóstol\, Pl. San Andrés\, 0\, Córdoba\, España
CATEGORIES:Rosario
ATTACH;FMTTYPE=image/jpeg:https://cordobacapitalcofrade.com/wp-content/uploads/2025/12/489561930_1142043024631150_4760190360844014584_n.jpg
END:VEVENT
BEGIN:VEVENT
DTSTART;TZID=UTC:20251208T090000
DTEND;TZID=UTC:20251208T203000
DTSTAMP:20260420T144120
CREATED:20251207T124850Z
LAST-MODIFIED:20251207T124850Z
UID:7845-1765184400-1765225800@cordobacapitalcofrade.com
SUMMARY:Besamanos de Nuestra Señora de la Salud
DESCRIPTION:Besamanos de Nuestra Señora de la Salud en horario de 09:00 a 13:30 horas y de 16:30 a 20:30 horas en la Parroquia de Santa Victoria.
URL:https://cordobacapitalcofrade.com/agenda/besamanos-de-nuestra-senora-de-la-salud/
LOCATION:Parroquia de Santa Victoria\, C. Párroco Agustín Molina\, 20\, Nte. Sierra\, 14960 Córdoba\, Córdoba\, España
CATEGORIES:Cultos
ATTACH;FMTTYPE=image/jpeg:https://cordobacapitalcofrade.com/wp-content/uploads/2025/12/557728441_1102219518744576_811432247210749508_n.jpg
END:VEVENT
BEGIN:VEVENT
DTSTART;TZID=UTC:20251208T093000
DTEND;TZID=UTC:20251208T203000
DTSTAMP:20260420T144120
CREATED:20251128T153930Z
LAST-MODIFIED:20251128T153930Z
UID:7733-1765186200-1765225800@cordobacapitalcofrade.com
SUMMARY:Besamanos de María Santísima de la Trinidad
DESCRIPTION:Besamanos de María Santísima de la Trinidad en horario de 09:30 a 14:00 horas y de 17:00 a 20:30 horas en la Parroquia de San Juan y Todos los Santos (Trinidad).
URL:https://cordobacapitalcofrade.com/agenda/besamanos-de-maria-santisima-de-la-trinidad-6/
LOCATION:Parroquia de la Trinidad\, Plaza de la Trinidad\, Córdoba\, España
CATEGORIES:Cultos
ATTACH;FMTTYPE=image/jpeg:https://cordobacapitalcofrade.com/wp-content/uploads/2025/11/Besamanos-Trinidad-0158-min-scaled.jpg
END:VEVENT
BEGIN:VEVENT
DTSTART;TZID=UTC:20251208T100000
DTEND;TZID=UTC:20251208T200000
DTSTAMP:20260420T144120
CREATED:20251130T142916Z
LAST-MODIFIED:20251130T142916Z
UID:7763-1765188000-1765224000@cordobacapitalcofrade.com
SUMMARY:Besamanos de María Santísima del Dulce Nombre
DESCRIPTION:Besamanos de María Santísima del Dulce Nombre en horario de 10:30 a 14:00 horas y de 17:00 a 20:00 horas en la Parroquia de San José y Espíritu Santo.
URL:https://cordobacapitalcofrade.com/agenda/besamanos-de-maria-santisima-del-dulce-nombre-2/
LOCATION:Parroquia de San José y Espíritu Santo\, Pl. de Santa Teresa\, 1\, Córdoba\, España
CATEGORIES:Cultos
ATTACH;FMTTYPE=image/jpeg:https://cordobacapitalcofrade.com/wp-content/uploads/2025/11/484548527_1032967948855822_536818920978573463_n.jpg
END:VEVENT
BEGIN:VEVENT
DTSTART;TZID=UTC:20251208T100000
DTEND;TZID=UTC:20251208T210000
DTSTAMP:20260420T144120
CREATED:20251127T154730Z
LAST-MODIFIED:20251127T154730Z
UID:7721-1765188000-1765227600@cordobacapitalcofrade.com
SUMMARY:Besamanos de Nuestra Señora de la Palma
DESCRIPTION:Besamanos de Nuestra Señora de la Palma en horario de 10:00 a 14:00 horas y de 18:00 a 21:00 horas en la Real Parroquia de San Lorenzo Mártir.
URL:https://cordobacapitalcofrade.com/agenda/besamanos-de-nuestra-senora-de-la-palma-3/
LOCATION:Real Parroquia de San Lorenzo Mártir\, Pl. de San Lorenzo\, 5\, Córdoba\, España
CATEGORIES:Cultos
ATTACH;FMTTYPE=image/jpeg:https://cordobacapitalcofrade.com/wp-content/uploads/2025/11/480311335_640480958495670_4039763551730367179_n.jpg
END:VEVENT
BEGIN:VEVENT
DTSTART;TZID=UTC:20251208T100000
DTEND;TZID=UTC:20251208T213000
DTSTAMP:20260420T144120
CREATED:20251108T134533Z
LAST-MODIFIED:20251108T134533Z
UID:7443-1765188000-1765229400@cordobacapitalcofrade.com
SUMMARY:Besamanos de María Santísima de Gracia y Amparo
DESCRIPTION:Besamanos de María Santísima de Gracia y Amparo de 10:00 a 13:30 horas y de 18:00 a 21:30 horas en la Parroquia de San Nicolás de la Villa.
URL:https://cordobacapitalcofrade.com/agenda/besamanos-de-maria-santisima-de-gracia-y-amparo-2/
LOCATION:Parroquia de San Nicolás de la Villa\, Pl. de San Nicolás\, 14003 Córdoba\, Córdoba\, España
CATEGORIES:Cultos
ATTACH;FMTTYPE=image/jpeg:https://cordobacapitalcofrade.com/wp-content/uploads/2025/11/Besamanos-Gracia-y-Amparo-0066-min-scaled.jpg
END:VEVENT
BEGIN:VEVENT
DTSTART;TZID=UTC:20251208T110000
DTEND;TZID=UTC:20251208T120000
DTSTAMP:20260420T144120
CREATED:20251112T131011Z
LAST-MODIFIED:20251112T131011Z
UID:7494-1765191600-1765195200@cordobacapitalcofrade.com
SUMMARY:Función Solemne de Nuestra Señora Reina de los Ángeles y XLIX Aniversario fundacional
DESCRIPTION:Función Solemne de Nuestra Señora Reina de los Ángeles y XLIX Aniversario fundacional\, a las 11:00 horas en la Iglesia Conventual del Santo Ángel (Capuchinos).
URL:https://cordobacapitalcofrade.com/agenda/funcion-solemne-de-nuestra-senora-reina-de-los-angeles-y-xlix-aniversario-fundacional/
LOCATION:Iglesia Conventual del Santo Ángel (Capuchinos)\, Pl. de Capuchinos\, 5\, Córdoba\, España
CATEGORIES:Cultos
ATTACH;FMTTYPE=image/jpeg:https://cordobacapitalcofrade.com/wp-content/uploads/2025/11/487810675_1082295037267798_6931230221045025534_n.jpg
END:VEVENT
BEGIN:VEVENT
DTSTART;TZID=UTC:20251208T114500
DTEND;TZID=UTC:20251208T193000
DTSTAMP:20260420T144120
CREATED:20251207T124707Z
LAST-MODIFIED:20251207T124707Z
UID:7842-1765194300-1765222200@cordobacapitalcofrade.com
SUMMARY:Besamanos de María Santísima de la Encarnación
DESCRIPTION:Besamanos de María Santísima de la Encarnación en horario de 11:45 a 13:30 horas y de 16:00 a 19:30 horas en la Parroquia de Jesús Divino Obrero.
URL:https://cordobacapitalcofrade.com/agenda/besamanos-de-maria-santisima-de-la-encarnacion-2/
LOCATION:Parroquia de Jesús Divino Obrero\, C. Beato Henares\, 1\, Córdoba\, España
CATEGORIES:Cultos
ATTACH;FMTTYPE=image/jpeg:https://cordobacapitalcofrade.com/wp-content/uploads/2025/12/591140846_18501918568076566_4168329009062860112_n.jpg
END:VEVENT
BEGIN:VEVENT
DTSTART;TZID=UTC:20251208T120000
DTEND;TZID=UTC:20251208T130000
DTSTAMP:20260420T144120
CREATED:20251207T125120Z
LAST-MODIFIED:20251207T125120Z
UID:7848-1765195200-1765198800@cordobacapitalcofrade.com
SUMMARY:Fiesta Solemne de la Concepción de Nuestra Señora organizada por la Hermandad de Villaviciosa
DESCRIPTION:Fiesta Solemne de la Concepción de Nuestra Señora\, a las 12:00 horas en la Real Parroquia de San Lorenzo Mártir.
URL:https://cordobacapitalcofrade.com/agenda/fiesta-solemne-de-la-concepcion-de-nuestra-senora-organizada-por-la-hermandad-de-villaviciosa/
LOCATION:Real Parroquia de San Lorenzo Mártir\, Pl. de San Lorenzo\, 5\, Córdoba\, España
CATEGORIES:Cultos
ATTACH;FMTTYPE=image/jpeg:https://cordobacapitalcofrade.com/wp-content/uploads/2025/12/590951190_1261996779302647_8823060630008189226_n.jpg
END:VEVENT
BEGIN:VEVENT
DTSTART;TZID=UTC:20251208T123000
DTEND;TZID=UTC:20251208T133000
DTSTAMP:20260420T144120
CREATED:20251126T130616Z
LAST-MODIFIED:20251126T130616Z
UID:7682-1765197000-1765200600@cordobacapitalcofrade.com
SUMMARY:Fiesta de Regla de la Hermandad del Resucitado
DESCRIPTION:Fiesta de Regla de la Hermandad\, a las 12:30 horas en la Parroquia de Santa Marina de Aguas Santas.
URL:https://cordobacapitalcofrade.com/agenda/fiesta-de-regla-de-la-hermandad-del-resucitado-2/
LOCATION:Parroquia de Santa Marina de Aguas Santas\, Pl. de Sta. Marina\, 6\, 14001 Córdoba\, Córdoba\, España
CATEGORIES:Cultos
ATTACH;FMTTYPE=image/jpeg:https://cordobacapitalcofrade.com/wp-content/uploads/2025/11/488494925_1080132210817752_8322025666571822109_n.jpg
END:VEVENT
BEGIN:VEVENT
DTSTART;TZID=UTC:20251208T123000
DTEND;TZID=UTC:20251208T133000
DTSTAMP:20260420T144120
CREATED:20251201T131249Z
LAST-MODIFIED:20251201T131249Z
UID:7777-1765197000-1765200600@cordobacapitalcofrade.com
SUMMARY:Solemne Triduo a Nuestra Señora de la Cabeza
DESCRIPTION:Solemne Triduo a Nuestra Señora de la Cabeza a las 12:30 horas en la Parroquia de San Francisco y San Eulogio.
URL:https://cordobacapitalcofrade.com/agenda/solemne-triduo-a-nuestra-senora-de-la-cabeza-2/
LOCATION:Parroquia de San Francisco y San Eulogio\, C. Compás de San Francisco\, 0\, Córdoba\, España
CATEGORIES:Cultos
ATTACH;FMTTYPE=image/jpeg:https://cordobacapitalcofrade.com/wp-content/uploads/2025/12/481766951_646248307777119_8902849394890805073_n.jpg
END:VEVENT
BEGIN:VEVENT
DTSTART;TZID=UTC:20251208T130000
DTEND;TZID=UTC:20251208T133000
DTSTAMP:20260420T144120
CREATED:20251126T131649Z
LAST-MODIFIED:20251126T131649Z
UID:7687-1765198800-1765200600@cordobacapitalcofrade.com
SUMMARY:Presentación del cartel y logotipo del 75º Aniversario de la bendición de María Santísima Reina de Nuestra Alegría
DESCRIPTION:Presentación del cartel y logotipo del 75º Aniversario de la bendición de María Santísima Reina de Nuestra Alegría\, a las 13:00 horas en la Parroquia de Santa Marina de Aguas Santas.
URL:https://cordobacapitalcofrade.com/agenda/presentacion-del-cartel-y-logotipo-del-75o-aniversario-de-la-bendicion-de-maria-santisima-reina-de-nuestra-alegria/
LOCATION:Parroquia de Santa Marina de Aguas Santas\, Pl. de Sta. Marina\, 6\, 14001 Córdoba\, Córdoba\, España
CATEGORIES:Presentación
ATTACH;FMTTYPE=image/jpeg:https://cordobacapitalcofrade.com/wp-content/uploads/2025/11/FOTO-TEXTO-1.jpg
END:VEVENT
BEGIN:VEVENT
DTSTART;TZID=UTC:20251208T130000
DTEND;TZID=UTC:20251208T140000
DTSTAMP:20260420T144120
CREATED:20251120T130359Z
LAST-MODIFIED:20251120T130359Z
UID:7620-1765198800-1765202400@cordobacapitalcofrade.com
SUMMARY:Función Principal de María Santísima de la Concepción
DESCRIPTION:Función Principal de María Santísima de la Concepción\, a las 13:00 horas en la Parroquia de Santiago Apóstol.
URL:https://cordobacapitalcofrade.com/agenda/funcion-principal-de-maria-santisima-de-la-concepcion/
LOCATION:Parroquia de Santiago Apóstol\, C. de Agustín Moreno\, 26\, 14002 Córdoba\, Córdoba\, España
CATEGORIES:Cultos
ATTACH;FMTTYPE=image/jpeg:https://cordobacapitalcofrade.com/wp-content/uploads/2025/11/488795020_1147729047399318_8642297249121172938_n.jpg
END:VEVENT
BEGIN:VEVENT
DTSTART;TZID=UTC:20251208T133000
DTEND;TZID=UTC:20251208T143000
DTSTAMP:20260420T144120
CREATED:20251128T161616Z
LAST-MODIFIED:20251128T161616Z
UID:7749-1765200600-1765204200@cordobacapitalcofrade.com
SUMMARY:Fiesta de Regla en honor de la Inmaculada Concepción
DESCRIPTION:Fiesta de Regla en honor de la Inmaculada Concepción\, a las 13:30 horas en la Parroquia del Salvador y Santo Domingo de Silos (Compañía).
URL:https://cordobacapitalcofrade.com/agenda/fiesta-de-regla-en-honor-de-la-inmaculada-concepcion/
LOCATION:Parroquia Salvador y Santo Domingo de Silos (Compañía)\, Pl. de la Compañía\, 7\, Córdoba\, España
CATEGORIES:Cultos
ATTACH;FMTTYPE=image/jpeg:https://cordobacapitalcofrade.com/wp-content/uploads/2025/11/Triduo-Inmaculada-Concepcion-0035-1-scaled.jpg
END:VEVENT
END:VCALENDAR