BEGIN:VCALENDAR
VERSION:2.0
PRODID:-//Agenda Cofrade 365 Días - ECPv6.3.7//NONSGML v1.0//EN
CALSCALE:GREGORIAN
METHOD:PUBLISH
X-WR-CALNAME:Agenda Cofrade 365 Días
X-ORIGINAL-URL:https://cordobacapitalcofrade.com
X-WR-CALDESC:Eventos para Agenda Cofrade 365 Días
REFRESH-INTERVAL;VALUE=DURATION:PT1H
X-Robots-Tag:noindex
X-PUBLISHED-TTL:PT1H
BEGIN:VTIMEZONE
TZID:UTC
BEGIN:STANDARD
TZOFFSETFROM:+0000
TZOFFSETTO:+0000
TZNAME:UTC
DTSTART:20250101T000000
END:STANDARD
END:VTIMEZONE
BEGIN:VEVENT
DTSTART;TZID=UTC:20251227T123000
DTEND;TZID=UTC:20251227T220000
DTSTAMP:20260425T185439
CREATED:20251211T164559Z
LAST-MODIFIED:20251211T164559Z
UID:8023-1766838600-1766872800@cordobacapitalcofrade.com
SUMMARY:Zambomba organizada por la Hermandad del Socorro
DESCRIPTION:Zambomba organizada por la Hermandad desde las 12:30 horas en la Plaza del Socorro.
URL:https://cordobacapitalcofrade.com/agenda/zambomba-organizada-por-la-hermandad-del-socorro/
LOCATION:Plaza del Socorro\, Plaza del Socorro\, 2\, Córdoba\, Córdoba\, 14002\, España
CATEGORIES:zambomba
ATTACH;FMTTYPE=image/jpeg:https://cordobacapitalcofrade.com/wp-content/uploads/2025/12/598726252_18520920205067612_813387987426760569_n.jpg
END:VEVENT
BEGIN:VEVENT
DTSTART;TZID=UTC:20251227T163000
DTEND;TZID=UTC:20251227T190000
DTSTAMP:20260425T185439
CREATED:20251217T175916Z
LAST-MODIFIED:20251217T175916Z
UID:8109-1766853000-1766862000@cordobacapitalcofrade.com
SUMMARY:Procesión del Divino Pastorcillo
DESCRIPTION:Procesión del Divino Pastorcillo a las 16:30 horas desde la Iglesia Conventual del Santo Ángel (Capuchinos) recorriendo las calles de la feligresía. Acompañará musicalmente la agrupación Musical de El Carpio (Córdoba).
URL:https://cordobacapitalcofrade.com/agenda/procesion-del-divino-pastorcillo/
LOCATION:Iglesia Conventual del Santo Ángel (Capuchinos)\, Pl. de Capuchinos\, 5\, Córdoba\, España
CATEGORIES:Procesión
ATTACH;FMTTYPE=image/webp:https://cordobacapitalcofrade.com/wp-content/uploads/2025/12/procesion-pastorcillo-divino-RlzF11PXb4HDjuhPWz3KGOJ-1200x840@diario_abc.webp
END:VEVENT
BEGIN:VEVENT
DTSTART;TZID=UTC:20251227T193000
DTEND;TZID=UTC:20251227T201500
DTSTAMP:20260425T185439
CREATED:20251223T131602Z
LAST-MODIFIED:20251223T131602Z
UID:8186-1766863800-1766866500@cordobacapitalcofrade.com
SUMMARY:Solemne Eucaristía en honor de San Juan Evangelista de la Hermandad de las Penas de Santiago
DESCRIPTION:Solemne Eucaristía en honor de San Juan Evangelista a las 19:30 horas en la Parroquia de Santiago Apóstol.
URL:https://cordobacapitalcofrade.com/agenda/solemne-eucaristia-en-honor-de-san-juan-evangelista-de-la-hermandad-de-las-penas-de-santiago-2/
LOCATION:Parroquia de Santiago Apóstol\, C. de Agustín Moreno\, 26\, 14002 Córdoba\, Córdoba\, España
CATEGORIES:Cultos
ATTACH;FMTTYPE=image/jpeg:https://cordobacapitalcofrade.com/wp-content/uploads/2025/12/488568812_1148306607341562_8275364899833420963_n.jpg
END:VEVENT
BEGIN:VEVENT
DTSTART;TZID=UTC:20251227T193000
DTEND;TZID=UTC:20251227T201500
DTSTAMP:20260425T185439
CREATED:20251223T131842Z
LAST-MODIFIED:20251223T131842Z
UID:8189-1766863800-1766866500@cordobacapitalcofrade.com
SUMMARY:Santa Misa a San Juan Evangelista de la Hermandad de la Sangre
DESCRIPTION:Santa Misa a San Juan Evangelista a las 19:30 horas en la Iglesia Conventual del Santo Ángel (Capuchinos).
URL:https://cordobacapitalcofrade.com/agenda/santa-misa-a-san-juan-evangelista-de-la-hermandad-de-la-sangre/
LOCATION:Iglesia Conventual del Santo Ángel (Capuchinos)\, Pl. de Capuchinos\, 5\, Córdoba\, España
CATEGORIES:Cultos
ATTACH;FMTTYPE=image/jpeg:https://cordobacapitalcofrade.com/wp-content/uploads/2025/12/487443030_1083034863860482_8392714051051723952_n.jpg
END:VEVENT
BEGIN:VEVENT
DTSTART;TZID=UTC:20251227T193000
DTEND;TZID=UTC:20251227T201500
DTSTAMP:20260425T185439
CREATED:20251223T132242Z
LAST-MODIFIED:20251223T132242Z
UID:8192-1766863800-1766866500@cordobacapitalcofrade.com
SUMMARY:Función Solemne en honor de San Juan Evangelista de la Hermandad de Pasión
DESCRIPTION:Función Solemne en honor de San Juan Evangelista a las 19:30 horas en la Parroquia de Nuestra Señora de la Paz (San Basilio).
URL:https://cordobacapitalcofrade.com/agenda/funcion-solemne-en-honor-de-san-juan-evangelista-de-la-hermandad-de-pasion/
LOCATION:Parroquia de Nuestra Señora de la Paz\, Córdoba\, C/San Basilio\, Córdoba\, España
CATEGORIES:Cultos
ATTACH;FMTTYPE=image/jpeg:https://cordobacapitalcofrade.com/wp-content/uploads/2025/12/484591434_948193437521948_5866542947375343502_n.jpg
END:VEVENT
BEGIN:VEVENT
DTSTART;TZID=UTC:20251227T193000
DTEND;TZID=UTC:20251227T201500
DTSTAMP:20260425T185439
CREATED:20251223T133015Z
LAST-MODIFIED:20251223T133015Z
UID:8198-1766863800-1766866500@cordobacapitalcofrade.com
SUMMARY:Solemne Eucaristía en honor de San Juan Evangelista de la Hermandad del Descendimiento
DESCRIPTION:Solemne Eucaristía en honor de San Juan Evangelista a las 19:30 horas en la Parroquia de San José y Espíritu Santo.
URL:https://cordobacapitalcofrade.com/agenda/solemne-eucaristia-en-honor-de-san-juan-evangelista-de-la-hermandad-del-descendimiento-2/
LOCATION:Parroquia de San José y Espíritu Santo\, Pl. de Santa Teresa\, 1\, Córdoba\, España
CATEGORIES:Cultos
ATTACH;FMTTYPE=image/jpeg:https://cordobacapitalcofrade.com/wp-content/uploads/2025/12/487553102_1058078669682859_5596388916085388158_n.jpg
END:VEVENT
BEGIN:VEVENT
DTSTART;TZID=UTC:20251227T200000
DTEND;TZID=UTC:20251227T210000
DTSTAMP:20260425T185439
CREATED:20251223T133738Z
LAST-MODIFIED:20251223T133738Z
UID:8201-1766865600-1766869200@cordobacapitalcofrade.com
SUMMARY:Concierto solidario de marchas procesionales y villancicos
DESCRIPTION:Concierto solidario de marchas procesionales y villancicos a cargo de la Agrupación Musical «Tecla y Bordón» de Torrox (Málaga) a las 20:00 horas en el Santuario de Nuestra Señora del Carmen (San Cayetano). La entrada será la aportación de alimentos y productos de higiene para los más pequeños.
URL:https://cordobacapitalcofrade.com/agenda/concierto-solidario-de-marchas-procesionales-y-villancicos/
LOCATION:Santuario de Nuestra Señora del Carmen\, C. Cta. de San Cayetano\, Centro\, 14001 Córdoba\, Córdoba\, España
CATEGORIES:Conciertos
ATTACH;FMTTYPE=image/jpeg:https://cordobacapitalcofrade.com/wp-content/uploads/2025/12/600293969_1278497550979099_1324964553112913333_n.jpg
END:VEVENT
BEGIN:VEVENT
DTSTART;TZID=UTC:20251227T203000
DTEND;TZID=UTC:20251227T211500
DTSTAMP:20260425T185439
CREATED:20251223T132712Z
LAST-MODIFIED:20251223T132712Z
UID:8195-1766867400-1766870100@cordobacapitalcofrade.com
SUMMARY:Solemne Eucaristía en honor de San Juan Evangelista de la Hermandad del Cristo de Gracia
DESCRIPTION:Solemne Eucaristía en honor de San Juan Evangelista\, a las 20:30 horas en la Parroquia de Nuestra Señora de Gracia (Trinitarios).
URL:https://cordobacapitalcofrade.com/agenda/solemne-eucaristia-en-honor-de-san-juan-evangelista-de-la-hermandad-del-cristo-de-gracia-2/
LOCATION:Parroquia de Ntra. Sra. De Gracia y San Eulogio (P.P. Trinitarios)\, Plaza Cristo de Gracia\, 5\, Córdoba\, Córdoba\, 14002\, España
CATEGORIES:Cultos
ATTACH;FMTTYPE=image/jpeg:https://cordobacapitalcofrade.com/wp-content/uploads/2025/12/413921635_747777787386155_1751101776222623776_n.jpg
END:VEVENT
END:VCALENDAR