BEGIN:VCALENDAR
VERSION:2.0
PRODID:-//Agenda Cofrade 365 Días - ECPv6.3.7//NONSGML v1.0//EN
CALSCALE:GREGORIAN
METHOD:PUBLISH
X-WR-CALNAME:Agenda Cofrade 365 Días
X-ORIGINAL-URL:https://cordobacapitalcofrade.com
X-WR-CALDESC:Eventos para Agenda Cofrade 365 Días
REFRESH-INTERVAL;VALUE=DURATION:PT1H
X-Robots-Tag:noindex
X-PUBLISHED-TTL:PT1H
BEGIN:VTIMEZONE
TZID:UTC
BEGIN:STANDARD
TZOFFSETFROM:+0000
TZOFFSETTO:+0000
TZNAME:UTC
DTSTART:20260101T000000
END:STANDARD
END:VTIMEZONE
BEGIN:VEVENT
DTSTART;TZID=UTC:20260122T193000
DTEND;TZID=UTC:20260124T201500
DTSTAMP:20260420T145819
CREATED:20260120T141214Z
LAST-MODIFIED:20260120T141214Z
UID:8484-1769110200-1769285700@cordobacapitalcofrade.com
SUMMARY:Solemne Triduo del Milagroso Niño Jesús de Praga
DESCRIPTION:Solemne Triduo del Milagroso Niño Jesús de Praga\, a las 19:30 horas en el Santuario de Nuestra Señora del Carmen.
URL:https://cordobacapitalcofrade.com/agenda/solemne-triduo-del-milagroso-nino-jesus-de-praga/
LOCATION:Parroquia de Nuestra Señora del Carmen\, C. Rd. de Andújar\,23\, Córdoba\, España
CATEGORIES:Cultos
ATTACH;FMTTYPE=image/jpeg:https://cordobacapitalcofrade.com/wp-content/uploads/2026/01/487928162_1072222411606615_3143719876681643307_n.jpg
END:VEVENT
BEGIN:VEVENT
DTSTART;TZID=UTC:20260122T200000
DTEND;TZID=UTC:20260123T211500
DTSTAMP:20260420T145819
CREATED:20260116T144635Z
LAST-MODIFIED:20260116T144635Z
UID:8450-1769112000-1769202900@cordobacapitalcofrade.com
SUMMARY:Solemne Triduo en honor de María Santísima de la Paz y Esperanza Coronada
DESCRIPTION:Solemne Triduo en honor de María Santísima de la Paz y Esperanza Coronada\, a las 20:30 horas en la Iglesia Conventual del Santo Ángel (Capuchinos). Previamente\, a las 20:00 horas\, rezo del Santo Rosario y ejercicio del Triduo.
URL:https://cordobacapitalcofrade.com/agenda/solemne-triduo-en-honor-de-maria-santisima-de-la-paz-y-esperanza-coronada-3/
LOCATION:Iglesia Conventual del Santo Ángel (Capuchinos)\, Pl. de Capuchinos\, 5\, Córdoba\, España
CATEGORIES:Cultos
ATTACH;FMTTYPE=image/jpeg:https://cordobacapitalcofrade.com/wp-content/uploads/2026/01/481665649_980001334265086_6522878249999563686_n.jpg
END:VEVENT
BEGIN:VEVENT
DTSTART;TZID=UTC:20260123T210000
DTEND;TZID=UTC:20260123T220000
DTSTAMP:20260420T145819
CREATED:20260123T165119Z
LAST-MODIFIED:20260123T165119Z
UID:8514-1769202000-1769205600@cordobacapitalcofrade.com
SUMMARY:XXXVI Exaltación en honor a María Santísima de la Candelaria
DESCRIPTION:XXXVI Exaltación en honor a María Santísima de la Candelaria a cargo de D. Juan Carrión Huertas\, a las 21:00 horas en la Parroquia de San Francisco y San Eulogio.
URL:https://cordobacapitalcofrade.com/agenda/xxxvi-exaltacion-en-honor-a-maria-santisima-de-la-candelaria/
LOCATION:Parroquia de San Francisco y San Eulogio\, C. Compás de San Francisco\, 0\, Córdoba\, España
CATEGORIES:Exaltación
ATTACH;FMTTYPE=image/jpeg:https://cordobacapitalcofrade.com/wp-content/uploads/2026/01/619115736_1335633401937057_5560097208701424762_n-1.jpg
END:VEVENT
BEGIN:VEVENT
DTSTART;TZID=UTC:20260123T213000
DTEND;TZID=UTC:20260123T230000
DTSTAMP:20260420T145819
CREATED:20251030T133501Z
LAST-MODIFIED:20251030T133501Z
UID:7370-1769203800-1769209200@cordobacapitalcofrade.com
SUMMARY:Igualá de costaleros de Nuestra Señora de la Merced
DESCRIPTION:Igualá de costaleros de Nuestra Señora de la Merced\, a las 21:30 horas en la Casa de Hdad. sita en la Avenida Agrupación Córdoba\, 11.
URL:https://cordobacapitalcofrade.com/agenda/iguala-de-costaleros-de-nuestra-senora-de-la-merced-3/
LOCATION:Casa de Hermandad de la Merc\, Av. Agrupación Córdoba\, 11\, Levante\, 14007 Córdoba\, Córdoba\, España
CATEGORIES:Igualás de costaleros
ATTACH;FMTTYPE=image/jpeg:https://cordobacapitalcofrade.com/wp-content/uploads/2025/10/574081957_10240649182352472_6925139967556313372_n.jpg
END:VEVENT
BEGIN:VEVENT
DTSTART;TZID=UTC:20260123T213000
DTEND;TZID=UTC:20260123T230000
DTSTAMP:20260420T145819
CREATED:20251202T133905Z
LAST-MODIFIED:20251202T133905Z
UID:7823-1769203800-1769209200@cordobacapitalcofrade.com
SUMMARY:Igualá de costaleros de Nuestra Señora de las Lágrimas en su Desamparo
DESCRIPTION:Igualá de costaleros de Nuestra Señora de las Lágrimas en su Desamparo\, a las 21:30 horas en la Casa de Hdad.
URL:https://cordobacapitalcofrade.com/agenda/iguala-de-costaleros-de-nuestra-senora-de-las-lagrimas-en-su-desamparo-2/
LOCATION:Casa de Hermandad de la Misericordia\, Pl. de San Pedro\, 23\, Centro\, 14002 Córdoba\, Córdoba\, España
CATEGORIES:Igualás de costaleros
ATTACH;FMTTYPE=image/jpeg:https://cordobacapitalcofrade.com/wp-content/uploads/2025/12/G62mE4cXYAARgDx.jpeg
END:VEVENT
BEGIN:VEVENT
DTSTART;TZID=UTC:20260123T213000
DTEND;TZID=UTC:20260123T233000
DTSTAMP:20260420T145819
CREATED:20251211T133957Z
LAST-MODIFIED:20251211T133957Z
UID:7946-1769203800-1769211000@cordobacapitalcofrade.com
SUMMARY:Igualá de costaleros de Nuestro Padre Jesús Divino Salvador en su Prendimiento
DESCRIPTION:Igualá de costaleros de Nuestro Padre Jesús Divino Salvador en su Prendimiento\, a las 21:30 horas en la Casa de Hdad. sita en la C/ Golondrina\, 3.
URL:https://cordobacapitalcofrade.com/agenda/iguala-de-costaleros-de-nuestro-padre-jesus-divino-salvador-en-su-prendimiento/
LOCATION:Casa de Hermandad del Prendimiento 2ª\, C. Golondrina\, 3\, Centro\, 14002 Córdoba\, CÓRDOBA\, CÓRDOBA\, Spain
CATEGORIES:Igualás de costaleros
ATTACH;FMTTYPE=image/jpeg:https://cordobacapitalcofrade.com/wp-content/uploads/2025/12/597170488_1299270818910175_966027245003335369_n.jpg
END:VEVENT
BEGIN:VEVENT
DTSTART;TZID=UTC:20260123T213000
DTEND;TZID=UTC:20260123T235900
DTSTAMP:20260420T145819
CREATED:20260110T135752Z
LAST-MODIFIED:20260110T135752Z
UID:8387-1769203800-1769212740@cordobacapitalcofrade.com
SUMMARY:1er Ensayo de costaleros de María Santísima del Amor
DESCRIPTION:1er Ensayo de costaleros de María Santísima del Amor\, a las 21:30 horas desde la Parroquia de Nuestra Señora de la Paz (San Basilio).
URL:https://cordobacapitalcofrade.com/agenda/1er-ensayo-de-costaleros-de-maria-santisima-del-amor-2/
LOCATION:Parroquia de Nuestra Señora de la Paz\, Córdoba\, C/San Basilio\, Córdoba\, España
CATEGORIES:Ensayos Costaleros
ATTACH;FMTTYPE=image/jpeg:https://cordobacapitalcofrade.com/wp-content/uploads/2026/01/491995928_703584975660696_4518494450565180791_n.jpg
END:VEVENT
END:VCALENDAR