BEGIN:VCALENDAR
VERSION:2.0
PRODID:-//Agenda Cofrade 365 Días - ECPv6.3.7//NONSGML v1.0//EN
CALSCALE:GREGORIAN
METHOD:PUBLISH
X-ORIGINAL-URL:https://cordobacapitalcofrade.com
X-WR-CALDESC:Eventos para Agenda Cofrade 365 Días
REFRESH-INTERVAL;VALUE=DURATION:PT1H
X-Robots-Tag:noindex
X-PUBLISHED-TTL:PT1H
BEGIN:VTIMEZONE
TZID:UTC
BEGIN:STANDARD
TZOFFSETFROM:+0000
TZOFFSETTO:+0000
TZNAME:UTC
DTSTART:20260101T000000
END:STANDARD
END:VTIMEZONE
BEGIN:VEVENT
DTSTART;TZID=UTC:20260122T193000
DTEND;TZID=UTC:20260124T201500
DTSTAMP:20260420T174415
CREATED:20260120T141214Z
LAST-MODIFIED:20260120T141214Z
UID:8484-1769110200-1769285700@cordobacapitalcofrade.com
SUMMARY:Solemne Triduo del Milagroso Niño Jesús de Praga
DESCRIPTION:Solemne Triduo del Milagroso Niño Jesús de Praga\, a las 19:30 horas en el Santuario de Nuestra Señora del Carmen.
URL:https://cordobacapitalcofrade.com/agenda/solemne-triduo-del-milagroso-nino-jesus-de-praga/
LOCATION:Parroquia de Nuestra Señora del Carmen\, C. Rd. de Andújar\,23\, Córdoba\, España
CATEGORIES:Cultos
ATTACH;FMTTYPE=image/jpeg:https://cordobacapitalcofrade.com/wp-content/uploads/2026/01/487928162_1072222411606615_3143719876681643307_n.jpg
END:VEVENT
BEGIN:VEVENT
DTSTART;TZID=UTC:20260124T170000
DTEND;TZID=UTC:20260124T190000
DTSTAMP:20260420T174415
CREATED:20251202T131614Z
LAST-MODIFIED:20251202T131614Z
UID:7810-1769274000-1769281200@cordobacapitalcofrade.com
SUMMARY:Igualá de costaleros de Nuestro Padre Jesús de la Redención y Nuestra Señora de la Estrella
DESCRIPTION:Igualá de costaleros de Nuestro Padre Jesús de la Redención y Nuestra Señora de la Estrella\, a las 17:00 horas en la Parroquia de San Fernando.
URL:https://cordobacapitalcofrade.com/agenda/iguala-de-costaleros-de-nuestro-padre-jesus-de-la-redencion-y-nuestra-senora-de-la-estrella-3/
LOCATION:Parroquia de San Fernando\, C. Goya\, 24\, 14006 Córdoba\, Córdoba\, España
CATEGORIES:Igualás de costaleros
ATTACH;FMTTYPE=image/jpeg:https://cordobacapitalcofrade.com/wp-content/uploads/2025/12/591896296_1284690570368455_164026227505504837_n.jpg
END:VEVENT
BEGIN:VEVENT
DTSTART;TZID=UTC:20260124T170000
DTEND;TZID=UTC:20260124T190000
DTSTAMP:20260420T174415
CREATED:20251211T132603Z
LAST-MODIFIED:20251211T132603Z
UID:7938-1769274000-1769281200@cordobacapitalcofrade.com
SUMMARY:Igualá de costaleros de María Santísima de la Concepción
DESCRIPTION:Igualá de costaleros de María Santísima de la Concepción\, a las 17:00 horas en la Parroquia de Santiago Apóstol.
URL:https://cordobacapitalcofrade.com/agenda/iguala-de-costaleros-de-maria-santisima-de-la-concepcion-3/
LOCATION:Parroquia de Santiago Apóstol\, C. de Agustín Moreno\, 26\, 14002 Córdoba\, Córdoba\, España
CATEGORIES:Igualás de costaleros
ATTACH;FMTTYPE=image/jpeg:https://cordobacapitalcofrade.com/wp-content/uploads/2025/12/597826816_1362764825895738_8801302156891990778_n.jpg
END:VEVENT
BEGIN:VEVENT
DTSTART;TZID=UTC:20260124T170000
DTEND;TZID=UTC:20260124T190000
DTSTAMP:20260420T174415
CREATED:20251218T164023Z
LAST-MODIFIED:20251218T164023Z
UID:8177-1769274000-1769281200@cordobacapitalcofrade.com
SUMMARY:Igualá de costaleros de Nuestra Señora Reina de los Mártires
DESCRIPTION:Igualá de costaleros de Nuestra Señora Reina de los Mártires a las 17:00 horas en el Patio de la Real Colegiata de San Hipólito.
URL:https://cordobacapitalcofrade.com/agenda/iguala-de-costaleros-de-nuestra-senora-reina-de-los-martires-3/
LOCATION:Patio Real Colegiata de San Hipólito\, Av. del Gran Capitán\, Centro\, 14008 Córdoba\, Córdoba\, España
CATEGORIES:Igualás de costaleros
ATTACH;FMTTYPE=image/jpeg:https://cordobacapitalcofrade.com/wp-content/uploads/2025/12/596700204_933759792736210_2751415142713463619_n.jpg
END:VEVENT
BEGIN:VEVENT
DTSTART;TZID=UTC:20260124T170000
DTEND;TZID=UTC:20260124T190000
DTSTAMP:20260420T174415
CREATED:20260106T183204Z
LAST-MODIFIED:20260106T183204Z
UID:8306-1769274000-1769281200@cordobacapitalcofrade.com
SUMMARY:Igualá de costaleros de Nuestra Señora Reina de los Ángeles
DESCRIPTION:Igualá de costaleros de Nuestra Señora Reina de los Ángeles\, a las 17:00 horas en la Plaza del Cardenal Toledo.
URL:https://cordobacapitalcofrade.com/agenda/iguala-de-costaleros-de-nuestra-senora-reina-de-los-angeles-2/
LOCATION:Casa Hermandad de la Sangre\, Calle Carbonell y Morand 16\, Cordoba\, Cordoba\, 14001\, España
CATEGORIES:Igualás de costaleros
ATTACH;FMTTYPE=image/jpeg:https://cordobacapitalcofrade.com/wp-content/uploads/2026/01/596350177_1294020059428627_3755185180233838551_n.jpg
END:VEVENT
BEGIN:VEVENT
DTSTART;TZID=UTC:20260124T190000
DTEND;TZID=UTC:20260124T203000
DTSTAMP:20260420T174415
CREATED:20260116T144839Z
LAST-MODIFIED:20260116T144839Z
UID:8453-1769281200-1769286600@cordobacapitalcofrade.com
SUMMARY:Solemne Triduo en honor de María Santísima de la Paz y Esperanza Coronada
DESCRIPTION:Solemne Triduo en honor de María Santísima de la Paz y Esperanza Coronada\, a las 19:30 horas en la Iglesia Conventual del Santo Ángel (Capuchinos). Previamente\, a las 19:00 horas\, rezo del Santo Rosario y ejercicio del Triduo. La Eucaristía estará presidida por D. Demetrio Fernández González\, Obispo emérito de Córdoba.
URL:https://cordobacapitalcofrade.com/agenda/solemne-triduo-en-honor-de-maria-santisima-de-la-paz-y-esperanza-coronada-4/
LOCATION:Iglesia Conventual del Santo Ángel (Capuchinos)\, Pl. de Capuchinos\, 5\, Córdoba\, España
CATEGORIES:Cultos
ATTACH;FMTTYPE=image/jpeg:https://cordobacapitalcofrade.com/wp-content/uploads/2026/01/481665649_980001334265086_6522878249999563686_n.jpg
END:VEVENT
BEGIN:VEVENT
DTSTART;TZID=UTC:20260124T200000
DTEND;TZID=UTC:20260124T210000
DTSTAMP:20260420T174415
CREATED:20260123T164523Z
LAST-MODIFIED:20260123T164523Z
UID:8511-1769284800-1769288400@cordobacapitalcofrade.com
SUMMARY:Presentación de la bambalina trasera del paso de palio de María Santísima de la Esperanza
DESCRIPTION:Presentación de la bambalina trasera del paso de palio de María Santísima de la Esperanza realizada en los Talleres de Sucesores de Esperanza Elena Caro con diseño de Gonzalo Navarro\, a las 20:00 horas en la Casa de Hdad. sita en la C/ Escañuela 10.
URL:https://cordobacapitalcofrade.com/agenda/presentacion-de-la-bambalina-trasera-del-paso-de-palio-de-maria-santisima-de-la-esperanza/
LOCATION:Casa de Hermandad de la Esperanza\, C. Escañuela\, 12\, Centro\, 14002 Córdoba\, Córdoba\, España
CATEGORIES:Presentación
ATTACH;FMTTYPE=image/jpeg:https://cordobacapitalcofrade.com/wp-content/uploads/2026/01/G_XHr4DXQAAx17o.jpg
END:VEVENT
BEGIN:VEVENT
DTSTART;TZID=UTC:20260124T203000
DTEND;TZID=UTC:20260124T213000
DTSTAMP:20260420T174415
CREATED:20260118T150118Z
LAST-MODIFIED:20260118T150118Z
UID:8478-1769286600-1769290200@cordobacapitalcofrade.com
SUMMARY:Concierto de marchas procesionales de la Banda Municipal de Arahal
DESCRIPTION:Concierto de marchas procesionales de la Banda Municipal de Arahal\, a las 20:30 horas en la Iglesia Conventual del Santo Ángel (Capuchinos).
URL:https://cordobacapitalcofrade.com/agenda/concierto-de-marchas-procesionales-de-la-banda-municipal-de-arahal/
LOCATION:Iglesia Conventual del Santo Ángel (Capuchinos)\, Pl. de Capuchinos\, 5\, Córdoba\, España
CATEGORIES:Conciertos
ATTACH;FMTTYPE=image/jpeg:https://cordobacapitalcofrade.com/wp-content/uploads/2026/01/616164460_1263644315582596_6990326672132995277_n.jpg
END:VEVENT
BEGIN:VEVENT
DTSTART;TZID=UTC:20260124T204500
DTEND;TZID=UTC:20260124T220000
DTSTAMP:20260420T174415
CREATED:20251123T141145Z
LAST-MODIFIED:20251123T141145Z
UID:7647-1769287500-1769292000@cordobacapitalcofrade.com
SUMMARY:Igualá de costaleros de Nuestro Padre Jesús de la Victoria
DESCRIPTION:Igualá de costaleros de Nuestro Padre Jesús de la Victoria\, a las 20:45 horas en la Parroquia de Nuestra Señora de la Aurora.
URL:https://cordobacapitalcofrade.com/agenda/iguala-de-costaleros-de-nuestro-padre-jesus-de-la-victoria/
LOCATION:Parroquia de Nuestra Señora de la Aurora\, Plaza Mahatma Gandhi sn\, Córdoba\, Córdoba\, 14014\, España
CATEGORIES:Igualás de costaleros
ATTACH;FMTTYPE=image/jpeg:https://cordobacapitalcofrade.com/wp-content/uploads/2025/11/587754932_847160657898500_6273124326468548395_n.jpg
END:VEVENT
END:VCALENDAR