BEGIN:VCALENDAR
VERSION:2.0
PRODID:-//Agenda Cofrade 365 Días - ECPv6.3.7//NONSGML v1.0//EN
CALSCALE:GREGORIAN
METHOD:PUBLISH
X-WR-CALNAME:Agenda Cofrade 365 Días
X-ORIGINAL-URL:https://cordobacapitalcofrade.com
X-WR-CALDESC:Eventos para Agenda Cofrade 365 Días
REFRESH-INTERVAL;VALUE=DURATION:PT1H
X-Robots-Tag:noindex
X-PUBLISHED-TTL:PT1H
BEGIN:VTIMEZONE
TZID:UTC
BEGIN:STANDARD
TZOFFSETFROM:+0000
TZOFFSETTO:+0000
TZNAME:UTC
DTSTART:20260101T000000
END:STANDARD
END:VTIMEZONE
BEGIN:VEVENT
DTSTART;TZID=UTC:20260201T090000
DTEND;TZID=UTC:20260201T133000
DTSTAMP:20260419T133836
CREATED:20251208T183029Z
LAST-MODIFIED:20251208T183029Z
UID:7909-1769936400-1769952600@cordobacapitalcofrade.com
SUMMARY:2º Ensayo de costaleras de María Santísima de la Encarnación
DESCRIPTION:2º Ensayo de costaleras de María Santísima de la Encarnación\, a las 09:00 horas desde el local de ensayos.
URL:https://cordobacapitalcofrade.com/agenda/2o-ensayo-de-costaleras-de-maria-santisima-de-la-encarnacion-3/
LOCATION:Casa de Hermandad del Amor\, Pje. Cristo del Amor\, 7\, Sur\, 14009 Córdoba\, Córdoba\, España
CATEGORIES:Ensayos Costaleros
ATTACH;FMTTYPE=image/jpeg:https://cordobacapitalcofrade.com/wp-content/uploads/2025/12/Domingo-de-Ramos-2025-1434-scaled.jpg
END:VEVENT
BEGIN:VEVENT
DTSTART;TZID=UTC:20260201T090000
DTEND;TZID=UTC:20260201T210000
DTSTAMP:20260419T133836
CREATED:20260123T174231Z
LAST-MODIFIED:20260123T174231Z
UID:8547-1769936400-1769979600@cordobacapitalcofrade.com
SUMMARY:Besapiés de Nuestro Padre Jesús del Perdón
DESCRIPTION:Besapiés de Nuestro Padre Jesús del Perdón en horario de 09:00 a 14:00 horas y de 17:00 a 21:00 horas en la Parroquia de San Juan y Todos los Santos (Trinidad).
URL:https://cordobacapitalcofrade.com/agenda/besapies-de-nuestro-padre-jesus-del-perdon/
LOCATION:Parroquia de la Trinidad\, Plaza de la Trinidad\, Córdoba\, España
CATEGORIES:Cultos
ATTACH;FMTTYPE=image/jpeg:https://cordobacapitalcofrade.com/wp-content/uploads/2026/01/487858896_1108550831315618_4589070878959614103_n.jpg
END:VEVENT
BEGIN:VEVENT
DTSTART;TZID=UTC:20260201T093000
DTEND;TZID=UTC:20260201T103000
DTSTAMP:20260419T133836
CREATED:20260124T135325Z
LAST-MODIFIED:20260124T135325Z
UID:8553-1769938200-1769941800@cordobacapitalcofrade.com
SUMMARY:Función Solemne de María Santísima de Salud y Consuelo
DESCRIPTION:Función Solemne de María Santísima de Salud y Consuelo\, a las 09:30 horas en la Parroquia de Nuestra Señora del Rosario.
URL:https://cordobacapitalcofrade.com/agenda/funcion-solemne-de-maria-santisima-de-salud-y-consuelo/
LOCATION:Iglesia de Ntra. Sra. Del Rosario\, Plaza de Electromecánicas\, Córdoba\, Córdoba\, 14005\, España
CATEGORIES:Cultos
ATTACH;FMTTYPE=image/png:https://cordobacapitalcofrade.com/wp-content/uploads/2026/01/Captura-de-pantalla-2026-01-24-144806.png
END:VEVENT
BEGIN:VEVENT
DTSTART;TZID=UTC:20260201T100000
DTEND;TZID=UTC:20260201T140000
DTSTAMP:20260419T133836
CREATED:20251211T170244Z
LAST-MODIFIED:20251211T170244Z
UID:8032-1769940000-1769954400@cordobacapitalcofrade.com
SUMMARY:1er Ensayo de costaleros de Nuestro Padre Jesús de la Bondad
DESCRIPTION:1er Ensayo de costaleros de Nuestro Padre Jesús de la Bondad\, a las 10:00 horas desde el local de ensayos.
URL:https://cordobacapitalcofrade.com/agenda/1er-ensayo-de-costaleros-de-nuestro-padre-jesus-de-la-bondad-3/
LOCATION:Local de ensayo Bondad\, Sureste\, 14010 Córdoba\, Córdoba\, España
CATEGORIES:Ensayos Costaleros
ATTACH;FMTTYPE=image/jpeg:https://cordobacapitalcofrade.com/wp-content/uploads/2025/12/595644298_1186586106947497_966751318016847615_n.jpg
END:VEVENT
BEGIN:VEVENT
DTSTART;TZID=UTC:20260201T100000
DTEND;TZID=UTC:20260201T140000
DTSTAMP:20260419T133836
CREATED:20260126T161706Z
LAST-MODIFIED:20260126T161706Z
UID:8575-1769940000-1769954400@cordobacapitalcofrade.com
SUMMARY:1er Ensayo de costaleros del Santísimo Cristo de la Agonía
DESCRIPTION:1er Ensayo de costaleros del Santísimo Cristo de la Agonía\, a las 10:00 horas desde la Casa de Hdad. ubicada en la C/ Santas Flora y María\, 80.
URL:https://cordobacapitalcofrade.com/agenda/1er-ensayo-de-costaleros-del-santisimo-cristo-de-la-agonia-2/
LOCATION:Casa de Hermandad de la Agonía\, C. Santas Flora y María\, 82\, Nte. Sierra\, 14012 Córdoba\, Córdoba\, España
CATEGORIES:Ensayos Costaleros
ATTACH;FMTTYPE=image/jpeg:https://cordobacapitalcofrade.com/wp-content/uploads/2026/01/Martes-Santo-2025-0484-scaled.jpg
END:VEVENT
BEGIN:VEVENT
DTSTART;TZID=UTC:20260201T103000
DTEND;TZID=UTC:20260201T143000
DTSTAMP:20260419T133836
CREATED:20251211T155255Z
LAST-MODIFIED:20251211T155255Z
UID:7986-1769941800-1769956200@cordobacapitalcofrade.com
SUMMARY:1er Ensayo de costaleros de Nuestra Señora del Mayor Dolor
DESCRIPTION:1er Ensayo de costaleros de Nuestra Señora del Mayor Dolor\, a las 10:30 horas desde la Casa de Hermandad sita en la C/ Prolongación Escañuela 1.
URL:https://cordobacapitalcofrade.com/agenda/1er-ensayo-de-costaleros-de-nuestra-senora-del-mayor-dolor-3/
LOCATION:Casa de Hermandad del Calvario\, C. Escañuela\, 1\, Centro\, 14002 Córdoba\, Córdoba\, España
CATEGORIES:Ensayos Costaleros
ATTACH;FMTTYPE=image/jpeg:https://cordobacapitalcofrade.com/wp-content/uploads/2025/12/491749471_703578565661337_1986245726947524629_n.jpg
END:VEVENT
BEGIN:VEVENT
DTSTART;TZID=UTC:20260201T110000
DTEND;TZID=UTC:20260201T134500
DTSTAMP:20260419T133836
CREATED:20260124T141108Z
LAST-MODIFIED:20260124T141108Z
UID:8555-1769943600-1769953500@cordobacapitalcofrade.com
SUMMARY:Rosario matinal de María Santísima de Salud y Consuelo
DESCRIPTION:Rosario matinal de María Santísima de Salud y Consuelo desde la Parroquia de Nuestra Señora del Rosario siguiendo este itinerario: Salida (11:00 horas)\, Salama\, San Juan Bosco\, Aixa\, Julio Artiche\, Bilbao\, Federico Ledoux\, Del Deporte\, Del Campo\, Parroquia de Santa Beatríz de Silva (11:55 horas)\, Avenida de la Paz\, Ingeniero Alfonso de Churruca\, Papa Juan XXIII\, Ángel Castineira\, María la Telegona\, Parroquia del Inmaculado Corazón de María (12:40 horas)\, Parque Vallehermoso\, Paseo de los Verdiales\, Nuestra Señora de Begoña\, Avenida de la Fábrica y Entrada (13:45 horas). Acompañará musicalmente la Escolanía del Colegio de Santa Victoria.
URL:https://cordobacapitalcofrade.com/agenda/rosario-matinal-de-maria-santisima-de-salud-y-consuelo/
LOCATION:Iglesia de Ntra. Sra. Del Rosario\, Plaza de Electromecánicas\, Córdoba\, Córdoba\, 14005\, España
CATEGORIES:Rosario
ATTACH;FMTTYPE=image/png:https://cordobacapitalcofrade.com/wp-content/uploads/2026/01/Captura-de-pantalla-2026-01-24-144945.png
END:VEVENT
BEGIN:VEVENT
DTSTART;TZID=UTC:20260201T120000
DTEND;TZID=UTC:20260201T130000
DTSTAMP:20260419T133836
CREATED:20260120T144424Z
LAST-MODIFIED:20260120T144424Z
UID:8497-1769947200-1769950800@cordobacapitalcofrade.com
SUMMARY:Santa Misa y presentación de los niño bautizados en 2025 a Nuestra Señora de la Luz\, Madre de la Juventud
DESCRIPTION:Santa Misa y presentación de los niño bautizados en 2025 a Nuestra Señora de la Luz\, Madre de la Juventud a las 12:00 horas en la Parroquia de Santa Marina de Aguas Santas. Durante la celebración se bendecirán y repartirán las roscas de San Blas.
URL:https://cordobacapitalcofrade.com/agenda/santa-misa-y-presentacion-de-los-nino-bautizados-en-2025-a-nuestra-senora-de-la-luz-madre-de-la-juventud/
LOCATION:Parroquia de Santa Marina de Aguas Santas\, Pl. de Sta. Marina\, 6\, 14001 Córdoba\, Córdoba\, España
CATEGORIES:Cultos
ATTACH;FMTTYPE=image/jpeg:https://cordobacapitalcofrade.com/wp-content/uploads/2026/01/469267092_18290620969237400_2774559084590922696_n.jpg
END:VEVENT
BEGIN:VEVENT
DTSTART;TZID=UTC:20260201T123000
DTEND;TZID=UTC:20260201T133000
DTSTAMP:20260419T133836
CREATED:20260126T162824Z
LAST-MODIFIED:20260126T162824Z
UID:8584-1769949000-1769952600@cordobacapitalcofrade.com
SUMMARY:Solemne Triduo en honor de María Santísima de la Candelaria
DESCRIPTION:Solemne Triduo en honor de María Santísima de la Candelaria\, a las 12:30 horas en la Parroquia de San Francisco y San Eulogio.
URL:https://cordobacapitalcofrade.com/agenda/solemne-triduo-en-honor-de-maria-santisima-de-la-candelaria-2/
LOCATION:Parroquia de San Francisco y San Eulogio\, C. Compás de San Francisco\, 0\, Córdoba\, España
CATEGORIES:Cultos
ATTACH;FMTTYPE=image/jpeg:https://cordobacapitalcofrade.com/wp-content/uploads/2026/01/486638479_1091618086338591_5554901673107362799_n.jpg
END:VEVENT
BEGIN:VEVENT
DTSTART;TZID=UTC:20260201T123000
DTEND;TZID=UTC:20260201T143000
DTSTAMP:20260419T133836
CREATED:20260126T161400Z
LAST-MODIFIED:20260128T185114Z
UID:8572-1769949000-1769956200@cordobacapitalcofrade.com
SUMMARY:Igualá de costaleros de Nuestro Padre Jesús de la Salud
DESCRIPTION:Igualá de costaleros de Nuestro Padre Jesús de la Salud\, a las 12:30 horas en la Parroquia de Nuestra Señora del Carmen.
URL:https://cordobacapitalcofrade.com/agenda/iguala-de-costaleros-de-nuestro-padre-jesus-de-la-salud-3/
LOCATION:Parroquia de Nuestra Señora del Carmen\, C. Rd. de Andújar\,23\, Córdoba\, España
CATEGORIES:Igualás de costaleros
ATTACH;FMTTYPE=image/png:https://cordobacapitalcofrade.com/wp-content/uploads/2026/01/Captura-de-pantalla-2026-01-26-171155.png
END:VEVENT
BEGIN:VEVENT
DTSTART;TZID=UTC:20260201T130000
DTEND;TZID=UTC:20260201T150000
DTSTAMP:20260419T133836
CREATED:20260118T143347Z
LAST-MODIFIED:20260118T143347Z
UID:8468-1769950800-1769958000@cordobacapitalcofrade.com
SUMMARY:Igualá de costaleros de María Santísima de los Dolores de Alcolea
DESCRIPTION:Igualá de costaleros de María Santísima de los Dolores\, a las 13:00 horas en la Casa de Hdad. sita en la C/ Cabo Carmona\, 57.
URL:https://cordobacapitalcofrade.com/agenda/iguala-de-costaleros-de-maria-santisima-de-los-dolores-de-alcolea/
LOCATION:Casa Hermandad de los Dolores Alcolea\, Calle Carmona\, 57\, Córdoba\, Alcolea\, 14610\, España
CATEGORIES:Igualás de costaleros
ATTACH;FMTTYPE=image/jpeg:https://cordobacapitalcofrade.com/wp-content/uploads/2026/01/615440565_1285697863587510_9177570238492872927_n.jpg
END:VEVENT
BEGIN:VEVENT
DTSTART;TZID=UTC:20260201T160000
DTEND;TZID=UTC:20260201T180000
DTSTAMP:20260419T133836
CREATED:20260126T162011Z
LAST-MODIFIED:20260126T162011Z
UID:8578-1769961600-1769968800@cordobacapitalcofrade.com
SUMMARY:Igualá de costaleros de Nuestra Señora del Rosario Coronada
DESCRIPTION:Igualá de costaleros de Nuestra Señora del Rosario Coronada\, a las 16:00 horas en la Real Iglesia de San Pablo.
URL:https://cordobacapitalcofrade.com/agenda/iguala-de-costaleros-de-nuestra-senora-del-rosario-coronada-3/
LOCATION:Real Iglesia de San Pablo\, C. Capitulares\, 18\, Córdoba\, España
CATEGORIES:Igualás de costaleros
ATTACH;FMTTYPE=image/jpeg:https://cordobacapitalcofrade.com/wp-content/uploads/2026/01/618564598_1342008787967401_3050420874429440160_n.jpg
END:VEVENT
BEGIN:VEVENT
DTSTART;TZID=UTC:20260201T170000
DTEND;TZID=UTC:20260201T210000
DTSTAMP:20260419T133836
CREATED:20260110T141733Z
LAST-MODIFIED:20260110T141733Z
UID:8397-1769965200-1769979600@cordobacapitalcofrade.com
SUMMARY:1er Ensayo de costaleros de Nuestro Señor Jesucristo del Santo Sepulcro
DESCRIPTION:1er Ensayo de costaleros de Nuestro Señor Jesucristo del Santo Sepulcro\, a las 17:00 horas desde la Parroquia del Salvador y Santo Domingo de Silos (Compañía).
URL:https://cordobacapitalcofrade.com/agenda/1er-ensayo-de-costaleros-de-nuestro-senor-jesucristo-del-santo-sepulcro/
LOCATION:Parroquia Salvador y Santo Domingo de Silos (Compañía)\, Pl. de la Compañía\, 7\, Córdoba\, España
CATEGORIES:Ensayos Costaleros
ATTACH;FMTTYPE=image/jpeg:https://cordobacapitalcofrade.com/wp-content/uploads/2026/01/ACH80826-ORF_DxO_DeepPRIMEXD-scaled.jpg
END:VEVENT
END:VCALENDAR