BEGIN:VCALENDAR
VERSION:2.0
PRODID:-//Agenda Cofrade 365 Días - ECPv6.3.7//NONSGML v1.0//EN
CALSCALE:GREGORIAN
METHOD:PUBLISH
X-WR-CALNAME:Agenda Cofrade 365 Días
X-ORIGINAL-URL:https://cordobacapitalcofrade.com
X-WR-CALDESC:Eventos para Agenda Cofrade 365 Días
REFRESH-INTERVAL;VALUE=DURATION:PT1H
X-Robots-Tag:noindex
X-PUBLISHED-TTL:PT1H
BEGIN:VTIMEZONE
TZID:UTC
BEGIN:STANDARD
TZOFFSETFROM:+0000
TZOFFSETTO:+0000
TZNAME:UTC
DTSTART:20260101T000000
END:STANDARD
END:VTIMEZONE
BEGIN:VEVENT
DTSTART;TZID=UTC:20260422T193000
DTEND;TZID=UTC:20260424T204500
DTSTAMP:20260424T045726
CREATED:20260416T122019Z
LAST-MODIFIED:20260416T122019Z
UID:9600-1776886200-1777063500@cordobacapitalcofrade.com
SUMMARY:Triduo en honor de la Divina Pastora de las Almas
DESCRIPTION:Triduo en honor de la Divina Pastora de las Almas\, a las 20:00 horas en la Iglesia Conventual del Santo Ángel (Capuchinos). A las 19:30 horas\, rezo del Santo Rosario.
URL:https://cordobacapitalcofrade.com/agenda/triduo-en-honor-de-la-divina-pastora-de-las-almas/
LOCATION:Iglesia Conventual del Santo Ángel (Capuchinos)\, Pl. de Capuchinos\, 5\, Córdoba\, España
CATEGORIES:Cultos
ATTACH;FMTTYPE=image/jpeg:https://cordobacapitalcofrade.com/wp-content/uploads/2026/04/495819372_18188987407312860_6225441751876034715_n.jpg
END:VEVENT
BEGIN:VEVENT
DTSTART;TZID=UTC:20260424T173000
DTEND;TZID=UTC:20260424T210000
DTSTAMP:20260424T045726
CREATED:20260412T120859Z
LAST-MODIFIED:20260412T120859Z
UID:9573-1777051800-1777064400@cordobacapitalcofrade.com
SUMMARY:3er Ensayo de costaleros y costaleras del Milagroso Niño Jesús de Praga
DESCRIPTION:3er Ensayo de costaleros y costaleras del Milagroso Niño Jesús de Praga a las 17:30 horas en la Cuesta de San Cayetano.
URL:https://cordobacapitalcofrade.com/agenda/3er-ensayo-de-costaleros-y-costaleras-del-milagroso-nino-jesus-de-praga/
LOCATION:Cuesta de San Cayetano\, C. Cta. de San Cayetano\, 2\, Centro\, 14001 Córdoba\, Córdoba\, Spain
CATEGORIES:Ensayos Costaleros
ATTACH;FMTTYPE=image/webp:https://cordobacapitalcofrade.com/wp-content/uploads/2026/04/devocion-nino-praga1-Rgtpb3V0nVulvnsNMqawuuO-1200x840@diario_abc.webp
END:VEVENT
BEGIN:VEVENT
DTSTART;TZID=UTC:20260424T210000
DTEND;TZID=UTC:20260424T220000
DTSTAMP:20260424T045726
CREATED:20260416T122833Z
LAST-MODIFIED:20260416T122833Z
UID:9603-1777064400-1777068000@cordobacapitalcofrade.com
SUMMARY:Santo Rosario con el Simpecado de Gala del Redil de la Divina Pastora
DESCRIPTION:Santo Rosario con el Simpecado de Gala\, a las 21:00 horas desde la Iglesia Conventual del Santo Ángel (Capuchinos) recorriendo las calles de la feligresía. La oración será guiada por Dña. Maite Montero Portabella\, Pregonera de Glorias 2026. Acompañará musicalmente el Coro del Redil Eucarístico.
URL:https://cordobacapitalcofrade.com/agenda/santo-rosario-con-el-simpecado-de-gala-del-redil-de-la-divina-pastora/
LOCATION:Iglesia Conventual del Santo Ángel (Capuchinos)\, Pl. de Capuchinos\, 5\, Córdoba\, España
CATEGORIES:Rosario
ATTACH;FMTTYPE=image/jpeg:https://cordobacapitalcofrade.com/wp-content/uploads/2026/04/496823174_18189387427312860_1117811551958901823_n.jpg
END:VEVENT
BEGIN:VEVENT
DTSTART;TZID=UTC:20260424T210000
DTEND;TZID=UTC:20260424T223000
DTSTAMP:20260424T045726
CREATED:20260420T130236Z
LAST-MODIFIED:20260420T130236Z
UID:9620-1777064400-1777069800@cordobacapitalcofrade.com
SUMMARY:Pregón de la Romería de Linares 2026
DESCRIPTION:Pregón de la Romería de Linares 2026 a cargo de Dña. Aurora Barona Campos\, siendo presentada por D. Rafael Cremades Morales\, a las 21:00 horas en el Real Círculo de la Amistad. Actuará durante el acto el Real Centro Filarmónico Eduardo Lucena.
URL:https://cordobacapitalcofrade.com/agenda/pregon-de-la-romeria-de-linares-2026/
LOCATION:Real Círculo de la Amistad\, C. Alfonso XIII\, 14\, Centro\, 14001 Córdoba\, Córdoba\, España
CATEGORIES:Pregón
ATTACH;FMTTYPE=image/jpeg:https://cordobacapitalcofrade.com/wp-content/uploads/2026/04/674578726_1411787254328423_1194687657049709883_n.jpg
END:VEVENT
END:VCALENDAR