BEGIN:VCALENDAR
VERSION:2.0
PRODID:-//Agenda Cofrade 365 Días - ECPv6.3.7//NONSGML v1.0//EN
CALSCALE:GREGORIAN
METHOD:PUBLISH
X-WR-CALNAME:Agenda Cofrade 365 Días
X-ORIGINAL-URL:https://cordobacapitalcofrade.com
X-WR-CALDESC:Eventos para Agenda Cofrade 365 Días
REFRESH-INTERVAL;VALUE=DURATION:PT1H
X-Robots-Tag:noindex
X-PUBLISHED-TTL:PT1H
BEGIN:VTIMEZONE
TZID:UTC
BEGIN:STANDARD
TZOFFSETFROM:+0000
TZOFFSETTO:+0000
TZNAME:UTC
DTSTART:20250101T000000
END:STANDARD
END:VTIMEZONE
BEGIN:VEVENT
DTSTART;TZID=UTC:20250104T163000
DTEND;TZID=UTC:20250104T193000
DTSTAMP:20260422T090606
CREATED:20241229T135824Z
LAST-MODIFIED:20241229T135824Z
UID:4808-1736008200-1736019000@cordobacapitalcofrade.com
SUMMARY:Paje Real de la Hermandad de la O
DESCRIPTION:Paje Real de la Hermandad de la O desde la Parroquia de Nuestra Señora de la Aurora hasta la Plaza del Jazmín con este recorrido: Salida Parroquia de Nuestra Señora de la Aurora (16:30 horas)\, Plaza Mahatma Gandhi\, Avenida de la Merced\, Ingeniero Juan Antonio Vigueras\, Arcos de la Frontera\, Historiador Jaén Morente y Plaza del Jazmín.
URL:https://cordobacapitalcofrade.com/agenda/paje-real-de-la-hermandad-de-la-o/
LOCATION:Parroquia de Nuestra Señora de la Aurora\, Plaza Mahatma Gandhi sn\, Córdoba\, Córdoba\, 14014\, España
CATEGORIES:Cabalgata
ATTACH;FMTTYPE=image/jpeg:https://cordobacapitalcofrade.com/wp-content/uploads/2024/12/471313657_597057596242142_1211802304244214228_n.jpg
END:VEVENT
BEGIN:VEVENT
DTSTART;TZID=UTC:20250105T170000
DTEND;TZID=UTC:20250105T223000
DTSTAMP:20260422T090606
CREATED:20241229T120800Z
LAST-MODIFIED:20241229T120800Z
UID:4728-1736096400-1736116200@cordobacapitalcofrade.com
SUMMARY:Cabalgata de Reyes Magos Oficial 2025
DESCRIPTION:Cabalgata de Reyes Magos Oficial 2025 desde la Plaza de Santa Teresa con este itinerario: Salida (17:00 horas)\, Avenida de Cádiz\, Plaza de Andalucía\, Puente de San Rafael\, Avenida del Corregidor\, Avenida de Vallellano\, Paseo de la Victoria\, Avenida Ronda de los Tejares\, Plaza de Colón\, Avenida de los Molinos\, Avenida de las Ollerias\, (21:30 horas). Al llegar a la Ronda del Marrubial la comitiva Real se subirán a tres caballos y se dirigirán hasta la Plaza Cristo de Gracia donde harán una Adoración al Niño Jesús. \n\nTres bandas cordobesas acompañarán al cortejo; la Agrupación Musical «Cristo de Gracia»\, Banda de Música «Nuestra Señora de la Estrella» y la Banda de Cornetas y Tambores «Coronación de Espinas» de Córdoba.
URL:https://cordobacapitalcofrade.com/agenda/cabalgata-de-reyes-magos-oficial-2025/
LOCATION:Plaza de Santa Teresa\, Plaza de Santa Teresa\, Córdoba\, Córdoba\, 14011
CATEGORIES:Cabalgata
ATTACH;FMTTYPE=image/jpeg:https://cordobacapitalcofrade.com/wp-content/uploads/2024/12/cabalgata-reyes-cordoba-RHwbII85skDxXrc3satGHLM-1200x840@abc.jpg
END:VEVENT
BEGIN:VEVENT
DTSTART;TZID=UTC:20250105T210000
DTEND;TZID=UTC:20250105T210000
DTSTAMP:20260422T090606
CREATED:20241229T124017Z
LAST-MODIFIED:20241229T124017Z
UID:4740-1736110800-1736110800@cordobacapitalcofrade.com
SUMMARY:Cabalgata de Reyes Magos Ciudad Jardín 2025
DESCRIPTION:Cabalgata de Reyes Magos Ciudad Jardín 2025 con este itinerario: Salida desde la C/ Don Lope de Sosa\, 31\, Damasco\, Avenida del Aeropuerto\, Manuel Fuentes Bocanegra\, José María Martorell\, Avenida de Manolete\, Avenida de Lagartijo\, Camino Viejo de Almodovar\, Machaquito\, Avenida Gran Vía Parque\, Antonio Maura\, Plaza de Costa Sol\, Camino de los Sastres\, Miguel Benzo\, Antonio Maura\, Plaza de Costa Sol\, Damasco\, Maestro Priego López\, Damasco. 
URL:https://cordobacapitalcofrade.com/agenda/cabalgata-de-reyes-magos-ciudad-jardin-2025/
LOCATION:C/ Don Lope de Sosa\, 31\, C. Don Lope de Sosa\, 31\, Poniente Sur\, 14004 Córdoba\, Córdoba\, Spain
CATEGORIES:Cabalgata
ATTACH;FMTTYPE=image/jpeg:https://cordobacapitalcofrade.com/wp-content/uploads/2024/12/d82ca78f-f69b-4959-8ee7-56709fdbfd78_source-aspect-ratio_1600w_0.jpg
END:VEVENT
BEGIN:VEVENT
DTSTART;TZID=UTC:20250105T210000
DTEND;TZID=UTC:20250105T235900
DTSTAMP:20260422T090606
CREATED:20241229T122039Z
LAST-MODIFIED:20241229T122039Z
UID:4731-1736110800-1736121540@cordobacapitalcofrade.com
SUMMARY:Cabalgata de Reyes Magos de Santa Rosa 2025
DESCRIPTION:Cabalgata de Reyes Magos del barrio de Santa Rosa desde el patio del Colegio Grupo Cántico con este recorrido: Salida (21:00 horas)\, Virgen de las Angustias\, Cruz de Juárez\, Avenida de Almogávares\, Acera Fuente de la Salud\, Avenida Virgen de las Angustias y llegada al Restaurante Casa Antonio. 
URL:https://cordobacapitalcofrade.com/agenda/cabalgata-de-reyes-magos-de-santa-rosa-2025/
LOCATION:Colegio Grupo Cántico\, Av. Virgen de las Angustias\, S/N\, Nte. Sierra\, 14006 Córdoba\, Córdoba\, Spain
CATEGORIES:Cabalgata
ATTACH;FMTTYPE=image/jpeg:https://cordobacapitalcofrade.com/wp-content/uploads/2024/12/59a12830-45a9-4acf-bbd1-9e013c740de3_16-9-discover-aspect-ratio_default_0.jpg
END:VEVENT
BEGIN:VEVENT
DTSTART;TZID=UTC:20250105T210000
DTEND;TZID=UTC:20250105T235900
DTSTAMP:20260422T090606
CREATED:20241229T122935Z
LAST-MODIFIED:20241229T122935Z
UID:4736-1736110800-1736121540@cordobacapitalcofrade.com
SUMMARY:Cabalgata de Reyes Magos de La Viñuela 2025
DESCRIPTION:Cabalgata de Reyes Magos del barrio de la Viñuela siguiendo este recorrido: Salida Colegio de los Califas (21:00 horas)\, Hermano Juan Fernández\, Conquistador Benito de Baños\, Avenida Jesús Rescatado\, Avenida de la Viñuela\, Poeta Muhammad Iqbal\, Avenida Barcelona\, Tras la Puerta\, Puerta de Plasencia\, Avenida de Rabanales.
URL:https://cordobacapitalcofrade.com/agenda/cabalgata-de-reyes-magos-de-la-vinuela-2025/
LOCATION:Colegio de los Califas\, Avenida de Rabanales s/n\, Córdoba\, Córdoba\, 14007\, España
CATEGORIES:Cabalgata
ATTACH;FMTTYPE=image/jpeg:https://cordobacapitalcofrade.com/wp-content/uploads/2024/12/3dc9f319-5695-47f5-bb6c-0cf747575551_16-9-discover-aspect-ratio_default_1346152.jpg
END:VEVENT
END:VCALENDAR