BEGIN:VCALENDAR
VERSION:2.0
PRODID:-//Agenda Cofrade 365 Días - ECPv6.3.7//NONSGML v1.0//EN
CALSCALE:GREGORIAN
METHOD:PUBLISH
X-ORIGINAL-URL:https://cordobacapitalcofrade.com
X-WR-CALDESC:Eventos para Agenda Cofrade 365 Días
REFRESH-INTERVAL;VALUE=DURATION:PT1H
X-Robots-Tag:noindex
X-PUBLISHED-TTL:PT1H
BEGIN:VTIMEZONE
TZID:UTC
BEGIN:STANDARD
TZOFFSETFROM:+0000
TZOFFSETTO:+0000
TZNAME:UTC
DTSTART:20250101T000000
END:STANDARD
END:VTIMEZONE
BEGIN:VEVENT
DTSTART;TZID=UTC:20250104T163000
DTEND;TZID=UTC:20250104T193000
DTSTAMP:20260422T110119
CREATED:20241229T135824Z
LAST-MODIFIED:20241229T135824Z
UID:4808-1736008200-1736019000@cordobacapitalcofrade.com
SUMMARY:Paje Real de la Hermandad de la O
DESCRIPTION:Paje Real de la Hermandad de la O desde la Parroquia de Nuestra Señora de la Aurora hasta la Plaza del Jazmín con este recorrido: Salida Parroquia de Nuestra Señora de la Aurora (16:30 horas)\, Plaza Mahatma Gandhi\, Avenida de la Merced\, Ingeniero Juan Antonio Vigueras\, Arcos de la Frontera\, Historiador Jaén Morente y Plaza del Jazmín.
URL:https://cordobacapitalcofrade.com/agenda/paje-real-de-la-hermandad-de-la-o/
LOCATION:Parroquia de Nuestra Señora de la Aurora\, Plaza Mahatma Gandhi sn\, Córdoba\, Córdoba\, 14014\, España
CATEGORIES:Cabalgata
ATTACH;FMTTYPE=image/jpeg:https://cordobacapitalcofrade.com/wp-content/uploads/2024/12/471313657_597057596242142_1211802304244214228_n.jpg
END:VEVENT
END:VCALENDAR