BEGIN:VCALENDAR
VERSION:2.0
PRODID:-//Agenda Cofrade 365 Días - ECPv6.3.7//NONSGML v1.0//EN
CALSCALE:GREGORIAN
METHOD:PUBLISH
X-ORIGINAL-URL:https://cordobacapitalcofrade.com
X-WR-CALDESC:Eventos para Agenda Cofrade 365 Días
REFRESH-INTERVAL;VALUE=DURATION:PT1H
X-Robots-Tag:noindex
X-PUBLISHED-TTL:PT1H
BEGIN:VTIMEZONE
TZID:UTC
BEGIN:STANDARD
TZOFFSETFROM:+0000
TZOFFSETTO:+0000
TZNAME:UTC
DTSTART:20240101T000000
END:STANDARD
END:VTIMEZONE
BEGIN:VEVENT
DTSTART;TZID=UTC:20241010T200000
DTEND;TZID=UTC:20241010T210000
DTSTAMP:20260426T030230
CREATED:20241007T125618Z
LAST-MODIFIED:20241007T125618Z
UID:3711-1728590400-1728594000@cordobacapitalcofrade.com
SUMMARY:Conferencia "Un encargo lleno de Amor. XLV años del contrato de María Santísima de la Encarnación"
DESCRIPTION:Conferencia bajo el título de «Un encargo lleno de Amor. XLV años del contrato de María Santísima de la Encarnación» a cargo de D. Juan Carlos Jiménez Díaz\, a las 20:00 horas en el Salón Parroquial de Jesús Divino Obrero.
URL:https://cordobacapitalcofrade.com/agenda/conferencia-un-encargo-lleno-de-amor-xlv-anos-del-contrato-de-maria-santisima-de-la-encarnacion/
LOCATION:Parroquia de Jesús Divino Obrero\, C. Beato Henares\, 1\, Córdoba\, España
CATEGORIES:Conferencia
ATTACH;FMTTYPE=image/jpeg:https://cordobacapitalcofrade.com/wp-content/uploads/2024/10/461977902_558252763430944_984026240403273089_n.jpg
END:VEVENT
BEGIN:VEVENT
DTSTART;TZID=UTC:20241019T103000
DTEND;TZID=UTC:20241019T113000
DTSTAMP:20260426T030230
CREATED:20241014T133314Z
LAST-MODIFIED:20241014T133314Z
UID:3769-1729333800-1729337400@cordobacapitalcofrade.com
SUMMARY:Primera Sesión del Ciclo Formativo organizado por la Hermandad bajo el título de "La importancia de la figura del Monitor en la Eucaristía"
DESCRIPTION:Primera Sesión del Ciclo Formativo organizado por la Hermandad bajo el título de «La importancia de la figura del Monitor en la Eucaristía» a cargo de D. Manuel Rojas Márquez\, a las 10:30 horas en el Salón de Juntas de San Agustín en la C/ Obispo López Criado\, nº1. 
URL:https://cordobacapitalcofrade.com/agenda/primera-sesion-del-ciclo-formativo-organizado-por-la-hermandad-bajo-el-titulo-de-la-importancia-de-la-figura-del-monitor-en-la-eucaristia/
LOCATION:Salón de Juntas de San Agustín\, C/ Obispo López Criado\, nº1.\, CÓRDOBA\, CÓRDOBA\, España
CATEGORIES:Conferencia
ATTACH;FMTTYPE=image/jpeg:https://cordobacapitalcofrade.com/wp-content/uploads/2024/10/463064723_839149991765740_6833036090803204831_n.jpg
END:VEVENT
BEGIN:VEVENT
DTSTART;TZID=UTC:20241029T200000
DTEND;TZID=UTC:20241029T210000
DTSTAMP:20260426T030230
CREATED:20241028T153839Z
LAST-MODIFIED:20241028T153839Z
UID:3857-1730232000-1730235600@cordobacapitalcofrade.com
SUMMARY:Conferencia "La Santa Faz y la primera representación del crucificado sindónico en el siglo XX"
DESCRIPTION:Conferencia «La Santa Faz y la primera representación del crucificado sindónico en el siglo XX» a cargo de D. Alberto Villar Movellán\, a las 20:00 horas en el Oratorio de Santo Tomás de Aquino situado en la C/Montero\, 22.
URL:https://cordobacapitalcofrade.com/agenda/conferencia-la-santa-faz-y-la-primera-representacion-del-crucificado-sindonico-en-el-siglo-xx/
LOCATION:Oratorio de Santo Tomás de Aquino\, C/ Montero\, 22\, Córdoba\, España
CATEGORIES:Conferencia
ATTACH;FMTTYPE=image/jpeg:https://cordobacapitalcofrade.com/wp-content/uploads/2024/10/464608386_962341615924398_933823179141161874_n.jpg
END:VEVENT
END:VCALENDAR