BEGIN:VCALENDAR
VERSION:2.0
PRODID:-//Agenda Cofrade 365 Días - ECPv6.3.7//NONSGML v1.0//EN
CALSCALE:GREGORIAN
METHOD:PUBLISH
X-ORIGINAL-URL:https://cordobacapitalcofrade.com
X-WR-CALDESC:Eventos para Agenda Cofrade 365 Días
REFRESH-INTERVAL;VALUE=DURATION:PT1H
X-Robots-Tag:noindex
X-PUBLISHED-TTL:PT1H
BEGIN:VTIMEZONE
TZID:UTC
BEGIN:STANDARD
TZOFFSETFROM:+0000
TZOFFSETTO:+0000
TZNAME:UTC
DTSTART:20250101T000000
END:STANDARD
END:VTIMEZONE
BEGIN:VEVENT
DTSTART;TZID=UTC:20250207T203000
DTEND;TZID=UTC:20250207T213000
DTSTAMP:20260425T040917
CREATED:20250123T154401Z
LAST-MODIFIED:20250123T154401Z
UID:5023-1738960200-1738963800@cordobacapitalcofrade.com
SUMMARY:Conferencia "El orgullo de ser Cristiano"
DESCRIPTION:Conferencia «El orgullo de ser Cristiano» a cargo de D. Christian Carracedo\, jugador del Córdoba Cf\,  a las 20:30 horas en la Parroquia de la Inmaculada Concepción y San Alberto Magno.
URL:https://cordobacapitalcofrade.com/agenda/conferencia-el-orgullo-de-ser-cristiano/
LOCATION:Parroquia de la Inmaculada Concepción y San Alberto Magno\, C. San Diego de Alcalá\, 10\, Poniente Sur\, 14005 Córdoba\, Córdoba\, España
CATEGORIES:Conferencia
ATTACH;FMTTYPE=image/jpeg:https://cordobacapitalcofrade.com/wp-content/uploads/2025/01/474477025_603821392585298_2840488156016833900_n.jpg
END:VEVENT
BEGIN:VEVENT
DTSTART;TZID=UTC:20250222T203000
DTEND;TZID=UTC:20250222T213000
DTSTAMP:20260425T040917
CREATED:20250217T164200Z
LAST-MODIFIED:20250217T164200Z
UID:5231-1740256200-1740259800@cordobacapitalcofrade.com
SUMMARY:Conferencia "𝐋𝐚 𝐏𝐚𝐬𝐢𝐨́𝐧 𝐝𝐞 𝐥𝐚 𝐕𝐢𝐫𝐠𝐞𝐧\, 𝐞𝐥 𝐝𝐨𝐥𝐨𝐫 𝐝𝐞 𝐮𝐧𝐚 𝐌𝐚𝐝𝐫𝐞"
DESCRIPTION:Conferencia con el título de «𝐋𝐚 𝐏𝐚𝐬𝐢𝐨́𝐧 𝐝𝐞 𝐥𝐚 𝐕𝐢𝐫𝐠𝐞𝐧\, 𝐞𝐥 𝐝𝐨𝐥𝐨𝐫 𝐝𝐞 𝐮𝐧𝐚 𝐌𝐚𝐝𝐫𝐞» a cargo de D. José Sáez Rodríguez\, director del Instituto de Medicina Legal de Córdoba\, a las 20:30 horas en la Parroquia de Santa María de Guadalupe (Franciscanos).
URL:https://cordobacapitalcofrade.com/agenda/conferencia-%f0%9d%90%8b%f0%9d%90%9a-%f0%9d%90%8f%f0%9d%90%9a%f0%9d%90%ac%f0%9d%90%a2%f0%9d%90%a8%f0%9d%90%a7-%f0%9d%90%9d%f0%9d%90%9e-%f0%9d%90%a5%f0%9d%90%9a-%f0%9d%90%95%f0%9d%90%a2/
LOCATION:Parroquia de Santa María de Guadalupe (Franciscanos)\, Av. del 28 de Febrero\, 3\, Levante\, 14007 Córdoba\, Córdoba\, España
CATEGORIES:Conferencia
ATTACH;FMTTYPE=image/png:https://cordobacapitalcofrade.com/wp-content/uploads/2025/02/Captura-de-pantalla-2025-02-17-174119.png
END:VEVENT
BEGIN:VEVENT
DTSTART;TZID=UTC:20250224T203000
DTEND;TZID=UTC:20250224T220000
DTSTAMP:20260425T040917
CREATED:20250220T132502Z
LAST-MODIFIED:20250220T132502Z
UID:5259-1740429000-1740434400@cordobacapitalcofrade.com
SUMMARY:Presentación del Cartel Lunes Santo 2025 de la Hermandad del Vía Crucis y Conferencia "Vía Crucis\, San Álvaro y Córdoba"
DESCRIPTION:Presentación del Cartel Lunes Santo 2025 de la Hermandad del Vía Crucis y Conferencia «Vía Crucis\, San Álvaro y Córdoba» a cargo del Padre Mariano del Prado\, a las 20:30 horas en la Casa de Hdad situada en la C/ Tejón y Marín\, 10.
URL:https://cordobacapitalcofrade.com/agenda/presentacion-del-cartel-lunes-santo-2025-de-la-hermandad-del-via-crucis-y-conferencia-via-crucis-san-alvaro-y-cordoba/
LOCATION:Casa de Hermandad del Vía Crucis\, C/ Tejón y Marín\, 10. 
CATEGORIES:Conferencia,Presentación
ATTACH;FMTTYPE=image/jpeg:https://cordobacapitalcofrade.com/wp-content/uploads/2025/02/476929494_1099456558887007_2862300745859863421_n.jpg
END:VEVENT
END:VCALENDAR