BEGIN:VCALENDAR
VERSION:2.0
PRODID:-//Agenda Cofrade 365 Días - ECPv6.3.7//NONSGML v1.0//EN
CALSCALE:GREGORIAN
METHOD:PUBLISH
X-WR-CALNAME:Agenda Cofrade 365 Días
X-ORIGINAL-URL:https://cordobacapitalcofrade.com
X-WR-CALDESC:Eventos para Agenda Cofrade 365 Días
REFRESH-INTERVAL;VALUE=DURATION:PT1H
X-Robots-Tag:noindex
X-PUBLISHED-TTL:PT1H
BEGIN:VTIMEZONE
TZID:UTC
BEGIN:STANDARD
TZOFFSETFROM:+0000
TZOFFSETTO:+0000
TZNAME:UTC
DTSTART:20250101T000000
END:STANDARD
END:VTIMEZONE
BEGIN:VEVENT
DTSTART;TZID=UTC:20250404T200000
DTEND;TZID=UTC:20250404T211500
DTSTAMP:20260424T224257
CREATED:20250331T152612Z
LAST-MODIFIED:20250331T152612Z
UID:5802-1743796800-1743801300@cordobacapitalcofrade.com
SUMMARY:Conferencia "Experiencia de un Peregrino en Tierra Santa"
DESCRIPTION:Conferencia «Experiencia de un Peregrino en Tierra Santa» a cargo de D. Francisco Durnes Sabán\, a las 20:00 horas en la Fundación Miguel Castillejo sita en la Plaza de las Doblas\, 1.
URL:https://cordobacapitalcofrade.com/agenda/conferencia-experiencia-de-un-peregrino-en-tierra-santa/
LOCATION:Fundación Miguel Castillejo\, Plaza de Las Doblas\, 1\, Centro\, 14001 Córdoba\, Córdoba\, España
CATEGORIES:Conferencia
ATTACH;FMTTYPE=image/jpeg:https://cordobacapitalcofrade.com/wp-content/uploads/2025/03/485401659_996341785964374_7868777105761349851_n.jpg
END:VEVENT
BEGIN:VEVENT
DTSTART;TZID=UTC:20250405T121500
DTEND;TZID=UTC:20250405T133000
DTSTAMP:20260424T224257
CREATED:20250324T162543Z
LAST-MODIFIED:20250326T133307Z
UID:5763-1743855300-1743859800@cordobacapitalcofrade.com
SUMMARY:Conferencia "María como corredentora en la Pasión de Cristo y su presencia en el arte"
DESCRIPTION:Conferencia «María como corredentora en la Pasión de Cristo y su presencia en el arte» a cargo del Historiador D. Jesús Romanov\, a las 12:00 horas en el Convento de Santa Marta.
URL:https://cordobacapitalcofrade.com/agenda/conferencia-maria-como-corredentora-en-la-pasion-de-cristo-y-su-presencia-en-el-arte/
LOCATION:Convento de Santa Marta\, C. Sta. Marta\, 10\, Centro\, 14001 Córdoba\, Córdoba\, Spain
CATEGORIES:Conferencia
ATTACH;FMTTYPE=image/jpeg:https://cordobacapitalcofrade.com/wp-content/uploads/2025/03/480941768_975342924691543_587643196154142118_n.jpg
END:VEVENT
BEGIN:VEVENT
DTSTART;TZID=UTC:20250407T210000
DTEND;TZID=UTC:20250407T220000
DTSTAMP:20260424T224257
CREATED:20250403T154210Z
LAST-MODIFIED:20250403T154210Z
UID:5851-1744059600-1744063200@cordobacapitalcofrade.com
SUMMARY:Conferencia "El proceso de restauración de Nuestro Padre Jesús Humilde en sus Coronación de Espinas"
DESCRIPTION:Conferencia «El proceso de restauración de Nuestro Padre Jesús Humilde en sus Coronación de Espinas» a cargo de la restauradora Dña. Ana Infante de la Torre a las 21:00 horas en el Salón D. Jesús Fernández Paloma en la Casa de Hdad.
URL:https://cordobacapitalcofrade.com/agenda/conferencia-el-proceso-de-restauracion-de-nuestro-padre-jesus-humilde-en-sus-coronacion-de-espinas/
LOCATION:Casa de Hermandad de la Merc\, Av. Agrupación Córdoba\, 11\, Levante\, 14007 Córdoba\, Córdoba\, España
CATEGORIES:Conferencia
ATTACH;FMTTYPE=image/jpeg:https://cordobacapitalcofrade.com/wp-content/uploads/2025/04/487924995_18348650347145556_5029631689393419985_n.jpg
END:VEVENT
END:VCALENDAR