BEGIN:VCALENDAR
VERSION:2.0
PRODID:-//Agenda Cofrade 365 Días - ECPv6.3.7//NONSGML v1.0//EN
CALSCALE:GREGORIAN
METHOD:PUBLISH
X-WR-CALNAME:Agenda Cofrade 365 Días
X-ORIGINAL-URL:https://cordobacapitalcofrade.com
X-WR-CALDESC:Eventos para Agenda Cofrade 365 Días
REFRESH-INTERVAL;VALUE=DURATION:PT1H
X-Robots-Tag:noindex
X-PUBLISHED-TTL:PT1H
BEGIN:VTIMEZONE
TZID:UTC
BEGIN:STANDARD
TZOFFSETFROM:+0000
TZOFFSETTO:+0000
TZNAME:UTC
DTSTART:20250101T000000
END:STANDARD
END:VTIMEZONE
BEGIN:VEVENT
DTSTART;TZID=UTC:20250308T203000
DTEND;TZID=UTC:20250308T213000
DTSTAMP:20260425T024422
CREATED:20250303T172959Z
LAST-MODIFIED:20250303T172959Z
UID:5392-1741465800-1741469400@cordobacapitalcofrade.com
SUMMARY:Conferencia con el título de "La Pasión de Cristo. De la Fe a la ciencia"
DESCRIPTION:Conferencia con el título de «La Pasión de Cristo. De la Fe a la ciencia» a cargo del Dr. Miguel Aguilar Gallego\, a las 20:30 horas en la Parroquia de la Inmaculada Concepción y San Alberto Magno.
URL:https://cordobacapitalcofrade.com/agenda/conferencia-con-el-titulo-de-la-pasion-de-cristo-de-la-fe-a-la-ciencia/
LOCATION:Parroquia de la Inmaculada Concepción y San Alberto Magno\, C. San Diego de Alcalá\, 10\, Poniente Sur\, 14005 Córdoba\, Córdoba\, España
CATEGORIES:Conferencia
ATTACH;FMTTYPE=image/jpeg:https://cordobacapitalcofrade.com/wp-content/uploads/2025/03/481488787_634229119544525_6713243237591221211_n.jpg
END:VEVENT
END:VCALENDAR