BEGIN:VCALENDAR
VERSION:2.0
PRODID:-//Agenda Cofrade 365 Días - ECPv6.3.7//NONSGML v1.0//EN
CALSCALE:GREGORIAN
METHOD:PUBLISH
X-WR-CALNAME:Agenda Cofrade 365 Días
X-ORIGINAL-URL:https://cordobacapitalcofrade.com
X-WR-CALDESC:Eventos para Agenda Cofrade 365 Días
REFRESH-INTERVAL;VALUE=DURATION:PT1H
X-Robots-Tag:noindex
X-PUBLISHED-TTL:PT1H
BEGIN:VTIMEZONE
TZID:UTC
BEGIN:STANDARD
TZOFFSETFROM:+0000
TZOFFSETTO:+0000
TZNAME:UTC
DTSTART:20250101T000000
END:STANDARD
END:VTIMEZONE
BEGIN:VEVENT
DTSTART;TZID=UTC:20250329T203000
DTEND;TZID=UTC:20250329T220000
DTSTAMP:20260425T024425
CREATED:20250326T133129Z
LAST-MODIFIED:20250326T133129Z
UID:5785-1743280200-1743285600@cordobacapitalcofrade.com
SUMMARY:Mesa redonda "El caminar de la Soledad"
DESCRIPTION:Mesa redonda «El caminar de la Soledad» charla-coloquio sobre la historia vivida\, anécdotas y vivencias en torno al paso de María Santísima en su Soledad con la intervención de todos los capataces que ha tenido la Cofradía; D. Francisco Jiménez García (1986-2006)\, D. José Luís Ochoa Navarro (2007-2009)\, D. José Antonio Murillo Paños (2010-2014)\, D. Enrique Garrido Montero (2015-2019) y D. Carlos Lara Luque (2020-actualidad). El acto tendrá lugar a las 20:30 horas en la Casa de Hermandad sita en la C/ Cronista Maraver\, 20.
URL:https://cordobacapitalcofrade.com/agenda/mesa-redonda-el-caminar-de-la-soledad/
LOCATION:Casa Hermandad de la Soledad\, Calle Cronista Maraver\, 20\, Córdoba\, Córdoba\, 14007\, España
CATEGORIES:Conferencia
ATTACH;FMTTYPE=image/jpeg:https://cordobacapitalcofrade.com/wp-content/uploads/2025/03/486517587_18060106043088442_3267901227053977171_n.jpg
END:VEVENT
END:VCALENDAR