BEGIN:VCALENDAR
VERSION:2.0
PRODID:-//Agenda Cofrade 365 Días - ECPv6.3.7//NONSGML v1.0//EN
CALSCALE:GREGORIAN
METHOD:PUBLISH
X-ORIGINAL-URL:https://cordobacapitalcofrade.com
X-WR-CALDESC:Eventos para Agenda Cofrade 365 Días
REFRESH-INTERVAL;VALUE=DURATION:PT1H
X-Robots-Tag:noindex
X-PUBLISHED-TTL:PT1H
BEGIN:VTIMEZONE
TZID:UTC
BEGIN:STANDARD
TZOFFSETFROM:+0000
TZOFFSETTO:+0000
TZNAME:UTC
DTSTART:20240101T000000
END:STANDARD
END:VTIMEZONE
BEGIN:VEVENT
DTSTART;TZID=UTC:20241201T123000
DTEND;TZID=UTC:20241201T133000
DTSTAMP:20260425T175518
CREATED:20241119T215008Z
LAST-MODIFIED:20241119T215008Z
UID:4127-1733056200-1733059800@cordobacapitalcofrade.com
SUMMARY:Función principal María Santísima de Gracia y Amparo
DESCRIPTION:Función principal María Santísima de Gracia y Amparo\, tendrá lugar el 1 de diciembre a las 12:30 horas\, en la Parroquia de San Nicolás de la Villa.
URL:https://cordobacapitalcofrade.com/agenda/funcion-principal-maria-santisima-de-gracia-y-amparo/
LOCATION:Parroquia San Nicolás de la Villa\, Plaza de San Nicolás\, Córdoba\, Córdoba\, 14003\, España
CATEGORIES:Cultos
ATTACH;FMTTYPE=image/jpeg:https://cordobacapitalcofrade.com/wp-content/uploads/2024/11/Triduo-Gracia-y-Amparo-0071-min-scaled-1.jpg
END:VEVENT
BEGIN:VEVENT
DTSTART;TZID=UTC:20241204T193000
DTEND;TZID=UTC:20241206T201500
DTSTAMP:20260425T175518
CREATED:20241127T133337Z
LAST-MODIFIED:20241127T133337Z
UID:4276-1733340600-1733516100@cordobacapitalcofrade.com
SUMMARY:Triduo en honor de Nuestra Señora de la Palma
DESCRIPTION:Triduo en honor de Nuestra Señora de la Palma\, a las 19:30 horas en la Real Parroquia de San Lorenzo Mártir.
URL:https://cordobacapitalcofrade.com/agenda/triduo-en-honor-de-nuestra-senora-de-la-palma/
LOCATION:Real Parroquia de San Lorenzo Mártir\, Pl. de San Lorenzo\, 5\, Córdoba\, España
CATEGORIES:Cultos
ATTACH;FMTTYPE=image/jpeg:https://cordobacapitalcofrade.com/wp-content/uploads/2024/11/407131508_365169759360126_5464617084536688545_n.jpg
END:VEVENT
BEGIN:VEVENT
DTSTART;TZID=UTC:20241204T203000
DTEND;TZID=UTC:20241206T210000
DTSTAMP:20260425T175518
CREATED:20241113T160049Z
LAST-MODIFIED:20241113T160049Z
UID:4032-1733344200-1733518800@cordobacapitalcofrade.com
SUMMARY:Solemne Triduo en honor de María Santísima de la Trinidad
DESCRIPTION:Solemne Triduo en honor de María Santísima de la Trinidad\, a las 20:30 horas en la Parroquia de San Juan y Todos los Santos (Trinidad).
URL:https://cordobacapitalcofrade.com/agenda/solemne-triduo-en-honor-de-maria-santisima-de-la-trinidad/
LOCATION:Parroquia de la Trinidad\, Plaza de la Trinidad\, Córdoba\, España
CATEGORIES:Cultos
ATTACH;FMTTYPE=image/jpeg:https://cordobacapitalcofrade.com/wp-content/uploads/2024/11/407846295_743219221172985_3549523620345327333_n.jpg
END:VEVENT
BEGIN:VEVENT
DTSTART;TZID=UTC:20241205T193000
DTEND;TZID=UTC:20241207T201500
DTSTAMP:20260425T175518
CREATED:20241127T135815Z
LAST-MODIFIED:20241127T135815Z
UID:4284-1733427000-1733602500@cordobacapitalcofrade.com
SUMMARY:Solemne Triduo de María Santísima de la Concepción
DESCRIPTION:Solemne Triduo de María Santísima de la Concepción\, a las 19:30 horas en la Parroquia de Santiago Apóstol.
URL:https://cordobacapitalcofrade.com/agenda/solemne-triduo-de-maria-santisima-de-la-concepcion-2/
LOCATION:Parroquia de Santiago Apóstol\, C. de Agustín Moreno\, 26\, 14002 Córdoba\, Córdoba\, España
CATEGORIES:Cultos
ATTACH;FMTTYPE=image/jpeg:https://cordobacapitalcofrade.com/wp-content/uploads/2024/11/405427128_786826503489576_3333042099333419262_n.jpg
END:VEVENT
BEGIN:VEVENT
DTSTART;TZID=UTC:20241205T200000
DTEND;TZID=UTC:20241207T204500
DTSTAMP:20260425T175518
CREATED:20241129T160704Z
LAST-MODIFIED:20241129T160704Z
UID:4339-1733428800-1733604300@cordobacapitalcofrade.com
SUMMARY:Solemne Triduo a la Inmaculada Concepción
DESCRIPTION:Solemne Triduo a la Inmaculada Concepción a las 20:00 horas en la Iglesia de la Compañía.
URL:https://cordobacapitalcofrade.com/agenda/solemne-triduo-a-la-inmaculada-concepcion/
LOCATION:Parroquia de El Salvador y Santo Domingo de Silos (La Compañía)\, Plaza de la Compañía\, 7\, Córdoba\, Córdoba\, 14002\, España
CATEGORIES:Cultos
ATTACH;FMTTYPE=image/jpeg:https://cordobacapitalcofrade.com/wp-content/uploads/2024/11/Triduo-Inmaculada-Concepcion-0061-min-scaled.jpg
END:VEVENT
BEGIN:VEVENT
DTSTART;TZID=UTC:20241205T201500
DTEND;TZID=UTC:20241207T211500
DTSTAMP:20260425T175518
CREATED:20241125T144053Z
LAST-MODIFIED:20241125T144053Z
UID:4230-1733429700-1733606100@cordobacapitalcofrade.com
SUMMARY:Solemne Triduo en honor de Nuestra Señora Reina de los Ángeles
DESCRIPTION:Solemne Triduo en honor de Nuestra Señora Reina de los Ángeles\, a las 20:15 horas en la Iglesia Conventual del Santo Ángel (Capuchinos).
URL:https://cordobacapitalcofrade.com/agenda/solemne-triduo-en-honor-de-nuestra-senora-reina-de-los-angeles/
LOCATION:Iglesia Conventual del Santo Ángel (Capuchinos)\, Pl. de Capuchinos\, 5\, Córdoba\, España
CATEGORIES:Cultos
ATTACH;FMTTYPE=image/jpeg:https://cordobacapitalcofrade.com/wp-content/uploads/2024/11/Besamanos-Reina-de-los-Angeles-0378-min-scaled.jpg
END:VEVENT
BEGIN:VEVENT
DTSTART;TZID=UTC:20241205T203000
DTEND;TZID=UTC:20241207T213000
DTSTAMP:20260425T175518
CREATED:20241122T133056Z
LAST-MODIFIED:20241122T133056Z
UID:4185-1733430600-1733607000@cordobacapitalcofrade.com
SUMMARY:Triduo de María Santísima de la Alegría
DESCRIPTION:Triduo de María Santísima de la Alegría\, tendrá lugar los días 5\, 6 y 7 de diciembre a las 20:30 horas\, en la Parroquia de Santa Marina de Aguas Santas.
URL:https://cordobacapitalcofrade.com/agenda/triduo-de-maria-santisima-de-la-alegria/
LOCATION:Parroquia de Santa Marina de Aguas Santas\, Pl. de Sta. Marina\, 6\, 14001 Córdoba\, Córdoba\, España
CATEGORIES:Cultos
ATTACH;FMTTYPE=image/webp:https://cordobacapitalcofrade.com/wp-content/uploads/2024/11/Triduo-Alegria-0181.webp
END:VEVENT
BEGIN:VEVENT
DTSTART;VALUE=DATE:20241206
DTEND;VALUE=DATE:20241209
DTSTAMP:20260425T175518
CREATED:20241130T150613Z
LAST-MODIFIED:20241130T150613Z
UID:4378-1733443200-1733702399@cordobacapitalcofrade.com
SUMMARY:Triduo en Honor a la Virgen de la Cabeza
DESCRIPTION:Triduo en Honor a la Virgen de la Cabeza\, tendrá lugar los días 6 y 7 de diciembre a las 19:30 horas el rezo del Santo Rosario y a las 20 horas la Eucaristía. \nEl día 8 de diciembre a las 12 horas rezo del Santo Rosario y a las 12:30 Eucaristía.
URL:https://cordobacapitalcofrade.com/agenda/triduo-en-honor-a-la-virgen-de-la-cabeza/
LOCATION:Parroquia de San Francisco y San Eulogio\, C. Compás de San Francisco\, 0\, Córdoba\, España
CATEGORIES:Cultos
ATTACH;FMTTYPE=image/jpeg:https://cordobacapitalcofrade.com/wp-content/uploads/2024/11/WhatsApp-Image-2024-11-30-at-12.24.12.jpeg
END:VEVENT
BEGIN:VEVENT
DTSTART;TZID=UTC:20241206T110000
DTEND;TZID=UTC:20241206T120000
DTSTAMP:20260425T175518
CREATED:20241202T161118Z
LAST-MODIFIED:20241202T161118Z
UID:4457-1733482800-1733486400@cordobacapitalcofrade.com
SUMMARY:Segundo día del Solemne Triduo de la Purísima Concepción de Linares Coronada
DESCRIPTION:Segundo día del Solemne Triduo de la Purísima Concepción de Linares Coronada a las 11:00 horas en el Santuario de Linares. 
URL:https://cordobacapitalcofrade.com/agenda/segundo-dia-del-solemne-triduo-de-la-purisima-concepcion-de-linares-coronada/
LOCATION:Santuario de Nuestra Señora de Linares\, Carretera del Santuario de Linares\, 14029 Córdoba\, Córdoba\, España
CATEGORIES:Cultos
ATTACH;FMTTYPE=image/jpeg:https://cordobacapitalcofrade.com/wp-content/uploads/2024/12/469044597_1004156135091539_5322425384997560622_n.jpg
END:VEVENT
BEGIN:VEVENT
DTSTART;TZID=UTC:20241206T190000
DTEND;TZID=UTC:20241207T200000
DTSTAMP:20260425T175518
CREATED:20241129T154208Z
LAST-MODIFIED:20241129T154208Z
UID:4321-1733511600-1733601600@cordobacapitalcofrade.com
SUMMARY:Triduo de María Santísima del Dulce Nombre
DESCRIPTION:Triduo de María Santísima del Dulce Nombre\, a las 19:00 horas en la Parroquia de San José y Espíritu Santo.
URL:https://cordobacapitalcofrade.com/agenda/triduo-de-maria-santisima-del-dulce-nombre/
LOCATION:Parroquia de San José y Espíritu Santo\, Pl. de Santa Teresa\, 1\, Córdoba\, España
CATEGORIES:Cultos
ATTACH;FMTTYPE=image/jpeg:https://cordobacapitalcofrade.com/wp-content/uploads/2024/11/407905871_727828632703090_7088087702384215217_n.jpg
END:VEVENT
BEGIN:VEVENT
DTSTART;TZID=UTC:20241206T200000
DTEND;TZID=UTC:20241206T213000
DTSTAMP:20260425T175518
CREATED:20241119T223027Z
LAST-MODIFIED:20241119T223027Z
UID:4138-1733515200-1733520600@cordobacapitalcofrade.com
SUMMARY:Función a San Nicolás
DESCRIPTION:Función a San Nicolás\, tendrá lugar el 6 de diciembre a las 20 horas\, en la Parroquia de San Nicolás de la Villa.
URL:https://cordobacapitalcofrade.com/agenda/funcion-a-san-nicolas/
LOCATION:Parroquia San Nicolás de la Villa\, Plaza de San Nicolás\, Córdoba\, Córdoba\, 14003\, España
CATEGORIES:Cultos
ATTACH;FMTTYPE=image/jpeg:https://cordobacapitalcofrade.com/wp-content/uploads/2024/11/IGLESIA_FERNANDINA_SAN_NICOLAS_VILLA_CORDOBA_10.jpg
END:VEVENT
BEGIN:VEVENT
DTSTART;TZID=UTC:20241207T170000
DTEND;TZID=UTC:20241207T203000
DTSTAMP:20260425T175518
CREATED:20241113T160542Z
LAST-MODIFIED:20241113T160542Z
UID:4037-1733590800-1733603400@cordobacapitalcofrade.com
SUMMARY:Besamanos de María Santísima de la Trinidad
DESCRIPTION:Besamanos de María Santísima de la Trinidad en horario de 17:00 a 20:30 horas en la Parroquia de San Juan y Todos los Santos (Trinidad).
URL:https://cordobacapitalcofrade.com/agenda/besamanos-de-maria-santisima-de-la-trinidad-3/
LOCATION:Parroquia de la Trinidad\, Plaza de la Trinidad\, Córdoba\, España
CATEGORIES:Cultos
ATTACH;FMTTYPE=image/jpeg:https://cordobacapitalcofrade.com/wp-content/uploads/2024/11/Besamanos-Trinidad-0323-min-scaled.jpg
END:VEVENT
BEGIN:VEVENT
DTSTART;TZID=UTC:20241207T183000
DTEND;TZID=UTC:20241207T203000
DTSTAMP:20260425T175518
CREATED:20241108T132029Z
LAST-MODIFIED:20241108T132029Z
UID:3963-1733596200-1733603400@cordobacapitalcofrade.com
SUMMARY:Besamanos de Nuestra Señora del Mayor Dolor en su Soledad
DESCRIPTION:Besamanos de Nuestra Señora del Mayor Dolor en su Soledad en horario de 18:30 a 20:30 horas en el Santuario de Nuestra Señora del Carmen (San Cayetano).
URL:https://cordobacapitalcofrade.com/agenda/besamanos-de-nuestra-senora-del-mayor-dolor-en-su-soledad-3/
LOCATION:Santuario de Nuestra Señora del Carmen\, C. Cta. de San Cayetano\, Centro\, 14001 Córdoba\, Córdoba\, España
CATEGORIES:Cultos
ATTACH;FMTTYPE=image/jpeg:https://cordobacapitalcofrade.com/wp-content/uploads/2024/11/Besamanos-Soledad-0074-min-scaled.jpg
END:VEVENT
BEGIN:VEVENT
DTSTART;TZID=UTC:20241207T193000
DTEND;TZID=UTC:20241207T203000
DTSTAMP:20260425T175518
CREATED:20241113T160209Z
LAST-MODIFIED:20241113T160209Z
UID:4035-1733599800-1733603400@cordobacapitalcofrade.com
SUMMARY:Función Principal de María Santísima de la Trinidad
DESCRIPTION:Función Principal de María Santísima de la Trinidad\, a las 19:30 horas en la Parroquia de San Juan y Todos los Santos (Trinidad).
URL:https://cordobacapitalcofrade.com/agenda/funcion-principal-de-maria-santisima-de-la-trinidad-2/
LOCATION:Parroquia de la Trinidad\, Plaza de la Trinidad\, Córdoba\, España
CATEGORIES:Cultos
ATTACH;FMTTYPE=image/jpeg:https://cordobacapitalcofrade.com/wp-content/uploads/2024/11/407846295_743219221172985_3549523620345327333_n.jpg
END:VEVENT
BEGIN:VEVENT
DTSTART;TZID=UTC:20241207T203000
DTEND;TZID=UTC:20241207T213000
DTSTAMP:20260425T175518
CREATED:20241127T133505Z
LAST-MODIFIED:20241127T133505Z
UID:4279-1733603400-1733607000@cordobacapitalcofrade.com
SUMMARY:Función Principal de Nuestra Señora de la Palma
DESCRIPTION:Función Principal de Nuestra Señora de la Palma\, a las 20:30 horas en la Real Parroquia de San Lorenzo Mártir.
URL:https://cordobacapitalcofrade.com/agenda/funcion-principal-de-nuestra-senora-de-la-palma-2/
LOCATION:Real Parroquia de San Lorenzo Mártir\, Pl. de San Lorenzo\, 5\, Córdoba\, España
CATEGORIES:Cultos
ATTACH;FMTTYPE=image/jpeg:https://cordobacapitalcofrade.com/wp-content/uploads/2024/11/407131508_365169759360126_5464617084536688545_n.jpg
END:VEVENT
BEGIN:VEVENT
DTSTART;VALUE=DATE:20241208
DTEND;VALUE=DATE:20241209
DTSTAMP:20260425T175518
CREATED:20241125T144439Z
LAST-MODIFIED:20241125T144439Z
UID:4235-1733616000-1733702399@cordobacapitalcofrade.com
SUMMARY:Besamanos de Nuestra Señora Reina de los Ángeles
DESCRIPTION:Besamanos de Nuestra Señora Reina de los Ángeles durante el día en horario de Misas en la Iglesia Conventual del Santo Ángel (Capuchinos).
URL:https://cordobacapitalcofrade.com/agenda/besamanos-de-nuestra-senora-reina-de-los-angeles/
LOCATION:Iglesia Conventual del Santo Ángel (Capuchinos)\, Pl. de Capuchinos\, 5\, Córdoba\, España
CATEGORIES:Cultos
ATTACH;FMTTYPE=image/jpeg:https://cordobacapitalcofrade.com/wp-content/uploads/2024/11/Besamanos-Reina-de-los-Angeles-0378-min-scaled.jpg
END:VEVENT
BEGIN:VEVENT
DTSTART;VALUE=DATE:20241208
DTEND;VALUE=DATE:20241209
DTSTAMP:20260425T175518
CREATED:20241127T140122Z
LAST-MODIFIED:20241127T140122Z
UID:4290-1733616000-1733702399@cordobacapitalcofrade.com
SUMMARY:Besamanos de María Santísima de la Concepción
DESCRIPTION:Besamanos de María Santísima de la Concepción durante todo el día en la Parroquia de Santiago Apóstol.
URL:https://cordobacapitalcofrade.com/agenda/besamanos-de-maria-santisima-de-la-concepcion-2/
LOCATION:Parroquia de Santiago Apóstol\, C. de Agustín Moreno\, 26\, 14002 Córdoba\, Córdoba\, España
CATEGORIES:Cultos
ATTACH;FMTTYPE=image/jpeg:https://cordobacapitalcofrade.com/wp-content/uploads/2024/11/406503456_788956309943262_4278352706214929222_n.jpg
END:VEVENT
BEGIN:VEVENT
DTSTART;VALUE=DATE:20241208
DTEND;VALUE=DATE:20241209
DTSTAMP:20260425T175518
CREATED:20241202T162004Z
LAST-MODIFIED:20241202T162004Z
UID:4468-1733616000-1733702399@cordobacapitalcofrade.com
SUMMARY:Solemne Besamanos de Nuestra Señora de la Salud
DESCRIPTION:Solemne Besamanos de Nuestra Señora de la Salud durante todo el día en la Parroquia de Santa Victoria.
URL:https://cordobacapitalcofrade.com/agenda/solemne-besamanos-de-nuestra-senora-de-la-salud/
LOCATION:Parroquia de Santa Victoria\, C. Párroco Agustín Molina\, 20\, Nte. Sierra\, 14960 Córdoba\, Córdoba\, España
CATEGORIES:Cultos
ATTACH;FMTTYPE=image/jpeg:https://cordobacapitalcofrade.com/wp-content/uploads/2024/12/Besamanos-Salud-0736-min-scaled.jpg
END:VEVENT
BEGIN:VEVENT
DTSTART;TZID=UTC:20241208T093000
DTEND;TZID=UTC:20241208T200000
DTSTAMP:20260425T175518
CREATED:20241202T161819Z
LAST-MODIFIED:20241202T161819Z
UID:4465-1733650200-1733688000@cordobacapitalcofrade.com
SUMMARY:Besamanos de María Santísima de la Encarnación
DESCRIPTION:Besamanos de María Santísima de la Encarnación en horario de 09:30 a 14:00 horas y de 17:00 a 20:00 horas en la Parroquia de Jesús Divino Obrero.
URL:https://cordobacapitalcofrade.com/agenda/besamanos-de-maria-santisima-de-la-encarnacion/
LOCATION:Parroquia de Jesús Divino Obrero\, C. Beato Henares\, 1\, Córdoba\, España
CATEGORIES:Cultos
ATTACH;FMTTYPE=image/jpeg:https://cordobacapitalcofrade.com/wp-content/uploads/2024/12/Besamanos-Encarnacion-0653-min-scaled.jpg
END:VEVENT
BEGIN:VEVENT
DTSTART;TZID=UTC:20241208T093000
DTEND;TZID=UTC:20241208T203000
DTSTAMP:20260425T175518
CREATED:20241113T160652Z
LAST-MODIFIED:20241113T160652Z
UID:4040-1733650200-1733689800@cordobacapitalcofrade.com
SUMMARY:Besamanos de María Santísima de la Trinidad
DESCRIPTION:Besamanos de María Santísima de la Trinidad en horario de 09:30 a 14:00 horas y de 17:00 a 20:30 horas en la Parroquia de San Juan y Todos los Santos (Trinidad).
URL:https://cordobacapitalcofrade.com/agenda/besamanos-de-maria-santisima-de-la-trinidad-4/
LOCATION:Parroquia de la Trinidad\, Plaza de la Trinidad\, Córdoba\, España
CATEGORIES:Cultos
ATTACH;FMTTYPE=image/jpeg:https://cordobacapitalcofrade.com/wp-content/uploads/2024/11/Besamanos-Trinidad-0323-min-scaled.jpg
END:VEVENT
BEGIN:VEVENT
DTSTART;TZID=UTC:20241208T100000
DTEND;TZID=UTC:20241208T210000
DTSTAMP:20260425T175518
CREATED:20241127T133821Z
LAST-MODIFIED:20241127T133821Z
UID:4281-1733652000-1733691600@cordobacapitalcofrade.com
SUMMARY:Besamanos de Nuestra Señora de la Palma
DESCRIPTION:Besamanos de Nuestra Señora de la Palma en horario de 10:00 a 14:00 horas y de 18:00 a 21:00 horas en la Real Parroquia de San Lorenzo Mártir.
URL:https://cordobacapitalcofrade.com/agenda/besamanos-de-nuestra-senora-de-la-palma-2/
LOCATION:Real Parroquia de San Lorenzo Mártir\, Pl. de San Lorenzo\, 5\, Córdoba\, España
CATEGORIES:Cultos
ATTACH;FMTTYPE=image/jpeg:https://cordobacapitalcofrade.com/wp-content/uploads/2024/11/Besamanos-Palma-0592-min-scaled.jpg
END:VEVENT
BEGIN:VEVENT
DTSTART;TZID=UTC:20241208T103000
DTEND;TZID=UTC:20241208T200000
DTSTAMP:20260425T175518
CREATED:20241129T154514Z
LAST-MODIFIED:20241129T154514Z
UID:4326-1733653800-1733688000@cordobacapitalcofrade.com
SUMMARY:Besamanos de María Santísima del Dulce Nombre
DESCRIPTION:Besamanos de María Santísima del Dulce Nombre en horario de 10:30 a 14:00 horas y de 17:00 a 20:00 horas en la Parroquia de San José y Espíritu Santo.
URL:https://cordobacapitalcofrade.com/agenda/besamanos-de-maria-santisima-del-dulce-nombre/
LOCATION:Parroquia de San José y Espíritu Santo\, Pl. de Santa Teresa\, 1\, Córdoba\, España
CATEGORIES:Cultos
ATTACH;FMTTYPE=image/jpeg:https://cordobacapitalcofrade.com/wp-content/uploads/2024/11/406812738_727335772752376_6526667162046546932_n.jpg
END:VEVENT
BEGIN:VEVENT
DTSTART;TZID=UTC:20241208T110000
DTEND;TZID=UTC:20241208T120000
DTSTAMP:20260425T175518
CREATED:20241202T161222Z
LAST-MODIFIED:20241202T161222Z
UID:4460-1733655600-1733659200@cordobacapitalcofrade.com
SUMMARY:Tercer día del Solemne Triduo de la Purísima Concepción de Linares Coronada
DESCRIPTION:Tercer día del Solemne Triduo de la Purísima Concepción de Linares Coronada a las 11:00 horas en el Santuario de Linares.
URL:https://cordobacapitalcofrade.com/agenda/tercer-dia-del-solemne-triduo-de-la-purisima-concepcion-de-linares-coronada/
LOCATION:Santuario de Nuestra Señora de Linares\, Carretera del Santuario de Linares\, 14029 Córdoba\, Córdoba\, España
CATEGORIES:Cultos
ATTACH;FMTTYPE=image/jpeg:https://cordobacapitalcofrade.com/wp-content/uploads/2024/12/469044597_1004156135091539_5322425384997560622_n.jpg
END:VEVENT
BEGIN:VEVENT
DTSTART;TZID=UTC:20241208T110000
DTEND;TZID=UTC:20241208T203000
DTSTAMP:20260425T175518
CREATED:20241108T132156Z
LAST-MODIFIED:20241108T132156Z
UID:3966-1733655600-1733689800@cordobacapitalcofrade.com
SUMMARY:Besamanos de Nuestra Señora del Mayor Dolor en su Soledad
DESCRIPTION:Besamanos de Nuestra Señora del Mayor Dolor en su Soledad en horario de 11:00 a 14:00 horas y de 18:00 a 20:30 horas en el Santuario de Nuestra Señora del Carmen (San Cayetano).
URL:https://cordobacapitalcofrade.com/agenda/besamanos-de-nuestra-senora-del-mayor-dolor-en-su-soledad-4/
LOCATION:Santuario de Nuestra Señora del Carmen\, C. Cta. de San Cayetano\, Centro\, 14001 Córdoba\, Córdoba\, España
CATEGORIES:Cultos
ATTACH;FMTTYPE=image/jpeg:https://cordobacapitalcofrade.com/wp-content/uploads/2024/11/Besamanos-Soledad-0074-min-scaled.jpg
END:VEVENT
BEGIN:VEVENT
DTSTART;TZID=UTC:20241208T113000
DTEND;TZID=UTC:20241208T123000
DTSTAMP:20260425T175518
CREATED:20241129T154344Z
LAST-MODIFIED:20241129T154344Z
UID:4324-1733657400-1733661000@cordobacapitalcofrade.com
SUMMARY:Triduo de María Santísima del Dulce Nombre
DESCRIPTION:Triduo de María Santísima del Dulce Nombre\, a las 11:30 horas en la Parroquia de San José y Espíritu Santo.
URL:https://cordobacapitalcofrade.com/agenda/triduo-de-maria-santisima-del-dulce-nombre-2/
LOCATION:Parroquia de San José y Espíritu Santo\, Pl. de Santa Teresa\, 1\, Córdoba\, España
CATEGORIES:Cultos
ATTACH;FMTTYPE=image/jpeg:https://cordobacapitalcofrade.com/wp-content/uploads/2024/11/407905871_727828632703090_7088087702384215217_n.jpg
END:VEVENT
BEGIN:VEVENT
DTSTART;TZID=UTC:20241208T120000
DTEND;TZID=UTC:20241208T124500
DTSTAMP:20260425T175518
CREATED:20241202T162144Z
LAST-MODIFIED:20241202T162144Z
UID:4471-1733659200-1733661900@cordobacapitalcofrade.com
SUMMARY:Fiesta Solemne de la Inmaculada Concepción de Nuestra Señora en la Hermandad de Villaviciosa
DESCRIPTION:Fiesta Solemne de la Inmaculada Concepción de Nuestra Señora\, a las 12:00 horas en la Real Parroquia de San Lorenzo Mártir.
URL:https://cordobacapitalcofrade.com/agenda/fiesta-solemne-de-la-inmaculada-concepcion-de-nuestra-senora-en-la-hermandad-de-villaviciosa/
LOCATION:Real Parroquia de San Lorenzo Mártir\, Pl. de San Lorenzo\, 5\, Córdoba\, España
CATEGORIES:Cultos
ATTACH;FMTTYPE=image/jpeg:https://cordobacapitalcofrade.com/wp-content/uploads/2024/12/468285533_969936345175360_7188073138744485004_n.jpg
END:VEVENT
BEGIN:VEVENT
DTSTART;TZID=UTC:20241208T123000
DTEND;TZID=UTC:20241208T133000
DTSTAMP:20260425T175518
CREATED:20241122T133425Z
LAST-MODIFIED:20241122T133425Z
UID:4188-1733661000-1733664600@cordobacapitalcofrade.com
SUMMARY:Comunión General de Hermanos (Hdad. Resucitado)
DESCRIPTION:Comunión General de Hermanos (Hdad. Resucitado)\, tendrá lugar el día 8 de diciembre a las 12:30 horas\, en la Parroquia de Santa Marina de Aguas Santas.
URL:https://cordobacapitalcofrade.com/agenda/comunion-general-de-hermanos-hdad-resucitado/
LOCATION:Parroquia de Santa Marina de Aguas Santas\, Pl. de Sta. Marina\, 6\, 14001 Córdoba\, Córdoba\, España
CATEGORIES:Cultos
ATTACH;FMTTYPE=image/webp:https://cordobacapitalcofrade.com/wp-content/uploads/2024/11/Triduo-Alegria-0153.webp
END:VEVENT
BEGIN:VEVENT
DTSTART;TZID=UTC:20241208T123000
DTEND;TZID=UTC:20241208T133000
DTSTAMP:20260425T175518
CREATED:20241125T144307Z
LAST-MODIFIED:20241125T144307Z
UID:4233-1733661000-1733664600@cordobacapitalcofrade.com
SUMMARY:Función Solemne de Nuestra Señora Reina de los Ángeles y XLVIII Aniversario de la Hermandad
DESCRIPTION:Función Solemne de Nuestra Señora Reina de los Ángeles y XLVIII Aniversario de la Hermandad\, a las 12:30 horas en la Iglesia Conventual del Santo Ángel (Capuchinos).
URL:https://cordobacapitalcofrade.com/agenda/funcion-solemne-de-nuestra-senora-reina-de-los-angeles-y-xlviii-aniversario-de-la-hermandad/
LOCATION:Iglesia Conventual del Santo Ángel (Capuchinos)\, Pl. de Capuchinos\, 5\, Córdoba\, España
CATEGORIES:Cultos
ATTACH;FMTTYPE=image/jpeg:https://cordobacapitalcofrade.com/wp-content/uploads/2024/11/Besamanos-Reina-de-los-Angeles-0378-min-scaled.jpg
END:VEVENT
BEGIN:VEVENT
DTSTART;TZID=UTC:20241208T130000
DTEND;TZID=UTC:20241208T140000
DTSTAMP:20260425T175518
CREATED:20241127T135959Z
LAST-MODIFIED:20241127T135959Z
UID:4288-1733662800-1733666400@cordobacapitalcofrade.com
SUMMARY:Función Solemne de María Santísima de la Concepción
DESCRIPTION:Función Solemne de María Santísima de la Concepción\, a las 13:00 horas en la Parroquia de Santiago Apóstol.
URL:https://cordobacapitalcofrade.com/agenda/funcion-solemne-de-maria-santisima-de-la-concepcion/
LOCATION:Parroquia de Santiago Apóstol\, C. de Agustín Moreno\, 26\, 14002 Córdoba\, Córdoba\, España
CATEGORIES:Cultos
ATTACH;FMTTYPE=image/jpeg:https://cordobacapitalcofrade.com/wp-content/uploads/2024/11/405427128_786826503489576_3333042099333419262_n.jpg
END:VEVENT
BEGIN:VEVENT
DTSTART;TZID=UTC:20241208T133000
DTEND;TZID=UTC:20241208T143000
DTSTAMP:20260425T175518
CREATED:20241129T160826Z
LAST-MODIFIED:20241129T160826Z
UID:4342-1733664600-1733668200@cordobacapitalcofrade.com
SUMMARY:Fiesta de Regla en honor a la Inmaculada Concepción
DESCRIPTION:Fiesta de Regla en honor a la Inmaculada Concepción a las 13:30 horas en la Parroquia de la Compañía.
URL:https://cordobacapitalcofrade.com/agenda/fiesta-de-regla-en-honor-a-la-inmaculada-concepcion/
LOCATION:Parroquia Salvador y Santo Domingo de Silos (Compañía)\, Pl. de la Compañía\, 7\, Córdoba\, España
CATEGORIES:Cultos
ATTACH;FMTTYPE=image/jpeg:https://cordobacapitalcofrade.com/wp-content/uploads/2024/11/Triduo-Inmaculada-Concepcion-0061-min-scaled.jpg
END:VEVENT
END:VCALENDAR