BEGIN:VCALENDAR
VERSION:2.0
PRODID:-//Agenda Cofrade 365 Días - ECPv6.3.7//NONSGML v1.0//EN
CALSCALE:GREGORIAN
METHOD:PUBLISH
X-WR-CALNAME:Agenda Cofrade 365 Días
X-ORIGINAL-URL:https://cordobacapitalcofrade.com
X-WR-CALDESC:Eventos para Agenda Cofrade 365 Días
REFRESH-INTERVAL;VALUE=DURATION:PT1H
X-Robots-Tag:noindex
X-PUBLISHED-TTL:PT1H
BEGIN:VTIMEZONE
TZID:UTC
BEGIN:STANDARD
TZOFFSETFROM:+0000
TZOFFSETTO:+0000
TZNAME:UTC
DTSTART:20250101T000000
END:STANDARD
END:VTIMEZONE
BEGIN:VEVENT
DTSTART;TZID=UTC:20250707T194500
DTEND;TZID=UTC:20250715T210000
DTSTAMP:20260421T141738
CREATED:20250701T152743Z
LAST-MODIFIED:20250701T152743Z
UID:6390-1751917500-1752613200@cordobacapitalcofrade.com
SUMMARY:Solemne Novena en honor de Nuestra Señora del Carmen Coronada
DESCRIPTION:Solemne Novena en honor de Nuestra Señora del Carmen Coronada\, a las 20:30 horas en el Santuario de Nuestra Señora del Carmen (San Cayetano). Previamente\, a las 19:45 horas Exposición del Santísimo y Rezo del Santo Rosario.
URL:https://cordobacapitalcofrade.com/agenda/solemne-novena-en-honor-de-nuestra-senora-del-carmen-coronada-2/
LOCATION:Santuario de Nuestra Señora del Carmen\, C. Cta. de San Cayetano\, Centro\, 14001 Córdoba\, Córdoba\, España
CATEGORIES:Cultos
ATTACH;FMTTYPE=image/jpeg:https://cordobacapitalcofrade.com/wp-content/uploads/2025/07/488225568_1069817131847143_654309739030318511_n.jpg
END:VEVENT
BEGIN:VEVENT
DTSTART;TZID=UTC:20250707T200000
DTEND;TZID=UTC:20250715T211500
DTSTAMP:20260421T141738
CREATED:20250706T114450Z
LAST-MODIFIED:20250706T114450Z
UID:6414-1751918400-1752614100@cordobacapitalcofrade.com
SUMMARY:Novena en honor de Nuestra Señora del Carmen
DESCRIPTION:Novena en honor de Nuestra Señora del Carmen\, a las 20:00 horas en la Parroquia de Nuestra Señora del Carmen.
URL:https://cordobacapitalcofrade.com/agenda/novena-en-honor-de-nuestra-senora-del-carmen/
LOCATION:Parroquia de Nuestra Señora del Carmen\, C. Rd. de Andújar\,23\, Córdoba\, España
CATEGORIES:Cultos
ATTACH;FMTTYPE=image/jpeg:https://cordobacapitalcofrade.com/wp-content/uploads/2025/07/481238245_665246029493689_7640191006977982455_n.jpg
END:VEVENT
BEGIN:VEVENT
DTSTART;TZID=UTC:20250712T180000
DTEND;TZID=UTC:20250712T210000
DTSTAMP:20260421T141738
CREATED:20250701T153216Z
LAST-MODIFIED:20250701T153216Z
UID:6393-1752343200-1752354000@cordobacapitalcofrade.com
SUMMARY:Besamanos de Nuestra Señora del Carmen Coronada
DESCRIPTION:Besamanos de Nuestra Señora del Carmen Coronada en horario de 18:00 a 21:00 horas en el Santuario de Nuestra Señora del Carmen (San Cayetano).
URL:https://cordobacapitalcofrade.com/agenda/besamanos-de-nuestra-senora-del-carmen-coronada-3/
LOCATION:Santuario de Nuestra Señora del Carmen\, C. Cta. de San Cayetano\, Centro\, 14001 Córdoba\, Córdoba\, España
CATEGORIES:Cultos
ATTACH;FMTTYPE=image/jpeg:https://cordobacapitalcofrade.com/wp-content/uploads/2025/07/486407271_1062884065873783_3515954896658132640_n.jpg
END:VEVENT
BEGIN:VEVENT
DTSTART;TZID=UTC:20250713T100000
DTEND;TZID=UTC:20250713T210000
DTSTAMP:20260421T141738
CREATED:20250701T153337Z
LAST-MODIFIED:20250701T153337Z
UID:6396-1752400800-1752440400@cordobacapitalcofrade.com
SUMMARY:Besamanos de Nuestra Señora del Carmen Coronada
DESCRIPTION:Besamanos de Nuestra Señora del Carmen Coronada en horario de 10:00 a 14:00 horas y de 18:00 a 21:00 horas en el Santuario de Nuestra Señora del Carmen (San Cayetano).
URL:https://cordobacapitalcofrade.com/agenda/besamanos-de-nuestra-senora-del-carmen-coronada-4/
LOCATION:Santuario de Nuestra Señora del Carmen\, C. Cta. de San Cayetano\, Centro\, 14001 Córdoba\, Córdoba\, España
CATEGORIES:Cultos
ATTACH;FMTTYPE=image/jpeg:https://cordobacapitalcofrade.com/wp-content/uploads/2025/07/486407271_1062884065873783_3515954896658132640_n.jpg
END:VEVENT
BEGIN:VEVENT
DTSTART;TZID=UTC:20250714T180000
DTEND;TZID=UTC:20250714T210000
DTSTAMP:20260421T141738
CREATED:20250701T153446Z
LAST-MODIFIED:20250701T153446Z
UID:6401-1752516000-1752526800@cordobacapitalcofrade.com
SUMMARY:Besamanos de Nuestra Señora del Carmen Coronada
DESCRIPTION:Besamanos de Nuestra Señora del Carmen Coronada en horario de 18:00 a 21:00 horas en el Santuario de Nuestra Señora del Carmen (San Cayetano).
URL:https://cordobacapitalcofrade.com/agenda/besamanos-de-nuestra-senora-del-carmen-coronada-5/
LOCATION:Santuario de Nuestra Señora del Carmen\, C. Cta. de San Cayetano\, Centro\, 14001 Córdoba\, Córdoba\, España
CATEGORIES:Cultos
ATTACH;FMTTYPE=image/jpeg:https://cordobacapitalcofrade.com/wp-content/uploads/2025/07/486407271_1062884065873783_3515954896658132640_n.jpg
END:VEVENT
BEGIN:VEVENT
DTSTART;TZID=UTC:20250716T120000
DTEND;TZID=UTC:20250716T130000
DTSTAMP:20260421T141738
CREATED:20250706T115003Z
LAST-MODIFIED:20250706T115003Z
UID:6419-1752667200-1752670800@cordobacapitalcofrade.com
SUMMARY:Fiesta de Regla de la Hermandad del Carmen de Puerta Nueva
DESCRIPTION:Fiesta de Regla de la Hermandad a las 12:00 horas en la Parroquia de Nuestra Señora del Carmen.
URL:https://cordobacapitalcofrade.com/agenda/fiesta-de-regla-de-la-hermandad-del-carmen-de-puerta-nueva/
LOCATION:Parroquia de Nuestra Señora del Carmen\, C. Rd. de Andújar\,23\, Córdoba\, España
CATEGORIES:Cultos
ATTACH;FMTTYPE=image/jpeg:https://cordobacapitalcofrade.com/wp-content/uploads/2025/07/480818152_665246512826974_5840464239490747010_n.jpg
END:VEVENT
BEGIN:VEVENT
DTSTART;TZID=UTC:20250716T200000
DTEND;TZID=UTC:20250716T210000
DTSTAMP:20260421T141738
CREATED:20250701T154519Z
LAST-MODIFIED:20250701T154519Z
UID:6405-1752696000-1752699600@cordobacapitalcofrade.com
SUMMARY:Función Solemne en honor de Nuestra Señora del Carmen Coronada
DESCRIPTION:Función Solemne en honor de Nuestra Señora del Carmen Coronada a las 20:00 horas en el Santuario de Nuestra Señora del Carmen (San Cayetano).
URL:https://cordobacapitalcofrade.com/agenda/funcion-solemne-en-honor-de-nuestra-senora-del-carmen-coronada/
LOCATION:Santuario de Nuestra Señora del Carmen\, C. Cta. de San Cayetano\, Centro\, 14001 Córdoba\, Córdoba\, España
CATEGORIES:Cultos
ATTACH;FMTTYPE=image/jpeg:https://cordobacapitalcofrade.com/wp-content/uploads/2025/07/488225568_1069817131847143_654309739030318511_n.jpg
END:VEVENT
BEGIN:VEVENT
DTSTART;TZID=UTC:20250724T200000
DTEND;TZID=UTC:20250724T210000
DTSTAMP:20260421T141738
CREATED:20250715T122923Z
LAST-MODIFIED:20250715T122923Z
UID:6462-1753387200-1753390800@cordobacapitalcofrade.com
SUMMARY:Solemne Función en honor del Beato Padre Cristobal de Santa Catalina y de Santiago Apóstol
DESCRIPTION:Solemne Función en honor del Beato Padre Cristobal de Santa Catalina y de Santiago Apóstol a las 20:00 horas en la Real Parroquia de San Lorenzo Mártir. Al término de la Eucaristía se realizará la bendición y reparto de los panecillos del Padre Cristóbal y la Veneración de la Sagrada Reliquia.
URL:https://cordobacapitalcofrade.com/agenda/solemne-funcion-en-honor-del-beato-padre-cristobal-de-santa-catalina-y-de-santiago-apostol-2/
LOCATION:Real Parroquia de San Lorenzo Mártir\, Pl. de San Lorenzo\, 5\, Córdoba\, España
CATEGORIES:Cultos
ATTACH;FMTTYPE=image/jpeg:https://cordobacapitalcofrade.com/wp-content/uploads/2025/07/489036344_1065545388947788_2959498759320238313_n.jpg
END:VEVENT
BEGIN:VEVENT
DTSTART;TZID=UTC:20250725T203000
DTEND;TZID=UTC:20250725T213000
DTSTAMP:20260421T141738
CREATED:20250721T115427Z
LAST-MODIFIED:20250721T115427Z
UID:6485-1753475400-1753479000@cordobacapitalcofrade.com
SUMMARY:Solemne Función Principal de Santiago Apóstol
DESCRIPTION:Solemne Función Principal de Santiago Apóstol\, a las 20:30 horas en la Parroquia de Santiago Apóstol. La solemne Eucaristía estará oficiada por D. Jesús Fernández González\, Obispo de Córdoba.
URL:https://cordobacapitalcofrade.com/agenda/solemne-funcion-principal-de-santiago-apostol/
LOCATION:Parroquia de Santiago Apóstol\, C. de Agustín Moreno\, 26\, 14002 Córdoba\, Córdoba\, España
CATEGORIES:Cultos
ATTACH;FMTTYPE=image/jpeg:https://cordobacapitalcofrade.com/wp-content/uploads/2025/07/487718015_1144193164419573_4688722668555841222_n.jpg
END:VEVENT
END:VCALENDAR