BEGIN:VCALENDAR
VERSION:2.0
PRODID:-//Agenda Cofrade 365 Días - ECPv6.3.7//NONSGML v1.0//EN
CALSCALE:GREGORIAN
METHOD:PUBLISH
X-WR-CALNAME:Agenda Cofrade 365 Días
X-ORIGINAL-URL:https://cordobacapitalcofrade.com
X-WR-CALDESC:Eventos para Agenda Cofrade 365 Días
REFRESH-INTERVAL;VALUE=DURATION:PT1H
X-Robots-Tag:noindex
X-PUBLISHED-TTL:PT1H
BEGIN:VTIMEZONE
TZID:UTC
BEGIN:STANDARD
TZOFFSETFROM:+0000
TZOFFSETTO:+0000
TZNAME:UTC
DTSTART:20250101T000000
END:STANDARD
END:VTIMEZONE
BEGIN:VEVENT
DTSTART;TZID=UTC:20250903T183000
DTEND;TZID=UTC:20250904T203000
DTSTAMP:20260421T112821
CREATED:20250816T115802Z
LAST-MODIFIED:20250816T115802Z
UID:6725-1756924200-1757017800@cordobacapitalcofrade.com
SUMMARY:Exposición de Nuestra Señora del Socorro Coronada tras su restauración
DESCRIPTION:Exposición de Nuestra Señora del Socorro Coronada tras su restauración realizada por Dña. Ana Infante de la Torre en horario de 18:30 a 20:30 horas en la Basílica de San Pedro.
URL:https://cordobacapitalcofrade.com/agenda/exposicion-de-nuestra-senora-del-socorro-coronada-tras-su-restauracion/
LOCATION:Basílica de San Pedro\, Pl. de San Pedro\, 1\, 14002 Córdoba\, Córdoba\, España
CATEGORIES:Cultos
ATTACH;FMTTYPE=image/jpeg:https://cordobacapitalcofrade.com/wp-content/uploads/2025/08/Besamanos-Socorro-0155-min-1-scaled.jpg
END:VEVENT
BEGIN:VEVENT
DTSTART;TZID=UTC:20250905T193000
DTEND;TZID=UTC:20250907T204500
DTSTAMP:20260421T112821
CREATED:20250606T120148Z
LAST-MODIFIED:20250610T120613Z
UID:6206-1757100600-1757277900@cordobacapitalcofrade.com
SUMMARY:Solemne Triduo en honor de Nuestra Señora de Villaviciosa
DESCRIPTION:Solemne Triduo en honor de Nuestra Señora de Villaviciosa a las 20:00 horas en la Real Parroquia de San Lorenzo Mártir. Previamente a las 19:30 horas\, Exposición del Santísimo Sacramento y Rezo del Santo Rosario.
URL:https://cordobacapitalcofrade.com/agenda/solemne-triduo-en-honor-de-nuestra-senora-de-villaviciosa/
LOCATION:Real Parroquia de San Lorenzo Mártir\, Pl. de San Lorenzo\, 5\, Córdoba\, España
CATEGORIES:Cultos
ATTACH;FMTTYPE=image/jpeg:https://cordobacapitalcofrade.com/wp-content/uploads/2025/06/Triduo-Villaviciosa-0020-min-scaled.jpg
END:VEVENT
BEGIN:VEVENT
DTSTART;TZID=UTC:20250905T203000
DTEND;TZID=UTC:20250907T220000
DTSTAMP:20260421T112821
CREATED:20250901T154836Z
LAST-MODIFIED:20250901T183116Z
UID:6811-1757104200-1757282400@cordobacapitalcofrade.com
SUMMARY:Triduo a Ntra. Sra. De la Piedad
DESCRIPTION:Triduo a Ntra. Sra. De la Piedad\, tendrá lugar durante los días 5\, 6 y 7 de septiembre a las 20:30 horas con el rezo del Santo Rosario y a las 21 horas Santa Misa\, en el Santuario de María Auxiliadora.
URL:https://cordobacapitalcofrade.com/agenda/triduo-a-ntra-sra-de-la-piedad/
LOCATION:Santuario de María Auxiliadora\, C. María Auxiliadora\, 8\, Centro\, 14002 Córdoba\, Córdoba\, España
CATEGORIES:Cultos
ATTACH;FMTTYPE=image/jpeg:https://cordobacapitalcofrade.com/wp-content/uploads/2025/09/IMG-20250901-WA0516.jpg
END:VEVENT
BEGIN:VEVENT
DTSTART;TZID=UTC:20250906T200000
DTEND;TZID=UTC:20250906T223000
DTSTAMP:20260421T112821
CREATED:20250816T121856Z
LAST-MODIFIED:20250816T121856Z
UID:6733-1757188800-1757197800@cordobacapitalcofrade.com
SUMMARY:Misa de Acción de Gracias por el XXII Aniversario de la Coronación Canónica de Nuestra Señora del Socorro Coronada y traslado a su Ermita
DESCRIPTION:Misa de Acción de Gracias por el XXII Aniversario de la Coronación Canónica de Nuestra Señora del Socorro Coronada\, a las 20:00 horas en la Basílica de San Pedro. Tras la Eucaristía\, la Virgen regresará en traslado a su Ermita.
URL:https://cordobacapitalcofrade.com/agenda/misa-de-accion-de-gracias-por-el-xxii-aniversario-de-la-coronacion-canonica-de-nuestra-senora-del-socorro-coronada-y-traslado-a-su-ermita/
LOCATION:Basílica de San Pedro\, Pl. de San Pedro\, 1\, 14002 Córdoba\, Córdoba\, España
CATEGORIES:Cultos,Traslados
ATTACH;FMTTYPE=image/jpeg:https://cordobacapitalcofrade.com/wp-content/uploads/2025/08/470807729_18455502682067612_2831677586466452932_n.jpg
END:VEVENT
BEGIN:VEVENT
DTSTART;TZID=UTC:20250907T120000
DTEND;TZID=UTC:20250907T140000
DTSTAMP:20260421T112821
CREATED:20250826T124250Z
LAST-MODIFIED:20250826T124250Z
UID:6772-1757246400-1757253600@cordobacapitalcofrade.com
SUMMARY:Solemne Eucaristía por el L Aniversario de la llegada de Nuestra Señora de Araceli a Córdoba\, Presentación del programa de actos y del cartel de las Fiesta Aracelitana 2025
DESCRIPTION:Solemne Eucaristía por el L Aniversario de la llegada de Nuestra Señora de Araceli a Córdoba\, a las 12:00 horas en la Parroquia de Nuestra Señora de Araceli. A continuación\, Presentación del programa de actos y del cartel de las Fiesta Aracelitana 2025 a cargo de D. Antonio Nieto y D. Javier Algar. Se presentará también el nuevo emblema.
URL:https://cordobacapitalcofrade.com/agenda/solemne-eucaristia-por-el-l-aniversario-de-la-llegada-de-nuestra-senora-de-araceli-a-cordoba-presentacion-del-programa-de-actos-y-del-cartel-de-las-fiesta-aracelitana-2025/
LOCATION:Parroquia de Nuestra Señora de Araceli\, C. Ángel Ganivet\, 9\, Poniente Sur\, 14011 Córdoba\, Córdoba\, España
CATEGORIES:Cultos
ATTACH;FMTTYPE=image/jpeg:https://cordobacapitalcofrade.com/wp-content/uploads/2025/08/492152417_654245057227539_9173046578194790954_n.jpg
END:VEVENT
BEGIN:VEVENT
DTSTART;TZID=UTC:20250908T103000
DTEND;TZID=UTC:20250908T213000
DTSTAMP:20260421T112821
CREATED:20250816T122706Z
LAST-MODIFIED:20250816T122706Z
UID:6735-1757327400-1757367000@cordobacapitalcofrade.com
SUMMARY:Solemne Veneración de Nuestra Señora del Socorro Coronada
DESCRIPTION:Solemne Veneración de Nuestra Señora del Socorro Coronada en horario de 10:30 a 13:30 horas y de 19:00 a 21:30 horas en la Ermita del Socorro.
URL:https://cordobacapitalcofrade.com/agenda/solemne-veneracion-de-nuestra-senora-del-socorro-coronada/
LOCATION:Ermita del Socorro\, Plaza del Socorro\, 1\, Córdoba\, Córdoba\, 14002\, España
CATEGORIES:Cultos,Veneración
ATTACH;FMTTYPE=image/jpeg:https://cordobacapitalcofrade.com/wp-content/uploads/2025/08/470870343_18455502634067612_113410927842609407_n.jpg
END:VEVENT
BEGIN:VEVENT
DTSTART;TZID=UTC:20250908T120000
DTEND;TZID=UTC:20250908T130000
DTSTAMP:20260421T112821
CREATED:20250901T155056Z
LAST-MODIFIED:20250901T155056Z
UID:6815-1757332800-1757336400@cordobacapitalcofrade.com
SUMMARY:Función Solemne de Ntra. Sra. De la Piedad
DESCRIPTION:Función Solemne de Ntra. Sra. De la Piedad\, tendrá lugar el día 8 de septiembre a las 12 horas\, en el Santuario de María Auxiliadora.
URL:https://cordobacapitalcofrade.com/agenda/funcion-solemne-de-ntra-sra-de-la-piedad/
LOCATION:Santuario de María Auxiliadora\, C. María Auxiliadora\, 8\, Centro\, 14002 Córdoba\, Córdoba\, España
CATEGORIES:Cultos
ATTACH;FMTTYPE=image/jpeg:https://cordobacapitalcofrade.com/wp-content/uploads/2025/09/Piedad9-1-682x1024-1.jpg
END:VEVENT
BEGIN:VEVENT
DTSTART;TZID=UTC:20250908T200000
DTEND;TZID=UTC:20250908T210000
DTSTAMP:20260421T112821
CREATED:20250606T120303Z
LAST-MODIFIED:20250610T120550Z
UID:6209-1757361600-1757365200@cordobacapitalcofrade.com
SUMMARY:Fiesta de Regla de la Hermandad de Villaviciosa
DESCRIPTION:Fiesta de Regla de la Hermandad a las 20:00 horas en la Real Parroquia de San Lorenzo Mártir.
URL:https://cordobacapitalcofrade.com/agenda/fiesta-de-regla-de-la-hermandad-de-villaviciosa-2/
LOCATION:Real Parroquia de San Lorenzo Mártir\, Pl. de San Lorenzo\, 5\, Córdoba\, España
CATEGORIES:Cultos
ATTACH;FMTTYPE=image/jpeg:https://cordobacapitalcofrade.com/wp-content/uploads/2025/06/Triduo-Villaviciosa-0020-min-scaled.jpg
END:VEVENT
BEGIN:VEVENT
DTSTART;TZID=UTC:20250908T200000
DTEND;TZID=UTC:20250908T210000
DTSTAMP:20260421T112821
CREATED:20250908T104521Z
LAST-MODIFIED:20250908T104521Z
UID:6908-1757361600-1757365200@cordobacapitalcofrade.com
SUMMARY:Solemne Eucaristía en honor de María Santísima de la Paz y Esperanza Coronada con motivo del LXXXVI aniversario de su bendición
DESCRIPTION:Solemne Eucaristía en honor de María Santísima de la Paz y Esperanza Coronada con motivo del LXXXVI aniversario de su bendición\, a las 20:00 horas en la Iglesia Conventual del Santo Ángel (Capuchinos).
URL:https://cordobacapitalcofrade.com/agenda/solemne-eucaristia-en-honor-de-maria-santisima-de-la-paz-y-esperanza-coronada-con-motivo-del-lxxxvi-aniversario-de-su-bendicion/
LOCATION:Iglesia Conventual del Santo Ángel (Capuchinos)\, Pl. de Capuchinos\, 5\, Córdoba\, España
CATEGORIES:Cultos
ATTACH;FMTTYPE=image/jpeg:https://cordobacapitalcofrade.com/wp-content/uploads/2025/09/544985916_1122923249972893_4855973495766263123_n.jpg
END:VEVENT
BEGIN:VEVENT
DTSTART;TZID=UTC:20250911T200000
DTEND;TZID=UTC:20250913T210000
DTSTAMP:20260421T112821
CREATED:20250901T180626Z
LAST-MODIFIED:20250901T180626Z
UID:6828-1757620800-1757797200@cordobacapitalcofrade.com
SUMMARY:Triduo en honor de María Santísima Nazarena
DESCRIPTION:Triduo en honor de María Santísima Nazarena\, a las 20:00 horas en la Iglesia Hospital de Jesús Nazareno
URL:https://cordobacapitalcofrade.com/agenda/triduo-en-honor-de-maria-santisima-nazarena/
LOCATION:Iglesia Hospital de Jesús Nazareno\, C. Jesús Nazareno\, 11\, Córdoba\, España
CATEGORIES:Cultos
ATTACH;FMTTYPE=image/jpeg:https://cordobacapitalcofrade.com/wp-content/uploads/2025/09/Triduo-Nazareno-0041-scaled.jpg
END:VEVENT
BEGIN:VEVENT
DTSTART;TZID=UTC:20250911T203000
DTEND;TZID=UTC:20250913T213000
DTSTAMP:20260421T112821
CREATED:20250908T111012Z
LAST-MODIFIED:20250908T111012Z
UID:6924-1757622600-1757799000@cordobacapitalcofrade.com
SUMMARY:Solemne Triduo en honor de Nuestra Señora de las Angustias Coronada
DESCRIPTION:Solemne Triduo en honor de Nuestra Señora de las Angustias Coronada\, a las 20:30 horas en la Iglesia Conventual de San Agustín.
URL:https://cordobacapitalcofrade.com/agenda/solemne-triduo-en-honor-de-nuestra-senora-de-las-angustias-coronada-2/
LOCATION:Iglesia Conventual de San Agustín\, Pl. de San Agustín\, s/n\, Centro\, 14001 Córdoba\, Córdoba\, España
CATEGORIES:Cultos
ATTACH;FMTTYPE=image/jpeg:https://cordobacapitalcofrade.com/wp-content/uploads/2025/09/482223457_941801901500548_3532731424691526546_n.jpg
END:VEVENT
BEGIN:VEVENT
DTSTART;TZID=UTC:20250911T210000
DTEND;TZID=UTC:20250913T220000
DTSTAMP:20260421T112821
CREATED:20250908T110018Z
LAST-MODIFIED:20250908T110018Z
UID:6917-1757624400-1757800800@cordobacapitalcofrade.com
SUMMARY:Solemne Triduo de María Santísima
DESCRIPTION:Solemne Triduo de María Santísima\, a las 21:00 horas en la Parroquia de San Francisco y San Eulogio.
URL:https://cordobacapitalcofrade.com/agenda/solemne-triduo-de-maria-santisima/
LOCATION:Parroquia de San Francisco y San Eulogio\, C. Compás de San Francisco\, 0\, Córdoba\, España
CATEGORIES:Cultos
ATTACH;FMTTYPE=image/jpeg:https://cordobacapitalcofrade.com/wp-content/uploads/2025/09/482249580_1055675733272928_8123044795531332705_n.jpg
END:VEVENT
BEGIN:VEVENT
DTSTART;TZID=UTC:20250912T110000
DTEND;TZID=UTC:20250912T210000
DTSTAMP:20260421T112821
CREATED:20250909T151919Z
LAST-MODIFIED:20250909T151919Z
UID:6954-1757674800-1757710800@cordobacapitalcofrade.com
SUMMARY:Veneración Extraordinaria de María Santísima del Dulce Nombre
DESCRIPTION:Veneración Extraordinaria de María Santísima del Dulce Nombre con motivo de su regreso tras la restauración llevada a cabo por D. Antonio Dubé Herdugo en horario de 11:00 a 13:30 horas y de 17:00 a 21:00 horas en la Parroquia de San José y Espíritu Santo.
URL:https://cordobacapitalcofrade.com/agenda/veneracion-extraordinaria-de-maria-santisima-del-dulce-nombre/
LOCATION:Parroquia de San José y Espíritu Santo\, Pl. de Santa Teresa\, 1\, Córdoba\, España
CATEGORIES:Cultos
ATTACH;FMTTYPE=image/jpeg:https://cordobacapitalcofrade.com/wp-content/uploads/2025/09/544756164_1166588672160415_7882951243829434312_n.jpg
END:VEVENT
BEGIN:VEVENT
DTSTART;TZID=UTC:20250912T200000
DTEND;TZID=UTC:20250913T210000
DTSTAMP:20260421T112821
CREATED:20250908T112257Z
LAST-MODIFIED:20250908T112257Z
UID:6932-1757707200-1757797200@cordobacapitalcofrade.com
SUMMARY:Solemne Triduo en honor de la Santísima Vera Cruz
DESCRIPTION:Solemne Triduo en honor de la Santísima Vera Cruz\, a las 20:30 horas en la Parroquia de San José y Espíritu Santo. Previamente\, a las 20:00 horas Exposición del Santísimo y Ejercicio del Triduo. El día 12 María Santísima del Dulce Nombre estará expuesta en Veneración tras su regreso de la restauración llevada a cabo por D. Antonio Dubé Herdugo.
URL:https://cordobacapitalcofrade.com/agenda/solemne-triduo-en-honor-de-la-santisima-vera-cruz-3/
LOCATION:Parroquia de San José y Espíritu Santo\, Pl. de Santa Teresa\, 1\, Córdoba\, España
CATEGORIES:Cultos
ATTACH;FMTTYPE=image/jpeg:https://cordobacapitalcofrade.com/wp-content/uploads/2025/09/484143670_1029844299168187_1129643589726465519_n.jpg
END:VEVENT
BEGIN:VEVENT
DTSTART;TZID=UTC:20250913T090000
DTEND;TZID=UTC:20250913T140000
DTSTAMP:20260421T112821
CREATED:20250902T165134Z
LAST-MODIFIED:20250902T171739Z
UID:6860-1757754000-1757772000@cordobacapitalcofrade.com
SUMMARY:Besapiés Extraordinario de Nuestro Padre Jesús de la Oración en el Huerto
DESCRIPTION:Besapiés Extraordinario de Nuestro Padre Jesús de la Oración en el Huerto en horario de 09:00 a 14:00 horas en la Parroquia de San Ignacio de Loyola.
URL:https://cordobacapitalcofrade.com/agenda/besapies-extraordinario-de-nuestro-padre-jesus-de-la-oracion-en-el-huerto-2/
LOCATION:Parroquia de San Ignacio de Loyola\, C. Libertador Sucre\, S/N\, Sur\, 14013 Córdoba\, Córdoba\, Spain
CATEGORIES:Cultos
ATTACH;FMTTYPE=image/jpeg:https://cordobacapitalcofrade.com/wp-content/uploads/2025/09/Besapies-Huerto-0169-scaled.jpg
END:VEVENT
BEGIN:VEVENT
DTSTART;TZID=UTC:20250913T103000
DTEND;TZID=UTC:20250913T140000
DTSTAMP:20260421T112821
CREATED:20250816T123423Z
LAST-MODIFIED:20250816T123423Z
UID:6738-1757759400-1757772000@cordobacapitalcofrade.com
SUMMARY:Ofrenda de frutos y alimentos a Nuestra Señora del Socorro Coronada y paso bajo el manto
DESCRIPTION:Ofrenda de frutos y alimentos a Nuestra Señora del Socorro Coronada como Patrona del Mercado Central «Sánchez Peña» y paso bajo el manto para todo aquel que lo solicite\,  en horario de 10:30 a 14:00 horas en la Ermita del Socorro.
URL:https://cordobacapitalcofrade.com/agenda/ofrenda-de-frutos-y-alimentos-a-nuestra-senora-del-socorro-coronada-y-paso-bajo-el-manto/
LOCATION:Ermita del Socorro\, Plaza del Socorro\, 1\, Córdoba\, Córdoba\, 14002\, España
CATEGORIES:Cultos,Ofrenda Floral
ATTACH;FMTTYPE=image/jpeg:https://cordobacapitalcofrade.com/wp-content/uploads/2025/08/471160844_18455505025067612_1297084532777511820_n.jpg
END:VEVENT
BEGIN:VEVENT
DTSTART;TZID=UTC:20250913T103000
DTEND;TZID=UTC:20250914T113000
DTSTAMP:20260421T112821
CREATED:20250911T154749Z
LAST-MODIFIED:20250911T154749Z
UID:6969-1757759400-1757849400@cordobacapitalcofrade.com
SUMMARY:Solemne Triduo de Nuestra Señora de las Lágrimas en su Desamparo
DESCRIPTION:Solemne Triduo de Nuestra Señora de las Lágrimas en su Desamparo\, a las 11:00 horas en la Basílica de San Pedro. A las 10:30 horas\, rezo del Santo Rosario\, ejercicio del Triduo y Reserva
URL:https://cordobacapitalcofrade.com/agenda/solemne-triduo-de-nuestra-senora-de-las-lagrimas-en-su-desamparo/
LOCATION:Basílica de San Pedro\, Pl. de San Pedro\, 1\, 14002 Córdoba\, Córdoba\, España
CATEGORIES:Cultos
ATTACH;FMTTYPE=image/jpeg:https://cordobacapitalcofrade.com/wp-content/uploads/2025/09/GXX2xPXW4AANAya.jpeg
END:VEVENT
BEGIN:VEVENT
DTSTART;TZID=UTC:20250913T183000
DTEND;TZID=UTC:20250913T193000
DTSTAMP:20260421T112821
CREATED:20250908T113928Z
LAST-MODIFIED:20250908T113928Z
UID:6947-1757788200-1757791800@cordobacapitalcofrade.com
SUMMARY:Solemne Eucaristía con motivo de la Peregrinación de la Divina Pastora de las Almas por el Año Jubilar "Peregrinos de la Esperanza" 2025
DESCRIPTION:Solemne Eucaristía con motivo de la Peregrinación de la Divina Pastora de las Almas por el Año Jubilar «Peregrinos de la Esperanza» 2025\, a las 18:30 horas en la Santa Iglesia Catedral.
URL:https://cordobacapitalcofrade.com/agenda/solemne-eucaristia-con-motivo-de-la-peregrinacion-de-la-divina-pastora-de-las-almas-por-el-ano-jubilar-peregrinos-de-la-esperanza-2025/
LOCATION:Santa Iglesia Catedral de Córdoba\, C. Cardenal Herrero\, 1\, Córdoba\, España
CATEGORIES:Cultos
ATTACH;FMTTYPE=image/webp:https://cordobacapitalcofrade.com/wp-content/uploads/2025/09/capuchinos-divina-pastora-Rn4U7QeKaSKJ6ZwEgealjqK-1200x840@diario_abc.webp
END:VEVENT
BEGIN:VEVENT
DTSTART;TZID=UTC:20250913T200000
DTEND;TZID=UTC:20250913T210000
DTSTAMP:20260421T112821
CREATED:20250902T170435Z
LAST-MODIFIED:20250902T170435Z
UID:6870-1757793600-1757797200@cordobacapitalcofrade.com
SUMMARY:Función Solemne de Nuestro Padre Jesús de la Oración en el Huerto
DESCRIPTION:Función Solemne de Nuestro Padre Jesús de la Oración en el Huerto oficiada por D. Demetrio Fernández González\, Obispo Emérito de Córdoba\, a las 20:00 horas en la Parroquia de San Ignacio de Loyola.
URL:https://cordobacapitalcofrade.com/agenda/funcion-solemne-de-nuestro-padre-jesus-de-la-oracion-en-el-huerto/
LOCATION:Parroquia de San Ignacio de Loyola\, C. Libertador Sucre\, S/N\, Sur\, 14013 Córdoba\, Córdoba\, Spain
CATEGORIES:Cultos
ATTACH;FMTTYPE=image/jpeg:https://cordobacapitalcofrade.com/wp-content/uploads/2025/09/Besapies-Huerto-0169-scaled.jpg
END:VEVENT
BEGIN:VEVENT
DTSTART;TZID=UTC:20250913T203000
DTEND;TZID=UTC:20250915T213000
DTSTAMP:20260421T112821
CREATED:20250908T113315Z
LAST-MODIFIED:20250908T113315Z
UID:6941-1757795400-1757971800@cordobacapitalcofrade.com
SUMMARY:Solemne Triduo de María Santísima de los Dolores
DESCRIPTION:Solemne Triduo de María Santísima de los Dolores a las 20:30 horas en la Parroquia de Nuestra Señora de los Ángeles.
URL:https://cordobacapitalcofrade.com/agenda/solemne-triduo-de-maria-santisima-de-los-dolores-2/
LOCATION:Parroquia de Nuestra Señora de los Ángeles\, 14610 Córdoba\, Córdoba\, España
CATEGORIES:Cultos
ATTACH;FMTTYPE=image/webp:https://cordobacapitalcofrade.com/wp-content/uploads/2025/09/reaccion-dolores-alcolea-RmNpn7osinLvRtfMXUKiJwK-1240x768@abc.webp
END:VEVENT
BEGIN:VEVENT
DTSTART;TZID=UTC:20250914T100000
DTEND;TZID=UTC:20250914T203000
DTSTAMP:20260421T112821
CREATED:20250901T181343Z
LAST-MODIFIED:20250901T181343Z
UID:6831-1757844000-1757881800@cordobacapitalcofrade.com
SUMMARY:Veneración de los fieles a María Santísima Nazarena
DESCRIPTION:Veneración de los fieles a María Santísima Nazarena en horario de 10:00 a 14:00 horas y de 17:30 a 20:30 horas en la Iglesia Hospital de Jesús Nazareno.
URL:https://cordobacapitalcofrade.com/agenda/veneracion-de-los-fieles-a-maria-santisima-nazarena-2/
LOCATION:Iglesia Hospital de Jesús Nazareno\, C. Jesús Nazareno\, 11\, Córdoba\, España
CATEGORIES:Cultos
ATTACH;FMTTYPE=image/jpeg:https://cordobacapitalcofrade.com/wp-content/uploads/2025/09/Veneracion-Nazarena-0015-min-scaled.jpg
END:VEVENT
BEGIN:VEVENT
DTSTART;TZID=UTC:20250914T113000
DTEND;TZID=UTC:20250914T123000
DTSTAMP:20260421T112821
CREATED:20250908T111242Z
LAST-MODIFIED:20250908T111242Z
UID:6927-1757849400-1757853000@cordobacapitalcofrade.com
SUMMARY:Función Solemne de Nuestra Señora de las Angustias Coronada
DESCRIPTION:Función Solemne de Nuestra Señora de las Angustias Coronada\, a las 11:30 horas en la Iglesia Conventual de San Agustín.
URL:https://cordobacapitalcofrade.com/agenda/funcion-solemne-de-nuestra-senora-de-las-angustias-coronada-2/
LOCATION:Iglesia Conventual de San Agustín\, Pl. de San Agustín\, s/n\, Centro\, 14001 Córdoba\, Córdoba\, España
CATEGORIES:Cultos
ATTACH;FMTTYPE=image/jpeg:https://cordobacapitalcofrade.com/wp-content/uploads/2025/09/482223457_941801901500548_3532731424691526546_n.jpg
END:VEVENT
BEGIN:VEVENT
DTSTART;TZID=UTC:20250914T113000
DTEND;TZID=UTC:20250914T130000
DTSTAMP:20260421T112821
CREATED:20250908T112646Z
LAST-MODIFIED:20250908T112646Z
UID:6935-1757849400-1757854800@cordobacapitalcofrade.com
SUMMARY:Función Principal de Instituto en honor de la Santísima Vera Cruz
DESCRIPTION:Función Principal de Instituto en honor de la Santísima Vera Cruz a las 12:00 horas en la Parroquia de San José y Espíritu Santo. Previamente\, a las 11:30 horas Exposición del Santísimo y Ejercicio del Triduo. La Misa estará acompañada musicalmente por la Capilla Musical «Ars Sacra» de Sevilla y la voz solista de D. Julio Nomdedeu.
URL:https://cordobacapitalcofrade.com/agenda/funcion-principal-de-instituto-en-honor-de-la-santisima-vera-cruz/
LOCATION:Parroquia de San José y Espíritu Santo\, Pl. de Santa Teresa\, 1\, Córdoba\, España
CATEGORIES:Cultos
ATTACH;FMTTYPE=image/jpeg:https://cordobacapitalcofrade.com/wp-content/uploads/2025/09/484143670_1029844299168187_1129643589726465519_n-1.jpg
END:VEVENT
BEGIN:VEVENT
DTSTART;TZID=UTC:20250914T120000
DTEND;TZID=UTC:20250914T130000
DTSTAMP:20260421T112821
CREATED:20250606T120505Z
LAST-MODIFIED:20250610T120435Z
UID:6211-1757851200-1757854800@cordobacapitalcofrade.com
SUMMARY:Solemne Fiesta de Regla ante la Primitiva imagen de la Virgen de Villaviciosa
DESCRIPTION:Solemne Fiesta de Regla ante la Primitiva imagen de la Virgen de Villaviciosa\,  a las 12:00 horas en la Santa Iglesia Catedral de Córdoba. Preside la Eucaristía el Sr Obispo de Córdoba\, D. Jesús Fernández González.
URL:https://cordobacapitalcofrade.com/agenda/solemne-fiesta-de-regla-ante-la-primitiva-imagen-de-la-virgen-de-villaviciosa/
LOCATION:Santa Iglesia Catedral de Córdoba\, C. Cardenal Herrero\, 1\, Córdoba\, España
CATEGORIES:Cultos
ATTACH;FMTTYPE=image/webp:https://cordobacapitalcofrade.com/wp-content/uploads/2025/06/virgen-villaviciosa-patrona1-kVcE-U402890708132AKB-620x720@abc.webp
END:VEVENT
BEGIN:VEVENT
DTSTART;TZID=UTC:20250914T131500
DTEND;TZID=UTC:20250914T141500
DTSTAMP:20260421T112821
CREATED:20250911T155747Z
LAST-MODIFIED:20250911T155747Z
UID:6975-1757855700-1757859300@cordobacapitalcofrade.com
SUMMARY:Solemne Triduo en honor de la Santa Cruz y María Santísima de los Dolores y Misericordia
DESCRIPTION:Solemne Triduo en honor de la Santa Cruz y María Santísima de los Dolores y Misericordia\, a las 13:15 horas en la Parroquia de Nuestra Señora de Gracia.
URL:https://cordobacapitalcofrade.com/agenda/solemne-triduo-en-honor-de-la-santa-cruz-y-maria-santisima-de-los-dolores-y-misericordia/
LOCATION:Parroquia de Ntra. Sra. De Gracia y San Eulogio (P.P. Trinitarios)\, Plaza Cristo de Gracia\, 5\, Córdoba\, Córdoba\, 14002\, España
CATEGORIES:Cultos
ATTACH;FMTTYPE=image/jpeg:https://cordobacapitalcofrade.com/wp-content/uploads/2025/09/461493491_18418296421073126_7482596357994139488_n.jpg
END:VEVENT
BEGIN:VEVENT
DTSTART;TZID=UTC:20250915T100000
DTEND;TZID=UTC:20250915T200000
DTSTAMP:20260421T112821
CREATED:20250901T183130Z
LAST-MODIFIED:20250901T183130Z
UID:6843-1757930400-1757966400@cordobacapitalcofrade.com
SUMMARY:Besamanos de Nuestra Señora de la Estrella
DESCRIPTION:Besamanos de Nuestra Señora de la Estrella en horario de 10:00 a 20:00 horas en la Parroquia de San Fernando.
URL:https://cordobacapitalcofrade.com/agenda/besamanos-de-nuestra-senora-de-la-estrella-2/
LOCATION:Parroquia de San Fernando\, C. Goya\, 24\, 14006 Córdoba\, Córdoba\, España
CATEGORIES:Cultos
ATTACH;FMTTYPE=image/jpeg:https://cordobacapitalcofrade.com/wp-content/uploads/2025/09/484091838_1050285197142328_5022169663864491493_n.jpg
END:VEVENT
BEGIN:VEVENT
DTSTART;TZID=UTC:20250915T200000
DTEND;TZID=UTC:20250915T210000
DTSTAMP:20260421T112821
CREATED:20250901T181517Z
LAST-MODIFIED:20250901T181517Z
UID:6834-1757966400-1757970000@cordobacapitalcofrade.com
SUMMARY:Función Principal de María Santísima Nazarena
DESCRIPTION:Función Principal de María Santísima Nazarena\, a las 20:00 horas en la Iglesia Hospital de Jesús Nazareno.
URL:https://cordobacapitalcofrade.com/agenda/funcion-principal-de-maria-santisima-nazarena-2/
LOCATION:Iglesia Hospital de Jesús Nazareno\, C. Jesús Nazareno\, 11\, Córdoba\, España
CATEGORIES:Cultos
ATTACH;FMTTYPE=image/jpeg:https://cordobacapitalcofrade.com/wp-content/uploads/2025/09/Triduo-Nazareno-0041-scaled.jpg
END:VEVENT
BEGIN:VEVENT
DTSTART;TZID=UTC:20250915T200000
DTEND;TZID=UTC:20250915T210000
DTSTAMP:20260421T112821
CREATED:20250911T155138Z
LAST-MODIFIED:20250911T155138Z
UID:6972-1757966400-1757970000@cordobacapitalcofrade.com
SUMMARY:Función Principal de Nuestra Señora de las Lágrimas en su Desamparo
DESCRIPTION:Función Principal de Nuestra Señora de las Lágrimas en su Desamparo\, a las 20:00 horas en la Basílica de San Pedro.
URL:https://cordobacapitalcofrade.com/agenda/funcion-principal-de-nuestra-senora-de-las-lagrimas-en-su-desamparo/
LOCATION:Basílica de San Pedro\, Pl. de San Pedro\, 1\, 14002 Córdoba\, Córdoba\, España
CATEGORIES:Cultos
ATTACH;FMTTYPE=image/jpeg:https://cordobacapitalcofrade.com/wp-content/uploads/2025/09/GXX2xPXW4AANAya.jpeg
END:VEVENT
BEGIN:VEVENT
DTSTART;TZID=UTC:20250915T210000
DTEND;TZID=UTC:20250915T214500
DTSTAMP:20260421T112821
CREATED:20250912T131530Z
LAST-MODIFIED:20250912T131530Z
UID:7012-1757970000-1757972700@cordobacapitalcofrade.com
SUMMARY:Dolores Gloriosos de Nuestra Señora Madre de Dios en sus Tristezas
DESCRIPTION:Dolores Gloriosos de Nuestra Señora Madre de Dios en sus Tristezas\, a las 21:00 horas en la Real Parroquia de San Lorenzo Mártir.
URL:https://cordobacapitalcofrade.com/agenda/dolores-gloriosos-de-nuestra-senora-madre-de-dios-en-sus-tristezas/
LOCATION:Real Parroquia de San Lorenzo Mártir\, Pl. de San Lorenzo\, 5\, Córdoba\, España
CATEGORIES:Cultos
ATTACH;FMTTYPE=image/jpeg:https://cordobacapitalcofrade.com/wp-content/uploads/2025/09/546637654_1203125091859035_122747006940529354_n.jpg
END:VEVENT
BEGIN:VEVENT
DTSTART;TZID=UTC:20250915T210000
DTEND;TZID=UTC:20250916T220000
DTSTAMP:20260421T112821
CREATED:20250911T155930Z
LAST-MODIFIED:20250911T155930Z
UID:6978-1757970000-1758060000@cordobacapitalcofrade.com
SUMMARY:Solemne Triduo en honor de la Santa Cruz y María Santísima de los Dolores y Misericordia
DESCRIPTION:Solemne Triduo en honor de la Santa Cruz y María Santísima de los Dolores y Misericordia\, a las 21:00 horas en la Parroquia de Nuestra Señora de Gracia.
URL:https://cordobacapitalcofrade.com/agenda/solemne-triduo-en-honor-de-la-santa-cruz-y-maria-santisima-de-los-dolores-y-misericordia-2/
LOCATION:Parroquia de Ntra. Sra. De Gracia y San Eulogio (P.P. Trinitarios)\, Plaza Cristo de Gracia\, 5\, Córdoba\, Córdoba\, 14002\, España
CATEGORIES:Cultos
ATTACH;FMTTYPE=image/jpeg:https://cordobacapitalcofrade.com/wp-content/uploads/2025/09/461493491_18418296421073126_7482596357994139488_n.jpg
END:VEVENT
END:VCALENDAR