BEGIN:VCALENDAR
VERSION:2.0
PRODID:-//Agenda Cofrade 365 Días - ECPv6.3.7//NONSGML v1.0//EN
CALSCALE:GREGORIAN
METHOD:PUBLISH
X-WR-CALNAME:Agenda Cofrade 365 Días
X-ORIGINAL-URL:https://cordobacapitalcofrade.com
X-WR-CALDESC:Eventos para Agenda Cofrade 365 Días
REFRESH-INTERVAL;VALUE=DURATION:PT1H
X-Robots-Tag:noindex
X-PUBLISHED-TTL:PT1H
BEGIN:VTIMEZONE
TZID:UTC
BEGIN:STANDARD
TZOFFSETFROM:+0000
TZOFFSETTO:+0000
TZNAME:UTC
DTSTART:20250101T000000
END:STANDARD
END:VTIMEZONE
BEGIN:VEVENT
DTSTART;TZID=UTC:20251001T203000
DTEND;TZID=UTC:20251003T214500
DTSTAMP:20260421T041954
CREATED:20250923T133057Z
LAST-MODIFIED:20250923T133057Z
UID:7089-1759350600-1759527900@cordobacapitalcofrade.com
SUMMARY:Solemne Triduo en honor de Nuestra Señora del Mayor Dolor
DESCRIPTION:Solemne Triduo en honor de Nuestra Señora del Mayor Dolor\, a las 20:30 horas en la Real Parroquia de San Lorenzo Mártir.
URL:https://cordobacapitalcofrade.com/agenda/solemne-triduo-en-honor-de-nuestra-senora-del-mayor-dolor-2/
LOCATION:Real Parroquia de San Lorenzo Mártir\, Pl. de San Lorenzo\, 5\, Córdoba\, España
CATEGORIES:Cultos
ATTACH;FMTTYPE=image/jpeg:https://cordobacapitalcofrade.com/wp-content/uploads/2025/09/ACH90065-min-scaled.jpg
END:VEVENT
BEGIN:VEVENT
DTSTART;TZID=UTC:20251003T193000
DTEND;TZID=UTC:20251004T203000
DTSTAMP:20260421T041954
CREATED:20250929T220352Z
LAST-MODIFIED:20250929T220352Z
UID:7193-1759519800-1759609800@cordobacapitalcofrade.com
SUMMARY:Triduo Ntra. Sra. Del Rosario
DESCRIPTION:Triduo Ntra. Sra. Del Rosario\, tendrá lugar los días 3 y 4 a las 19:30 horas\, en la Parroquia de Ntra. Sra. del Rosario (Electromecánicas).
URL:https://cordobacapitalcofrade.com/agenda/triduo-ntra-sra-del-rosario/
LOCATION:Iglesia de Ntra. Sra. Del Rosario\, Plaza de Electromecánicas\, Córdoba\, Córdoba\, 14005\, España
CATEGORIES:Cultos
ATTACH;FMTTYPE=image/jpeg:https://cordobacapitalcofrade.com/wp-content/uploads/2025/09/Screenshot_2025-09-30-00-01-22-072_com.whatsapp-edit.jpg
END:VEVENT
BEGIN:VEVENT
DTSTART;TZID=UTC:20251004T090000
DTEND;TZID=UTC:20251004T223000
DTSTAMP:20260421T041954
CREATED:20250923T144542Z
LAST-MODIFIED:20250923T144542Z
UID:7095-1759568400-1759617000@cordobacapitalcofrade.com
SUMMARY:Encuentro Jubilar Diocesano 2025
DESCRIPTION:Encuentro Jubilar Diocesano 2025 con motivo del Año Jubilar «Esperanzados» con este programa de actos: \n\nColegio de la Trinidad: Acogida a las 09:00 horas y a las 10:00 horas Encuentro Sinodal\nParroquia del Beato Álvaro de Córdoba: Procesión Eucarística desde el Beato Álvaro de Córdoba hasta la Plaza de Toros a las 18:30 horas.\nPlaza de Toros: A las 20:00 horas Eucaristía presidida por D. Jesús Fernández González y a las 21:00 horas Concierto de Clausura.
URL:https://cordobacapitalcofrade.com/agenda/encuentro-jubilar-diocesano-2025/
CATEGORIES:Conciertos,Cultos,Procesión
ATTACH;FMTTYPE=image/jpeg:https://cordobacapitalcofrade.com/wp-content/uploads/2025/09/552257800_1090290943270767_2777549001110679527_n.jpg
END:VEVENT
BEGIN:VEVENT
DTSTART;TZID=UTC:20251004T200000
DTEND;TZID=UTC:20251004T210000
DTSTAMP:20260421T041954
CREATED:20250929T133717Z
LAST-MODIFIED:20250929T133717Z
UID:7171-1759608000-1759611600@cordobacapitalcofrade.com
SUMMARY:Solemne Triduo en honor de Nuestra Señora del Rosario Coronada
DESCRIPTION:Solemne Triduo en honor de Nuestra Señora del Rosario Coronada\, a las 20:00 horas en la Real Iglesia de San Pablo.
URL:https://cordobacapitalcofrade.com/agenda/solemne-triduo-en-honor-de-nuestra-senora-del-rosario-coronada/
LOCATION:Real Iglesia de San Pablo\, C. Capitulares\, 18\, Córdoba\, España
CATEGORIES:Cultos
ATTACH;FMTTYPE=image/jpeg:https://cordobacapitalcofrade.com/wp-content/uploads/2025/09/484049018_1079195850915364_2776845192926421103_n.jpg
END:VEVENT
BEGIN:VEVENT
DTSTART;TZID=UTC:20251005T100000
DTEND;TZID=UTC:20251005T110000
DTSTAMP:20260421T041954
CREATED:20250929T220559Z
LAST-MODIFIED:20250929T220658Z
UID:7196-1759658400-1759662000@cordobacapitalcofrade.com
SUMMARY:Triduo Ntra. Sra. Del Rosario
DESCRIPTION:Triduo Ntra. Sra. Del Rosario\, tendrá lugar el día 5 a las 10:00 horas\, en la Parroquia de Ntra. Sra. del Rosario (Electromecánicas).
URL:https://cordobacapitalcofrade.com/agenda/triduo-ntra-sra-del-rosario-2/
LOCATION:Iglesia de Ntra. Sra. Del Rosario\, Plaza de Electromecánicas\, Córdoba\, Córdoba\, 14005\, España
CATEGORIES:Cultos
ATTACH;FMTTYPE=image/jpeg:https://cordobacapitalcofrade.com/wp-content/uploads/2025/09/Screenshot_2025-09-30-00-01-22-072_com.whatsapp-edit.jpg
END:VEVENT
BEGIN:VEVENT
DTSTART;TZID=UTC:20251005T100000
DTEND;TZID=UTC:20251005T210000
DTSTAMP:20260421T041954
CREATED:20250923T133715Z
LAST-MODIFIED:20250923T133715Z
UID:7092-1759658400-1759698000@cordobacapitalcofrade.com
SUMMARY:Besamanos de Nuestra Señora del Mayor Dolor
DESCRIPTION:Besamanos de Nuestra Señora del Mayor Dolor en horario de 10:00 a 14:00 horas y de 17:00 a 21:00 horas en la Real Parroquia de San Lorenzo Mártir.
URL:https://cordobacapitalcofrade.com/agenda/besamanos-de-nuestra-senora-del-mayor-dolor-2/
LOCATION:Real Parroquia de San Lorenzo Mártir\, Pl. de San Lorenzo\, 5\, Córdoba\, España
CATEGORIES:Cultos
ATTACH;FMTTYPE=image/jpeg:https://cordobacapitalcofrade.com/wp-content/uploads/2025/09/ACH20137-min-scaled.jpg
END:VEVENT
BEGIN:VEVENT
DTSTART;TZID=UTC:20251005T120000
DTEND;TZID=UTC:20251005T130000
DTSTAMP:20260421T041954
CREATED:20250929T133814Z
LAST-MODIFIED:20250929T133814Z
UID:7174-1759665600-1759669200@cordobacapitalcofrade.com
SUMMARY:Solemne Triduo en honor de Nuestra Señora del Rosario Coronada
DESCRIPTION:Solemne Triduo en honor de Nuestra Señora del Rosario Coronada\, a las 12:00 horas en la Real Iglesia de San Pablo.
URL:https://cordobacapitalcofrade.com/agenda/solemne-triduo-en-honor-de-nuestra-senora-del-rosario-coronada-2/
LOCATION:Real Iglesia de San Pablo\, C. Capitulares\, 18\, Córdoba\, España
CATEGORIES:Cultos
ATTACH;FMTTYPE=image/jpeg:https://cordobacapitalcofrade.com/wp-content/uploads/2025/09/484049018_1079195850915364_2776845192926421103_n.jpg
END:VEVENT
BEGIN:VEVENT
DTSTART;TZID=UTC:20251005T120000
DTEND;TZID=UTC:20251005T140000
DTSTAMP:20260421T041954
CREATED:20251003T133749Z
LAST-MODIFIED:20251003T133749Z
UID:7210-1759665600-1759672800@cordobacapitalcofrade.com
SUMMARY:Santa Misa Dominical y Entronización del Santísimo Cristo de Zacatecas en su paso procesional
DESCRIPTION:Santa Misa Dominical y Entronización del Santísimo Cristo de Zacatecas en su paso procesional a las 12:00 horas en la Santa Iglesia Catedral. La Solemne Eucaristía estará presidida por D. Jesús Fernández González\, Obispo de Córdoba.
URL:https://cordobacapitalcofrade.com/agenda/santa-misa-dominical-y-entronizacion-del-santisimo-cristo-de-zacatecas-en-su-paso-procesional/
LOCATION:Santa Iglesia Catedral de Córdoba\, C. Cardenal Herrero\, 1\, Córdoba\, España
CATEGORIES:Cultos,Traslados
ATTACH;FMTTYPE=image/jpeg:https://cordobacapitalcofrade.com/wp-content/uploads/2025/10/550514614_1205293571643288_3936029570179522293_n.jpg
END:VEVENT
BEGIN:VEVENT
DTSTART;TZID=UTC:20251005T130000
DTEND;TZID=UTC:20251005T140000
DTSTAMP:20260421T041954
CREATED:20250926T121454Z
LAST-MODIFIED:20250926T121454Z
UID:7129-1759669200-1759672800@cordobacapitalcofrade.com
SUMMARY:Solemne Eucaristía conjunta de las Hermandades de las Angustias de Córdoba y Montoro como preparación del Magno Vía Crucis
DESCRIPTION:Solemne Eucaristía conjunta de las Hermandades de las Angustias de Córdoba y Montoro como preparación del Magno Vía Crucis «Córdoba\, Vía Sacra de Occidente» a las 13:00 horas en la Iglesia Conventual de San Agustín.
URL:https://cordobacapitalcofrade.com/agenda/solemne-eucaristia-conjunta-de-las-hermandades-de-las-angustias-de-cordoba-y-montoro-como-preparacion-del-magno-via-crucis/
LOCATION:Iglesia Conventual de San Agustín\, Pl. de San Agustín\, s/n\, Centro\, 14001 Córdoba\, Córdoba\, España
CATEGORIES:Cultos
ATTACH;FMTTYPE=image/jpeg:https://cordobacapitalcofrade.com/wp-content/uploads/2025/09/554966436_1186946913458883_7707483179817837946_n.jpg
END:VEVENT
BEGIN:VEVENT
DTSTART;TZID=UTC:20251006T193000
DTEND;TZID=UTC:20251008T203000
DTSTAMP:20260421T041955
CREATED:20250923T152343Z
LAST-MODIFIED:20250923T152343Z
UID:7104-1759779000-1759955400@cordobacapitalcofrade.com
SUMMARY:Solemne Triduo de Nuestra Señora del Rosario de San Agustín
DESCRIPTION:Solemne Triduo de Nuestra Señora del Rosario de San Agustín\, a las 19:30 horas en la Iglesia Conventual de San Agustín.
URL:https://cordobacapitalcofrade.com/agenda/solemne-triduo-de-nuestra-senora-del-rosario-de-san-agustin/
LOCATION:Iglesia Conventual de San Agustín\, Pl. de San Agustín\, s/n\, Centro\, 14001 Córdoba\, Córdoba\, España
CATEGORIES:Cultos
ATTACH;FMTTYPE=image/jpeg:https://cordobacapitalcofrade.com/wp-content/uploads/2025/09/469120884_122128420166455326_6711893958915721886_n.jpg
END:VEVENT
BEGIN:VEVENT
DTSTART;TZID=UTC:20251006T200000
DTEND;TZID=UTC:20251006T210000
DTSTAMP:20260421T041955
CREATED:20250929T133914Z
LAST-MODIFIED:20250929T133914Z
UID:7176-1759780800-1759784400@cordobacapitalcofrade.com
SUMMARY:Solemne Triduo en honor de Nuestra Señora del Rosario Coronada
DESCRIPTION:Solemne Triduo en honor de Nuestra Señora del Rosario Coronada\, a las 20:00 horas en la Real Iglesia de San Pablo.
URL:https://cordobacapitalcofrade.com/agenda/solemne-triduo-en-honor-de-nuestra-senora-del-rosario-coronada-3/
LOCATION:Real Iglesia de San Pablo\, C. Capitulares\, 18\, Córdoba\, España
CATEGORIES:Cultos
ATTACH;FMTTYPE=image/jpeg:https://cordobacapitalcofrade.com/wp-content/uploads/2025/09/484049018_1079195850915364_2776845192926421103_n.jpg
END:VEVENT
BEGIN:VEVENT
DTSTART;TZID=UTC:20251007T200000
DTEND;TZID=UTC:20251007T210000
DTSTAMP:20260421T041955
CREATED:20250929T134031Z
LAST-MODIFIED:20250929T134031Z
UID:7178-1759867200-1759870800@cordobacapitalcofrade.com
SUMMARY:Fiesta de Regla de la Hermandad de la Expiración
DESCRIPTION:Fiesta de Regla de la Hermandad\, a las 20:00 horas en la Real Iglesia de San Pablo.
URL:https://cordobacapitalcofrade.com/agenda/fiesta-de-regla-de-la-hermandad-de-la-expiracion-2/
LOCATION:Real Iglesia de San Pablo\, C. Capitulares\, 18\, Córdoba\, España
CATEGORIES:Cultos
ATTACH;FMTTYPE=image/jpeg:https://cordobacapitalcofrade.com/wp-content/uploads/2025/09/484049018_1079195850915364_2776845192926421103_n.jpg
END:VEVENT
BEGIN:VEVENT
DTSTART;TZID=UTC:20251010T200000
DTEND;TZID=UTC:20251010T210000
DTSTAMP:20260421T041955
CREATED:20250926T122246Z
LAST-MODIFIED:20250926T122246Z
UID:7132-1760126400-1760130000@cordobacapitalcofrade.com
SUMMARY:Misa de bienvenida de Nuestro Padre Jesús en su Coronación de Espinas de Fernan Núñez
DESCRIPTION:Misa de bienvenida de Nuestro Padre Jesús en su Coronación de Espinas de Fernan Núñez\, a las 20:00 horas en la Basílica de San Pedro.
URL:https://cordobacapitalcofrade.com/agenda/misa-de-bienvenida-de-nuestro-padre-jesus-en-su-coronacion-de-espinas-de-fernan-nunez/
LOCATION:Basílica de San Pedro\, Pl. de San Pedro\, 1\, 14002 Córdoba\, Córdoba\, España
CATEGORIES:Cultos
ATTACH;FMTTYPE=image/jpeg:https://cordobacapitalcofrade.com/wp-content/uploads/2025/09/550085300_1226593206175586_4291552871323572247_n.jpg
END:VEVENT
BEGIN:VEVENT
DTSTART;TZID=UTC:20251012T193000
DTEND;TZID=UTC:20251014T203000
DTSTAMP:20260421T041955
CREATED:20251002T165450Z
LAST-MODIFIED:20251002T165450Z
UID:7205-1760297400-1760473800@cordobacapitalcofrade.com
SUMMARY:Solemne Triduo en honor de Santa Teresa de Jesús
DESCRIPTION:Solemne Triduo en honor de Santa Teresa de Jesús a las 19:30 horas en el Santuario de Nuestra Señora del Carmen (San Cayetano).
URL:https://cordobacapitalcofrade.com/agenda/solemne-triduo-en-honor-de-santa-teresa-de-jesus/
LOCATION:Santuario de Nuestra Señora del Carmen\, C. Cta. de San Cayetano\, Centro\, 14001 Córdoba\, Córdoba\, España
CATEGORIES:Cultos
ATTACH;FMTTYPE=image/jpeg:https://cordobacapitalcofrade.com/wp-content/uploads/2025/10/488239517_1071196255042564_2804311055341024198_n.jpg
END:VEVENT
BEGIN:VEVENT
DTSTART;TZID=UTC:20251015T100000
DTEND;TZID=UTC:20251016T210000
DTSTAMP:20260421T041955
CREATED:20251014T181723Z
LAST-MODIFIED:20251014T181723Z
UID:7223-1760522400-1760648400@cordobacapitalcofrade.com
SUMMARY:Solemne Besamanos Solidario de la Divina Pastora de las Almas
DESCRIPTION:Solemne Besamanos Solidario de la Divina Pastora de las Almas en horario de 10:00 a 13:30 horas y de 17:00 a 21:00 horas en la Parroquia de San José y Espíritu Santo. Se recogerán litros de leche destinados a Cáritas Parroquial.
URL:https://cordobacapitalcofrade.com/agenda/solemne-besamanos-solidario-de-la-divina-pastora-de-las-almas/
LOCATION:Parroquia de San José y Espíritu Santo\, Pl. de Santa Teresa\, 1\, Córdoba\, España
CATEGORIES:Cultos
ATTACH;FMTTYPE=image/jpeg:https://cordobacapitalcofrade.com/wp-content/uploads/2025/10/484556914_1030823409070276_6911471045969858403_n.jpg
END:VEVENT
BEGIN:VEVENT
DTSTART;TZID=UTC:20251015T193000
DTEND;TZID=UTC:20251015T203000
DTSTAMP:20260421T041955
CREATED:20251002T165641Z
LAST-MODIFIED:20251002T165641Z
UID:7208-1760556600-1760560200@cordobacapitalcofrade.com
SUMMARY:Función Solemne de Santa Teresa de Jesús
DESCRIPTION:Función Solemne de Santa Teresa de Jesús a las 19:30 horas en el Santuario de Nuestra Señora del Carmen (San Cayetano). Tras la Misa se podrá acceder a la celda de Santa Teresa.
URL:https://cordobacapitalcofrade.com/agenda/funcion-solemne-de-santa-teresa-de-jesus/
LOCATION:Santuario de Nuestra Señora del Carmen\, C. Cta. de San Cayetano\, Centro\, 14001 Córdoba\, Córdoba\, España
CATEGORIES:Cultos
ATTACH;FMTTYPE=image/jpeg:https://cordobacapitalcofrade.com/wp-content/uploads/2025/10/488239517_1071196255042564_2804311055341024198_n.jpg
END:VEVENT
BEGIN:VEVENT
DTSTART;TZID=UTC:20251016T200000
DTEND;TZID=UTC:20251018T204500
DTSTAMP:20260421T041955
CREATED:20251014T182853Z
LAST-MODIFIED:20251014T182853Z
UID:7231-1760644800-1760820300@cordobacapitalcofrade.com
SUMMARY:Solemne Triduo en honor de Nuestra Señora del Desconsuelo en su Soledad
DESCRIPTION:Solemne Triduo en honor de Nuestra Señora del Desconsuelo en su Soledad a las 20:00 horas en la Parroquia del Salvador y Santo Domingo de Silos (Compañía).
URL:https://cordobacapitalcofrade.com/agenda/solemne-triduo-en-honor-de-nuestra-senora-del-desconsuelo-en-su-soledad-2/
LOCATION:Parroquia Salvador y Santo Domingo de Silos (Compañía)\, Pl. de la Compañía\, 7\, Córdoba\, España
CATEGORIES:Cultos
ATTACH;FMTTYPE=image/jpeg:https://cordobacapitalcofrade.com/wp-content/uploads/2025/10/ACH70112-scaled.jpg
END:VEVENT
BEGIN:VEVENT
DTSTART;TZID=UTC:20251018T201500
DTEND;TZID=UTC:20251018T213000
DTSTAMP:20260421T041955
CREATED:20251014T181937Z
LAST-MODIFIED:20251014T181937Z
UID:7226-1760818500-1760823000@cordobacapitalcofrade.com
SUMMARY:Sabatina y Función Solemne de la Divina Pastora de las Almas
DESCRIPTION:Sabatina y Función Solemne de la Divina Pastora de las Almas a las 20:15 horas en la Parroquia de San José y Espíritu Santo.
URL:https://cordobacapitalcofrade.com/agenda/sabatina-y-funcion-solemne-de-la-divina-pastora-de-las-almas/
LOCATION:Parroquia de San José y Espíritu Santo\, Pl. de Santa Teresa\, 1\, Córdoba\, España
CATEGORIES:Cultos
ATTACH;FMTTYPE=image/jpeg:https://cordobacapitalcofrade.com/wp-content/uploads/2025/10/484556914_1030823409070276_6911471045969858403_n.jpg
END:VEVENT
BEGIN:VEVENT
DTSTART;VALUE=DATE:20251019
DTEND;VALUE=DATE:20251020
DTSTAMP:20260421T041955
CREATED:20251014T183735Z
LAST-MODIFIED:20251014T183735Z
UID:7236-1760832000-1760918399@cordobacapitalcofrade.com
SUMMARY:Besamanos de Nuestra Señora del Desconsuelo en su Soledad
DESCRIPTION:Besamanos de Nuestra Señora del Desconsuelo en su Soledad durante todo el día en la Parroquia del Salvador y Santo Domingo de Silos (Compañía).
URL:https://cordobacapitalcofrade.com/agenda/besamanos-de-nuestra-senora-del-desconsuelo-en-su-soledad/
LOCATION:Parroquia Salvador y Santo Domingo de Silos (Compañía)\, Pl. de la Compañía\, 7\, Córdoba\, España
CATEGORIES:Cultos
ATTACH;FMTTYPE=image/jpeg:https://cordobacapitalcofrade.com/wp-content/uploads/2025/10/ACH00179-scaled.jpg
END:VEVENT
BEGIN:VEVENT
DTSTART;TZID=UTC:20251019T133000
DTEND;TZID=UTC:20251019T143000
DTSTAMP:20260421T041955
CREATED:20251014T183146Z
LAST-MODIFIED:20251014T183146Z
UID:7234-1760880600-1760884200@cordobacapitalcofrade.com
SUMMARY:Función Solemne en honor de Nuestra Señora del Desconsuelo en su Soledad
DESCRIPTION:Función Solemne en honor de Nuestra Señora del Desconsuelo en su Soledad\, a las 13:30 horas en la Parroquia del Salvador y Santo Domingo de Silos (Compañía).
URL:https://cordobacapitalcofrade.com/agenda/funcion-solemne-en-honor-de-nuestra-senora-del-desconsuelo-en-su-soledad/
LOCATION:Parroquia Salvador y Santo Domingo de Silos (Compañía)\, Pl. de la Compañía\, 7\, Córdoba\, España
CATEGORIES:Cultos
ATTACH;FMTTYPE=image/jpeg:https://cordobacapitalcofrade.com/wp-content/uploads/2025/10/ACH70112-scaled.jpg
END:VEVENT
BEGIN:VEVENT
DTSTART;TZID=UTC:20251021T200000
DTEND;TZID=UTC:20251023T204500
DTSTAMP:20260421T041955
CREATED:20251016T122456Z
LAST-MODIFIED:20251016T122456Z
UID:7256-1761076800-1761252300@cordobacapitalcofrade.com
SUMMARY:Solemne Triduo en honor del Arcángel San Rafael
DESCRIPTION:Solemne Triduo en honor del Arcángel San Rafael\, a las 20:00 horas en la Iglesia del Juramento de San Rafael.
URL:https://cordobacapitalcofrade.com/agenda/solemne-triduo-en-honor-del-arcangel-san-rafael-2/
LOCATION:Iglesia del Juramento de San Rafael\, Pl. de San Rafael\, 8\, Córdoba\, España
CATEGORIES:Cultos
ATTACH;FMTTYPE=image/jpeg:https://cordobacapitalcofrade.com/wp-content/uploads/2025/10/494549543_981831334162087_7531141836130821276_n.jpg
END:VEVENT
BEGIN:VEVENT
DTSTART;TZID=UTC:20251022T190000
DTEND;TZID=UTC:20251024T201500
DTSTAMP:20260421T041955
CREATED:20251016T115909Z
LAST-MODIFIED:20251016T115909Z
UID:7245-1761159600-1761336900@cordobacapitalcofrade.com
SUMMARY:Solemne Triduo en honor de María Santísima del Amor
DESCRIPTION:Solemne Triduo en honor de María Santísima del Amor\, a las 19:30 horas en la Parroquia de Nuestra Señora de la Paz (San Basilio). Previamente a las 19:00 horas\, rezo del Santo Rosario y ejercicio del Triduo.
URL:https://cordobacapitalcofrade.com/agenda/solemne-triduo-en-honor-de-maria-santisima-del-amor/
LOCATION:Parroquia de Nuestra Señora de la Paz\, Córdoba\, C/San Basilio\, Córdoba\, España
CATEGORIES:Cultos
ATTACH;FMTTYPE=image/jpeg:https://cordobacapitalcofrade.com/wp-content/uploads/2025/10/486325679_953456233662335_1710281622351982747_n.jpg
END:VEVENT
BEGIN:VEVENT
DTSTART;TZID=UTC:20251022T200000
DTEND;TZID=UTC:20251024T210000
DTSTAMP:20260421T041955
CREATED:20250929T194948Z
LAST-MODIFIED:20250929T194948Z
UID:7183-1761163200-1761339600@cordobacapitalcofrade.com
SUMMARY:Triduo en honor de Nuestra Señora de la Salud
DESCRIPTION:Triduo en honor de Nuestra Señora de la Salud\, a las 20:00 horas en la Parroquia de Santa Victoria
URL:https://cordobacapitalcofrade.com/agenda/triduo-en-honor-de-nuestra-senora-de-la-salud/
LOCATION:Parroquia de Santa Victoria\, C. Párroco Agustín Molina\, 20\, Nte. Sierra\, 14960 Córdoba\, Córdoba\, España
CATEGORIES:Cultos
ATTACH;FMTTYPE=image/jpeg:https://cordobacapitalcofrade.com/wp-content/uploads/2025/09/480486752_928303556136174_6481172322048863427_n.jpg
END:VEVENT
BEGIN:VEVENT
DTSTART;TZID=UTC:20251023T200000
DTEND;TZID=UTC:20251023T210000
DTSTAMP:20260421T041955
CREATED:20251020T164049Z
LAST-MODIFIED:20251020T164049Z
UID:7268-1761249600-1761253200@cordobacapitalcofrade.com
SUMMARY:Solemne Eucaristía en honor de Nuestro Padre Jesús Nazareno Rescatado con motivo de la Fiesta del Santísimo Redentor
DESCRIPTION:Solemne Eucaristía en honor de Nuestro Padre Jesús Nazareno Rescatado con motivo de la Fiesta del Santísimo Redentor\, a las 20:00 horas en la Parroquia de Nuestra Señora de Gracia (Trinitarios).
URL:https://cordobacapitalcofrade.com/agenda/solemne-eucaristia-en-honor-de-nuestro-padre-jesus-nazareno-rescatado-con-motivo-de-la-fiesta-del-santisimo-redentor/
LOCATION:Parroquia de Ntra. Sra. De Gracia y San Eulogio (P.P. Trinitarios)\, Plaza Cristo de Gracia\, 5\, Córdoba\, Córdoba\, 14002\, España
CATEGORIES:Cultos
ATTACH;FMTTYPE=image/jpeg:https://cordobacapitalcofrade.com/wp-content/uploads/2025/10/464157970_18323746714159266_3087248212676491917_n.jpg
END:VEVENT
BEGIN:VEVENT
DTSTART;TZID=UTC:20251024T103000
DTEND;TZID=UTC:20251024T113000
DTSTAMP:20260421T041955
CREATED:20251016T122723Z
LAST-MODIFIED:20251016T122723Z
UID:7259-1761301800-1761305400@cordobacapitalcofrade.com
SUMMARY:Misa Votiva en honor de San Rafael Arcángel
DESCRIPTION:Misa Votiva en honor de San Rafael Arcángel presidida por el Obispo de Córdoba\, D. Jesús Fernández González\, a las 10:30 horas en la Iglesia del Juramento.
URL:https://cordobacapitalcofrade.com/agenda/misa-votiva-en-honor-de-san-rafael-arcangel/
LOCATION:Iglesia del Juramento de San Rafael\, Pl. de San Rafael\, 8\, Córdoba\, España
CATEGORIES:Cultos
ATTACH;FMTTYPE=image/jpeg:https://cordobacapitalcofrade.com/wp-content/uploads/2025/10/508715677_1018577560487464_3902968791865355388_n.jpg
END:VEVENT
BEGIN:VEVENT
DTSTART;TZID=UTC:20251024T190000
DTEND;TZID=UTC:20251025T200000
DTSTAMP:20260421T041955
CREATED:20251017T145446Z
LAST-MODIFIED:20251017T145446Z
UID:7262-1761332400-1761422400@cordobacapitalcofrade.com
SUMMARY:Solemne Triduo en honor de María Santísima de las Penas
DESCRIPTION:Solemne Triduo en honor de María Santísima de las Penas\, a las 19:00 horas en la Parroquia de Nuestra Señora de la Asunción.
URL:https://cordobacapitalcofrade.com/agenda/solemne-triduo-en-honor-de-maria-santisima-de-las-penas/
LOCATION:Parroquia de Nuestra Señora de la Asunción\, Plaza de la Marina Española\, s/n\, Noroeste\, 14011 Córdoba\, Córdoba\, España
CATEGORIES:Cultos
ATTACH;FMTTYPE=image/jpeg:https://cordobacapitalcofrade.com/wp-content/uploads/2025/10/484805875_673689985183627_571859300904226094_n.jpg
END:VEVENT
BEGIN:VEVENT
DTSTART;TZID=UTC:20251025T110000
DTEND;TZID=UTC:20251025T210000
DTSTAMP:20260421T041955
CREATED:20251016T120314Z
LAST-MODIFIED:20251016T120314Z
UID:7248-1761390000-1761426000@cordobacapitalcofrade.com
SUMMARY:Besamanos de María Santísima del Amor
DESCRIPTION:Besamanos de María Santísima del Amor en horario de 11:00 a 14:00 horas y de 17:00 a 21:00 horas en la Parroquia de Nuestra Señora de la Paz (San Basilio).
URL:https://cordobacapitalcofrade.com/agenda/besamanos-de-maria-santisima-del-amor-2/
LOCATION:Parroquia de Nuestra Señora de la Paz\, Córdoba\, C/San Basilio\, Córdoba\, España
CATEGORIES:Cultos
ATTACH;FMTTYPE=image/jpeg:https://cordobacapitalcofrade.com/wp-content/uploads/2025/10/Besamanos-Amor-0175-min-1-scaled.jpg
END:VEVENT
BEGIN:VEVENT
DTSTART;TZID=UTC:20251025T193000
DTEND;TZID=UTC:20251025T203000
DTSTAMP:20260421T041955
CREATED:20251016T120451Z
LAST-MODIFIED:20251016T120451Z
UID:7251-1761420600-1761424200@cordobacapitalcofrade.com
SUMMARY:Función Principal de María Santísima del Amor
DESCRIPTION:Función Principal de María Santísima del Amor\, a las 19:30 horas en la Parroquia de Nuestra Señora de la Paz (San Basilio).
URL:https://cordobacapitalcofrade.com/agenda/funcion-principal-de-maria-santisima-del-amor-2/
LOCATION:Parroquia de Nuestra Señora de la Paz\, Córdoba\, C/San Basilio\, Córdoba\, España
CATEGORIES:Cultos
ATTACH;FMTTYPE=image/jpeg:https://cordobacapitalcofrade.com/wp-content/uploads/2025/10/486325679_953456233662335_1710281622351982747_n.jpg
END:VEVENT
BEGIN:VEVENT
DTSTART;TZID=UTC:20251025T200000
DTEND;TZID=UTC:20251025T210000
DTSTAMP:20260421T041955
CREATED:20250929T195107Z
LAST-MODIFIED:20250929T195107Z
UID:7186-1761422400-1761426000@cordobacapitalcofrade.com
SUMMARY:Función Solemne de Nuestra Señora de la Salud
DESCRIPTION:Función Solemne de Nuestra Señora de la Salud\, a las 20:00 horas en la Parroquia de Santa Victoria.
URL:https://cordobacapitalcofrade.com/agenda/funcion-solemne-de-nuestra-senora-de-la-salud/
LOCATION:Parroquia de Santa Victoria\, C. Párroco Agustín Molina\, 20\, Nte. Sierra\, 14960 Córdoba\, Córdoba\, España
CATEGORIES:Cultos
ATTACH;FMTTYPE=image/jpeg:https://cordobacapitalcofrade.com/wp-content/uploads/2025/09/480486752_928303556136174_6481172322048863427_n.jpg
END:VEVENT
BEGIN:VEVENT
DTSTART;TZID=UTC:20251026T120000
DTEND;TZID=UTC:20251026T130000
DTSTAMP:20260421T041955
CREATED:20251017T145607Z
LAST-MODIFIED:20251017T145607Z
UID:7265-1761480000-1761483600@cordobacapitalcofrade.com
SUMMARY:Solemne Triduo en honor de María Santísima de las Penas
DESCRIPTION:Solemne Triduo en honor de María Santísima de las Penas\, a las 12:00 horas en la Parroquia de Nuestra Señora de la Asunción.
URL:https://cordobacapitalcofrade.com/agenda/solemne-triduo-en-honor-de-maria-santisima-de-las-penas-2/
LOCATION:Parroquia de Nuestra Señora de la Asunción\, Plaza de la Marina Española\, s/n\, Noroeste\, 14011 Córdoba\, Córdoba\, España
CATEGORIES:Cultos
ATTACH;FMTTYPE=image/jpeg:https://cordobacapitalcofrade.com/wp-content/uploads/2025/10/484805875_673689985183627_571859300904226094_n.jpg
END:VEVENT
END:VCALENDAR