BEGIN:VCALENDAR
VERSION:2.0
PRODID:-//Agenda Cofrade 365 Días - ECPv6.3.7//NONSGML v1.0//EN
CALSCALE:GREGORIAN
METHOD:PUBLISH
X-ORIGINAL-URL:https://cordobacapitalcofrade.com
X-WR-CALDESC:Eventos para Agenda Cofrade 365 Días
REFRESH-INTERVAL;VALUE=DURATION:PT1H
X-Robots-Tag:noindex
X-PUBLISHED-TTL:PT1H
BEGIN:VTIMEZONE
TZID:UTC
BEGIN:STANDARD
TZOFFSETFROM:+0000
TZOFFSETTO:+0000
TZNAME:UTC
DTSTART:20250101T000000
END:STANDARD
END:VTIMEZONE
BEGIN:VEVENT
DTSTART;TZID=UTC:20251030T193000
DTEND;TZID=UTC:20251101T204500
DTSTAMP:20260421T025828
CREATED:20251027T141955Z
LAST-MODIFIED:20251027T141955Z
UID:7318-1761852600-1762029900@cordobacapitalcofrade.com
SUMMARY:Solemne Triduo de María Santísima de la Caridad
DESCRIPTION:Solemne Triduo de María Santísima de la Caridad\, a las 20:00 horas en la Parroquia de San Andrés Apóstol. Previamente a las 19:30 horas\, Rezo del Santo Rosario.
URL:https://cordobacapitalcofrade.com/agenda/solemne-triduo-de-maria-santisima-de-la-caridad-2/
LOCATION:Parroquia de San Andrés Apóstol\, Pl. San Andrés\, 0\, Córdoba\, España
CATEGORIES:Cultos
ATTACH;FMTTYPE=image/jpeg:https://cordobacapitalcofrade.com/wp-content/uploads/2025/10/464475113_18043806902101169_2454716479092612765_n.jpg
END:VEVENT
BEGIN:VEVENT
DTSTART;TZID=UTC:20251101T080000
DTEND;TZID=UTC:20251101T220000
DTSTAMP:20260421T025828
CREATED:20251024T120737Z
LAST-MODIFIED:20251024T120737Z
UID:7315-1761984000-1762034400@cordobacapitalcofrade.com
SUMMARY:Besamanos de Nuestra Señora Madre de Dios en sus Tristezas
DESCRIPTION:Besamanos de Nuestra Señora Madre de Dios en sus Tristezas durante todo el día en la Real Parroquia de San Lorenzo Mártir.
URL:https://cordobacapitalcofrade.com/agenda/besamanos-de-nuestra-senora-madre-de-dios-en-sus-tristezas-2/
LOCATION:Real Parroquia de San Lorenzo Mártir\, Pl. de San Lorenzo\, 5\, Córdoba\, España
CATEGORIES:Cultos
ATTACH;FMTTYPE=image/jpeg:https://cordobacapitalcofrade.com/wp-content/uploads/2025/10/Besamanos-Tristezas-0441-min-scaled.jpg
END:VEVENT
BEGIN:VEVENT
DTSTART;TZID=UTC:20251101T093000
DTEND;TZID=UTC:20251101T203000
DTSTAMP:20260421T025828
CREATED:20251027T143245Z
LAST-MODIFIED:20251030T123244Z
UID:7327-1761989400-1762029000@cordobacapitalcofrade.com
SUMMARY:Besamanos de Nuestra Señora del Rosario Coronada
DESCRIPTION:Besamanos de Nuestra Señora del Rosario Coronada en horario de 09:30 a 14:30 horas y de 17:00 a 20:30 horas en la Real Iglesia de San Pablo.
URL:https://cordobacapitalcofrade.com/agenda/besamanos-de-nuestra-senora-del-rosario-coronada-3/
LOCATION:Real Iglesia de San Pablo\, C. Capitulares\, 18\, Córdoba\, España
CATEGORIES:Cultos
ATTACH;FMTTYPE=image/jpeg:https://cordobacapitalcofrade.com/wp-content/uploads/2025/10/Besamanos-Rosario-0163-min-scaled.jpg
END:VEVENT
BEGIN:VEVENT
DTSTART;TZID=UTC:20251101T120000
DTEND;TZID=UTC:20251101T130000
DTSTAMP:20260421T025828
CREATED:20251027T144119Z
LAST-MODIFIED:20251027T144119Z
UID:7333-1761998400-1762002000@cordobacapitalcofrade.com
SUMMARY:Misa Solemne en honor de María Santísima del Refugio
DESCRIPTION:Misa Solemne en honor de María Santísima del Refugio a las 12:00 horas en la Parroquia de San José y Espíritu Santo.
URL:https://cordobacapitalcofrade.com/agenda/misa-solemne-en-honor-de-maria-santisima-del-refugio-2/
LOCATION:Parroquia de San José y Espíritu Santo\, Pl. de Santa Teresa\, 1\, Córdoba\, España
CATEGORIES:Cultos
ATTACH;FMTTYPE=image/jpeg:https://cordobacapitalcofrade.com/wp-content/uploads/2025/10/464846809_18250115878273736_1458549967427208806_n.jpg
END:VEVENT
BEGIN:VEVENT
DTSTART;TZID=UTC:20251101T123000
DTEND;TZID=UTC:20251101T133000
DTSTAMP:20260421T025828
CREATED:20251027T144608Z
LAST-MODIFIED:20251027T144608Z
UID:7338-1762000200-1762003800@cordobacapitalcofrade.com
SUMMARY:Solemne Eucaristía ofrecida al Arcángel San Rafael por su protección en el terremoto de 1755
DESCRIPTION:Solemne Eucaristía ofrecida al Arcángel San Rafael por su protección en el terremoto de 1755 a las 12:30 horas en la Iglesia del Juramento de San Rafael.
URL:https://cordobacapitalcofrade.com/agenda/solemne-eucaristia-ofrecida-al-arcangel-san-rafael-por-su-proteccion-en-el-terremoto-de-1755/
LOCATION:Iglesia del Juramento de San Rafael\, Pl. de San Rafael\, 8\, Córdoba\, España
CATEGORIES:Cultos
ATTACH;FMTTYPE=image/jpeg:https://cordobacapitalcofrade.com/wp-content/uploads/2025/10/494549543_981831334162087_7531141836130821276_n-1.jpg
END:VEVENT
BEGIN:VEVENT
DTSTART;TZID=UTC:20251101T130000
DTEND;TZID=UTC:20251101T134500
DTSTAMP:20260421T025828
CREATED:20251023T135325Z
LAST-MODIFIED:20251023T135325Z
UID:7307-1762002000-1762004700@cordobacapitalcofrade.com
SUMMARY:Solemne Triduo en honor de Santa María de Todos los Santos
DESCRIPTION:Solemne Triduo en honor de Santa María de Todos los Santos\, a las 13:00 horas en la Parroquia de San Juan y Todos los Santos (Trinidad).
URL:https://cordobacapitalcofrade.com/agenda/solemne-triduo-en-honor-de-santa-maria-de-todos-los-santos-3/
LOCATION:Parroquia de la Trinidad\, Plaza de la Trinidad\, Córdoba\, España
CATEGORIES:Cultos
ATTACH;FMTTYPE=image/png:https://cordobacapitalcofrade.com/wp-content/uploads/2025/10/santa-maria-de-todos-los-santos-iglesia-trinidad-san-juan-cordoba-3.png
END:VEVENT
BEGIN:VEVENT
DTSTART;TZID=UTC:20251101T170000
DTEND;TZID=UTC:20251101T200000
DTSTAMP:20260421T025828
CREATED:20251027T144310Z
LAST-MODIFIED:20251027T144310Z
UID:7336-1762016400-1762027200@cordobacapitalcofrade.com
SUMMARY:Solemne Besamanos de María Santísima del Refugio
DESCRIPTION:Solemne Besamanos de María Santísima del Refugio en horario de 17:00 a 20:00 horas en la Parroquia de San José y Espíritu Santo.
URL:https://cordobacapitalcofrade.com/agenda/solemne-besamanos-de-maria-santisima-del-refugio-3/
LOCATION:Parroquia de San José y Espíritu Santo\, Pl. de Santa Teresa\, 1\, Córdoba\, España
CATEGORIES:Cultos
ATTACH;FMTTYPE=image/jpeg:https://cordobacapitalcofrade.com/wp-content/uploads/2025/10/464846809_18250115878273736_1458549967427208806_n.jpg
END:VEVENT
BEGIN:VEVENT
DTSTART;TZID=UTC:20251101T201500
DTEND;TZID=UTC:20251105T211500
DTSTAMP:20260421T025828
CREATED:20251024T115816Z
LAST-MODIFIED:20251024T115816Z
UID:7312-1762028100-1762377300@cordobacapitalcofrade.com
SUMMARY:Solemne Quinario del Santísimo Cristo del Remedio de Ánimas
DESCRIPTION:Solemne Quinario del Santísimo Cristo del Remedio de Ánimas\, a las 20:30 horas en la Real Parroquia de San Lorenzo Mártir. Previamente\, a las 20:15 horas Exposición de su Divina Majestad\, Ejercicio del Quinario y Reserva. La Eucaristía del día 2 estará presidida por el Obispo de Córdoba\, D. Jesús Fernández González.
URL:https://cordobacapitalcofrade.com/agenda/solemne-quinario-del-santisimo-cristo-del-remedio-de-animas/
LOCATION:Real Parroquia de San Lorenzo Mártir\, Pl. de San Lorenzo\, 5\, Córdoba\, España
CATEGORIES:Cultos
ATTACH;FMTTYPE=image/jpeg:https://cordobacapitalcofrade.com/wp-content/uploads/2025/10/Quinario-Animas-0383-min-scaled.jpg
END:VEVENT
BEGIN:VEVENT
DTSTART;TZID=UTC:20251106T190000
DTEND;TZID=UTC:20251107T200000
DTSTAMP:20260421T025828
CREATED:20251103T152958Z
LAST-MODIFIED:20251103T152958Z
UID:7385-1762455600-1762545600@cordobacapitalcofrade.com
SUMMARY:Solemne Triduo en honor de María Santísima de la Quinta Angustia
DESCRIPTION:Solemne Triduo en honor de María Santísima de la Quinta Angustia a las 19:00 horas en la Iglesia de la Merced.
URL:https://cordobacapitalcofrade.com/agenda/solemne-triduo-en-honor-de-maria-santisima-de-la-quinta-angustia/
LOCATION:Iglesia de la Merced\, Pl. de Colón\, 15\, Córdoba\, Córdoba\, 14001\, España
CATEGORIES:Cultos
ATTACH;FMTTYPE=image/jpeg:https://cordobacapitalcofrade.com/wp-content/uploads/2025/11/FGPavGRXIAYtIeS.jpg
END:VEVENT
BEGIN:VEVENT
DTSTART;TZID=UTC:20251108T200000
DTEND;TZID=UTC:20251108T210000
DTSTAMP:20260421T025828
CREATED:20251103T153147Z
LAST-MODIFIED:20251103T153147Z
UID:7388-1762632000-1762635600@cordobacapitalcofrade.com
SUMMARY:Solemne Triduo en honor de María Santísima de la Quinta Angustia
DESCRIPTION:Solemne Triduo en honor de María Santísima de la Quinta Angustia a las 20:00 horas en la Iglesia de la Merced.
URL:https://cordobacapitalcofrade.com/agenda/solemne-triduo-en-honor-de-maria-santisima-de-la-quinta-angustia-2/
LOCATION:Iglesia de la Merced\, Pl. de Colón\, 15\, Córdoba\, Córdoba\, 14001\, España
CATEGORIES:Cultos
ATTACH;FMTTYPE=image/jpeg:https://cordobacapitalcofrade.com/wp-content/uploads/2025/11/FGPavGRXIAYtIeS.jpg
END:VEVENT
BEGIN:VEVENT
DTSTART;TZID=UTC:20251109T110000
DTEND;TZID=UTC:20251109T203000
DTSTAMP:20260421T025828
CREATED:20251103T154009Z
LAST-MODIFIED:20251103T154009Z
UID:7392-1762686000-1762720200@cordobacapitalcofrade.com
SUMMARY:Besamanos de María Santísima de la Quinta Angustia
DESCRIPTION:Besamanos de María Santísima de la Quinta Angustia en horario de 11:00 a 14:00 horas y de 17:00 a 20:30 horas en la Iglesia de la Merced.
URL:https://cordobacapitalcofrade.com/agenda/besamanos-de-maria-santisima-de-la-quinta-angustia-3/
LOCATION:Iglesia de la Merced\, Pl. de Colón\, 15\, Córdoba\, Córdoba\, 14001\, España
CATEGORIES:Cultos
ATTACH;FMTTYPE=image/jpeg:https://cordobacapitalcofrade.com/wp-content/uploads/2025/11/Besamanos-Quinta-Angustia-0284-min-scaled.jpg
END:VEVENT
BEGIN:VEVENT
DTSTART;TZID=UTC:20251109T110000
DTEND;TZID=UTC:20251109T210000
DTSTAMP:20260421T025828
CREATED:20251103T160342Z
LAST-MODIFIED:20251103T160342Z
UID:7402-1762686000-1762722000@cordobacapitalcofrade.com
SUMMARY:Besamanos de María Santísima de Rocío y Lágrimas
DESCRIPTION:Besamanos de María Santísima de Rocío y Lágrimas en horario de 11:00 a 13:30 horas y de 18:00 a 21:00 horas en la Capilla de San Roque.
URL:https://cordobacapitalcofrade.com/agenda/besamanos-de-maria-santisima-de-rocio-y-lagrimas/
LOCATION:Capilla de San Roque\, Calle Buen Pastor\, 20\, Córdoba\, Córdoba\, 14003
CATEGORIES:Cultos
ATTACH;FMTTYPE=image/jpeg:https://cordobacapitalcofrade.com/wp-content/uploads/2025/11/486366698_1103977251772976_4425967312790061465_n.jpg
END:VEVENT
BEGIN:VEVENT
DTSTART;TZID=UTC:20251109T130000
DTEND;TZID=UTC:20251109T140000
DTSTAMP:20260421T025828
CREATED:20251103T153402Z
LAST-MODIFIED:20251103T153402Z
UID:7390-1762693200-1762696800@cordobacapitalcofrade.com
SUMMARY:Función Solemne de María Santísima de la Quinta Angustia
DESCRIPTION:Función Solemne de María Santísima de la Quinta Angustia\, a las 13:00 horas en la Iglesia de la Merced.
URL:https://cordobacapitalcofrade.com/agenda/funcion-solemne-de-maria-santisima-de-la-quinta-angustia/
LOCATION:Iglesia de la Merced\, Pl. de Colón\, 15\, Córdoba\, Córdoba\, 14001\, España
CATEGORIES:Cultos
ATTACH;FMTTYPE=image/jpeg:https://cordobacapitalcofrade.com/wp-content/uploads/2025/11/FGPavGRXIAYtIeS.jpg
END:VEVENT
BEGIN:VEVENT
DTSTART;TZID=UTC:20251112T203000
DTEND;TZID=UTC:20251114T211500
DTSTAMP:20260421T025828
CREATED:20251103T160901Z
LAST-MODIFIED:20251103T160901Z
UID:7405-1762979400-1763154900@cordobacapitalcofrade.com
SUMMARY:Solemne Triduo de María Santísima de Rocío y Lágrimas
DESCRIPTION:Solemne Triduo de María Santísima de Rocío y Lágrimas\, a las 20:30 horas en la Capilla de San Roque.
URL:https://cordobacapitalcofrade.com/agenda/solemne-triduo-de-maria-santisima-de-rocio-y-lagrimas/
LOCATION:Capilla de San Roque\, Calle Buen Pastor\, 20\, Córdoba\, Córdoba\, 14003
CATEGORIES:Cultos
ATTACH;FMTTYPE=image/jpeg:https://cordobacapitalcofrade.com/wp-content/uploads/2025/11/486842396_1103653855138649_5568257371134633644_n.jpg
END:VEVENT
BEGIN:VEVENT
DTSTART;TZID=UTC:20251113T184500
DTEND;TZID=UTC:20251115T201500
DTSTAMP:20260421T025828
CREATED:20251109T134452Z
LAST-MODIFIED:20251109T134452Z
UID:7454-1763059500-1763237700@cordobacapitalcofrade.com
SUMMARY:Solemne Triduo de Nuestra Señora del Mayor Dolor en su Soledad
DESCRIPTION:Solemne Triduo de Nuestra Señora del Mayor Dolor en su Soledad\, a las 19:30 horas en el Santuario de Nuestra Señora del Carmen (San Cayetano). Previamente\, a las 18:45 horas Exposición del Santísimo Sacramento\, rezo del Santo Rosario y ejercicio del Triduo.
URL:https://cordobacapitalcofrade.com/agenda/solemne-triduo-de-nuestra-senora-del-mayor-dolor-en-su-soledad/
LOCATION:Santuario de Nuestra Señora del Carmen\, C. Cta. de San Cayetano\, Centro\, 14001 Córdoba\, Córdoba\, España
CATEGORIES:Cultos
ATTACH;FMTTYPE=image/jpeg:https://cordobacapitalcofrade.com/wp-content/uploads/2025/11/547956997_1274821134444390_8392733053099827514_n.jpg
END:VEVENT
BEGIN:VEVENT
DTSTART;TZID=UTC:20251113T193000
DTEND;TZID=UTC:20251115T201500
DTSTAMP:20260421T025828
CREATED:20251109T142529Z
LAST-MODIFIED:20251109T142529Z
UID:7467-1763062200-1763237700@cordobacapitalcofrade.com
SUMMARY:Triduo en honor de Nuestra Señora Reina de los Mártires
DESCRIPTION:Triduo en honor de Nuestra Señora Reina de los Mártires\, a las 19:30 horas en la Real Colegiata de San Hipólito.
URL:https://cordobacapitalcofrade.com/agenda/triduo-en-honor-de-nuestra-senora-reina-de-los-martires/
LOCATION:Real Colegiata de San Hipólito\, Pl. de San Ignacio de Loyola\, Córdoba\, España
CATEGORIES:Cultos
ATTACH;FMTTYPE=image/jpeg:https://cordobacapitalcofrade.com/wp-content/uploads/2025/11/Triduo-Reina-de-los-Martires-0052-min-scaled.jpg
END:VEVENT
BEGIN:VEVENT
DTSTART;TZID=UTC:20251115T130000
DTEND;TZID=UTC:20251115T140000
DTSTAMP:20260421T025828
CREATED:20251103T161439Z
LAST-MODIFIED:20251103T161439Z
UID:7408-1763211600-1763215200@cordobacapitalcofrade.com
SUMMARY:Función Principal de María Santísima de Rocío y Lágrimas
DESCRIPTION:Función Principal de María Santísima de Rocío y Lágrimas a las 13:00 horas en la Capilla de San Roque.
URL:https://cordobacapitalcofrade.com/agenda/funcion-principal-de-maria-santisima-de-rocio-y-lagrimas-2/
LOCATION:Capilla de San Roque\, Calle Buen Pastor\, 20\, Córdoba\, Córdoba\, 14003
CATEGORIES:Cultos
ATTACH;FMTTYPE=image/jpeg:https://cordobacapitalcofrade.com/wp-content/uploads/2025/11/486842396_1103653855138649_5568257371134633644_n.jpg
END:VEVENT
BEGIN:VEVENT
DTSTART;TZID=UTC:20251116T120000
DTEND;TZID=UTC:20251116T130000
DTSTAMP:20260421T025828
CREATED:20251109T142707Z
LAST-MODIFIED:20251109T142707Z
UID:7470-1763294400-1763298000@cordobacapitalcofrade.com
SUMMARY:Fiesta de Fundación de la Hermandad de la Buena Muerte
DESCRIPTION:Fiesta de Fundación de la Hermandad\, a las 12:00 horas en la Real Colegiata de San Hipólito.
URL:https://cordobacapitalcofrade.com/agenda/fiesta-de-fundacion-de-la-hermandad-de-la-buena-muerte/
LOCATION:Real Colegiata de San Hipólito\, Pl. de San Ignacio de Loyola\, Córdoba\, España
CATEGORIES:Cultos
ATTACH;FMTTYPE=image/jpeg:https://cordobacapitalcofrade.com/wp-content/uploads/2025/11/Triduo-Reina-de-los-Martires-0052-min-scaled.jpg
END:VEVENT
BEGIN:VEVENT
DTSTART;TZID=UTC:20251116T130000
DTEND;TZID=UTC:20251116T140000
DTSTAMP:20260421T025828
CREATED:20251109T135114Z
LAST-MODIFIED:20251109T135114Z
UID:7457-1763298000-1763301600@cordobacapitalcofrade.com
SUMMARY:Función Principal de Nuestra Señora del Mayor Dolor en su Soledad
DESCRIPTION:Función Principal de Nuestra Señora del Mayor Dolor en su Soledad\, a las 13:00 horas en el Santuario de Nuestra Señora del Carmen (San Cayetano). Durante la Eucaristía actuará la soprano Dña. Auxiliadora Belmonte y un Trío Musical.
URL:https://cordobacapitalcofrade.com/agenda/funcion-principal-de-nuestra-senora-del-mayor-dolor-en-su-soledad-3/
LOCATION:Santuario de Nuestra Señora del Carmen\, C. Cta. de San Cayetano\, Centro\, 14001 Córdoba\, Córdoba\, España
CATEGORIES:Cultos
ATTACH;FMTTYPE=image/jpeg:https://cordobacapitalcofrade.com/wp-content/uploads/2025/11/547956997_1274821134444390_8392733053099827514_n.jpg
END:VEVENT
BEGIN:VEVENT
DTSTART;TZID=UTC:20251117T103000
DTEND;TZID=UTC:20251117T210000
DTSTAMP:20260421T025828
CREATED:20251112T140404Z
LAST-MODIFIED:20251112T140404Z
UID:7516-1763375400-1763413200@cordobacapitalcofrade.com
SUMMARY:Besamanos de Nuestra Señora Reina de los Mártires
DESCRIPTION:Besamanos de Nuestra Señora Reina de los Mártires en horario de 10:30 a 14:00 horas y de 17:00 a 21:00 horas en la Real Colegiata de San Hipólito.
URL:https://cordobacapitalcofrade.com/agenda/besamanos-de-nuestra-senora-reina-de-los-martires-3/
LOCATION:Real Colegiata de San Hipólito\, Pl. de San Ignacio de Loyola\, Córdoba\, España
CATEGORIES:Cultos
ATTACH;FMTTYPE=image/jpeg:https://cordobacapitalcofrade.com/wp-content/uploads/2025/11/Besamanos-Reina-de-los-Martires-0003-min-scaled.jpg
END:VEVENT
BEGIN:VEVENT
DTSTART;TZID=UTC:20251117T190000
DTEND;TZID=UTC:20251117T200000
DTSTAMP:20260421T025828
CREATED:20251030T130944Z
LAST-MODIFIED:20251030T130944Z
UID:7361-1763406000-1763409600@cordobacapitalcofrade.com
SUMMARY:Santa Misa de rito Hispano-Mozárabe en honor de San Acisclo y Santa Victoria
DESCRIPTION:Santa Misa de rito Hispano-Mozárabe en honor de San Acisclo y Santa Victoria\, a las 19:00 horas en la Basílica de San Pedro.
URL:https://cordobacapitalcofrade.com/agenda/santa-misa-de-rito-hispano-mozarabe-en-honor-de-san-acisclo-y-santa-victoria-2/
LOCATION:Basílica de San Pedro\, Pl. de San Pedro\, 1\, 14002 Córdoba\, Córdoba\, España
CATEGORIES:Cultos
ATTACH;FMTTYPE=image/jpeg:https://cordobacapitalcofrade.com/wp-content/uploads/2025/10/571201390_1157136969845470_4215397813819751286_n.jpg
END:VEVENT
BEGIN:VEVENT
DTSTART;TZID=UTC:20251118T190000
DTEND;TZID=UTC:20251122T204500
DTSTAMP:20260421T025828
CREATED:20251108T130736Z
LAST-MODIFIED:20251108T130736Z
UID:7418-1763492400-1763844300@cordobacapitalcofrade.com
SUMMARY:Solemne Quinario en honor de Nuestro Padre Jesús de los Afligidos
DESCRIPTION:Solemne Quinario en honor de Nuestro Padre Jesús de los Afligidos\, a las 20:00 horas en la Parroquia de San Vicente Ferrer. Previamente\, a las 19:00 horas\, Exposición del Santísimo Sacramento\, Santo Rosario\, Ejercicio del Quinario\, Bendición Eucarística y Reserva de su Divina Majestad.
URL:https://cordobacapitalcofrade.com/agenda/solemne-quinario-en-honor-de-nuestro-padre-jesus-de-los-afligidos-2/
LOCATION:Parroquia de San Vicente Ferrer (Cañero)\, C. Funcionario Lázaro Navajas\, 70\, 14014 Córdoba\, España\, Córdoba\, España
CATEGORIES:Cultos
ATTACH;FMTTYPE=image/jpeg:https://cordobacapitalcofrade.com/wp-content/uploads/2025/11/483508239_18495766243012587_1261212496450754938_n.jpg
END:VEVENT
BEGIN:VEVENT
DTSTART;TZID=UTC:20251119T190000
DTEND;TZID=UTC:20251121T201500
DTSTAMP:20260421T025828
CREATED:20251113T162928Z
LAST-MODIFIED:20251113T162928Z
UID:7525-1763578800-1763756100@cordobacapitalcofrade.com
SUMMARY:Solemne Triduo en honor de Nuestro Padre Jesús de los Reyes
DESCRIPTION:Solemne Triduo en honor de Nuestro Padre Jesús de los Reyes\, a las 19:30 horas en la Real Parroquia de San Lorenzo Mártir. Previamente\, a las 19:00 horas\, Exposición de su Divina Majestad.
URL:https://cordobacapitalcofrade.com/agenda/solemne-triduo-en-honor-de-nuestro-padre-jesus-de-los-reyes/
LOCATION:Real Parroquia de San Lorenzo Mártir\, Pl. de San Lorenzo\, 5\, Córdoba\, España
CATEGORIES:Cultos
ATTACH;FMTTYPE=image/jpeg:https://cordobacapitalcofrade.com/wp-content/uploads/2025/11/480316095_640178558525910_1186795278193469015_n.jpg
END:VEVENT
BEGIN:VEVENT
DTSTART;TZID=UTC:20251119T200000
DTEND;TZID=UTC:20251121T210000
DTSTAMP:20260421T025828
CREATED:20251116T125654Z
LAST-MODIFIED:20251116T125654Z
UID:7548-1763582400-1763758800@cordobacapitalcofrade.com
SUMMARY:Triduo de Nuestro Padre Jesús de la Fe
DESCRIPTION:Triduo de Nuestro Padre Jesús de la Fe\, a las 20:00 horas en la Parroquia del Beato Álvaro de Córdoba.
URL:https://cordobacapitalcofrade.com/agenda/triduo-de-nuestro-padre-jesus-de-la-fe/
LOCATION:Parroquia del Beato Álvaro de Córdoba\, Av. Guerrita\, 23\, 14005 Córdoba\, Córdoba\, España
CATEGORIES:Cultos
ATTACH;FMTTYPE=image/jpeg:https://cordobacapitalcofrade.com/wp-content/uploads/2025/11/468094070_8851909298181263_6080144183053794086_n.jpg
END:VEVENT
BEGIN:VEVENT
DTSTART;TZID=UTC:20251120T193000
DTEND;TZID=UTC:20251122T201500
DTSTAMP:20260421T025828
CREATED:20251117T131522Z
LAST-MODIFIED:20251117T131522Z
UID:7564-1763667000-1763842500@cordobacapitalcofrade.com
SUMMARY:Solemne Triduo en honor de Nuestro Padre Jesús del Silencio
DESCRIPTION:Solemne Triduo en honor de Nuestro Padre Jesús del Silencio\, a las 19:30 horas en la Parroquia de Jesús Divino Obrero.
URL:https://cordobacapitalcofrade.com/agenda/solemne-triduo-en-honor-de-nuestro-padre-jesus-del-silencio-2/
LOCATION:Parroquia de Jesús Divino Obrero\, C. Beato Henares\, 1\, Córdoba\, España
CATEGORIES:Cultos
ATTACH;FMTTYPE=image/jpeg:https://cordobacapitalcofrade.com/wp-content/uploads/2025/11/483542644_664767996112753_5676479699632895587_n.jpg
END:VEVENT
BEGIN:VEVENT
DTSTART;TZID=UTC:20251120T200000
DTEND;TZID=UTC:20251122T204500
DTSTAMP:20260421T025828
CREATED:20251027T142521Z
LAST-MODIFIED:20251028T180958Z
UID:7321-1763668800-1763844300@cordobacapitalcofrade.com
SUMMARY:Solemne Triduo en honor de Nuestra Señora de la Soledad
DESCRIPTION:Solemne Triduo en honor de Nuestra Señora de la Soledad\, a las 20:00 horas en la Iglesia Hospital de Jesús Nazareno. \n 
URL:https://cordobacapitalcofrade.com/agenda/solemne-triduo-en-honor-de-nuestra-senora-de-la-soledad-2/
LOCATION:Iglesia Hospital de Jesús Nazareno\, C. Jesús Nazareno\, 11\, Córdoba\, España
CATEGORIES:Cultos
ATTACH;FMTTYPE=image/jpeg:https://cordobacapitalcofrade.com/wp-content/uploads/2025/10/485068178_1085450700286975_3677618926895110983_n.jpg
END:VEVENT
BEGIN:VEVENT
DTSTART;TZID=UTC:20251121T103000
DTEND;TZID=UTC:20251121T210000
DTSTAMP:20260421T025828
CREATED:20251114T121757Z
LAST-MODIFIED:20251114T121757Z
UID:7536-1763721000-1763758800@cordobacapitalcofrade.com
SUMMARY:Besamanos de Nuestra Señora de la Piedad
DESCRIPTION:Besamanos de Nuestra Señora de la Piedad en horario de 10:30 a 21:00 horas en el Santuario de María Auxiliadora.
URL:https://cordobacapitalcofrade.com/agenda/besamanos-de-nuestra-senora-de-la-piedad-3/
LOCATION:Santuario de María Auxiliadora\, C. María Auxiliadora\, 8\, Centro\, 14002 Córdoba\, Córdoba\, España
CATEGORIES:Cultos
ATTACH;FMTTYPE=image/jpeg:https://cordobacapitalcofrade.com/wp-content/uploads/2025/11/Besamanos-Piedad-0035-scaled.jpg
END:VEVENT
BEGIN:VEVENT
DTSTART;TZID=UTC:20251121T200000
DTEND;TZID=UTC:20251121T210000
DTSTAMP:20260421T025828
CREATED:20251114T122329Z
LAST-MODIFIED:20251114T122329Z
UID:7539-1763755200-1763758800@cordobacapitalcofrade.com
SUMMARY:Solemne Función de Regla en honor de Nuestra Señora de la Presentación
DESCRIPTION:Solemne Función de Regla en honor de Nuestra Señora de la Presentación\, a las 20:00 horas en la Iglesia del Juramento de San Rafael.
URL:https://cordobacapitalcofrade.com/agenda/solemne-funcion-de-regla-en-honor-de-nuestra-senora-de-la-presentacion-2/
LOCATION:Iglesia del Juramento de San Rafael\, Pl. de San Rafael\, 8\, Córdoba\, España
CATEGORIES:Cultos
ATTACH;FMTTYPE=image/jpeg:https://cordobacapitalcofrade.com/wp-content/uploads/2025/11/Presentacion-2025-scaled-1.jpg
END:VEVENT
BEGIN:VEVENT
DTSTART;TZID=UTC:20251122T190000
DTEND;TZID=UTC:20251122T210000
DTSTAMP:20260421T025828
CREATED:20251112T134132Z
LAST-MODIFIED:20251112T134132Z
UID:7506-1763838000-1763845200@cordobacapitalcofrade.com
SUMMARY:Apertura de la Puerta Santa por el Año Jubilar 450º Aniversario Santos Mártires
DESCRIPTION:Apertura de la Puerta Santa por el Año Jubilar por 450º Aniversario del hallazgo de las reliquias de los Santos Mártires\, a las 19:00 horas en la Basílica de San Pedro. Preside la Eucaristía el Obispo de Córdoba\, D. Jesús Fernández González.
URL:https://cordobacapitalcofrade.com/agenda/apertura-de-la-puerta-santa-por-el-ano-jubilar-450o-aniversario-santos-martires/
LOCATION:Basílica de San Pedro\, Pl. de San Pedro\, 1\, 14002 Córdoba\, Córdoba\, España
CATEGORIES:Cultos
ATTACH;FMTTYPE=image/jpeg:https://cordobacapitalcofrade.com/wp-content/uploads/2025/11/Eglise_San_Pedro_-_Cordoue_ES61_-_2023-04-28_-_1.jpg
END:VEVENT
BEGIN:VEVENT
DTSTART;TZID=UTC:20251122T200000
DTEND;TZID=UTC:20251122T210000
DTSTAMP:20260421T025828
CREATED:20251116T125933Z
LAST-MODIFIED:20251116T125933Z
UID:7551-1763841600-1763845200@cordobacapitalcofrade.com
SUMMARY:Función Solemne a Nuestro Padre Jesús de la Fe
DESCRIPTION:Función Solemne a Nuestro Padre Jesús de la Fe\, a las 20:00 horas en la Parroquia del Beato Álvaro de Córdoba.
URL:https://cordobacapitalcofrade.com/agenda/funcion-solemne-a-nuestro-padre-jesus-de-la-fe-3/
LOCATION:Parroquia del Beato Álvaro de Córdoba\, Av. Guerrita\, 23\, 14005 Córdoba\, Córdoba\, España
CATEGORIES:Cultos
ATTACH;FMTTYPE=image/jpeg:https://cordobacapitalcofrade.com/wp-content/uploads/2025/11/468094070_8851909298181263_6080144183053794086_n.jpg
END:VEVENT
END:VCALENDAR