BEGIN:VCALENDAR
VERSION:2.0
PRODID:-//Agenda Cofrade 365 Días - ECPv6.3.7//NONSGML v1.0//EN
CALSCALE:GREGORIAN
METHOD:PUBLISH
X-WR-CALNAME:Agenda Cofrade 365 Días
X-ORIGINAL-URL:https://cordobacapitalcofrade.com
X-WR-CALDESC:Eventos para Agenda Cofrade 365 Días
REFRESH-INTERVAL;VALUE=DURATION:PT1H
X-Robots-Tag:noindex
X-PUBLISHED-TTL:PT1H
BEGIN:VTIMEZONE
TZID:UTC
BEGIN:STANDARD
TZOFFSETFROM:+0000
TZOFFSETTO:+0000
TZNAME:UTC
DTSTART:20240101T000000
END:STANDARD
END:VTIMEZONE
BEGIN:VEVENT
DTSTART;TZID=UTC:20241124T193000
DTEND;TZID=UTC:20241125T203000
DTSTAMP:20260425T192826
CREATED:20241113T162741Z
LAST-MODIFIED:20241113T162741Z
UID:4056-1732476600-1732566600@cordobacapitalcofrade.com
SUMMARY:Solemne Triduo de los Santos Mártires de Córdoba
DESCRIPTION:Solemne Triduo de los Santos Mártires de Córdoba\, a las 19:30 horas en la Basílica de San Pedro.
URL:https://cordobacapitalcofrade.com/agenda/solemne-triduo-de-los-santos-martires-de-cordoba/
LOCATION:Basílica de San Pedro\, Pl. de San Pedro\, 1\, 14002 Córdoba\, Córdoba\, España
CATEGORIES:Cultos
ATTACH;FMTTYPE=image/jpeg:https://cordobacapitalcofrade.com/wp-content/uploads/2024/11/MARTIRES-URNA.jpg
END:VEVENT
BEGIN:VEVENT
DTSTART;TZID=UTC:20241125T183000
DTEND;TZID=UTC:20241127T190000
DTSTAMP:20260425T192826
CREATED:20241121T144332Z
LAST-MODIFIED:20241121T144332Z
UID:4176-1732559400-1732734000@cordobacapitalcofrade.com
SUMMARY:Triduo en honor de la Virgen de la Medalla Milagrosa
DESCRIPTION:Triduo en honor de la Virgen de la Medalla Milagrosa\, a las 18:30 horas en el Colegio de la Milagrosa.
URL:https://cordobacapitalcofrade.com/agenda/triduo-en-honor-de-la-virgen-de-la-medalla-milagrosa/
LOCATION:Colegio de la Milagrosa\, C. Conde de Gondomar\, 4\, 14003 Córdoba\, Córdoba\, España
CATEGORIES:Cultos
ATTACH;FMTTYPE=image/jpeg:https://cordobacapitalcofrade.com/wp-content/uploads/2024/11/17e59b68-0593-433d-aadf-4e0873dbd8fe.jpg
END:VEVENT
END:VCALENDAR