BEGIN:VCALENDAR
VERSION:2.0
PRODID:-//Agenda Cofrade 365 Días - ECPv6.3.7//NONSGML v1.0//EN
CALSCALE:GREGORIAN
METHOD:PUBLISH
X-ORIGINAL-URL:https://cordobacapitalcofrade.com
X-WR-CALDESC:Eventos para Agenda Cofrade 365 Días
REFRESH-INTERVAL;VALUE=DURATION:PT1H
X-Robots-Tag:noindex
X-PUBLISHED-TTL:PT1H
BEGIN:VTIMEZONE
TZID:UTC
BEGIN:STANDARD
TZOFFSETFROM:+0000
TZOFFSETTO:+0000
TZNAME:UTC
DTSTART:20240101T000000
END:STANDARD
END:VTIMEZONE
BEGIN:VEVENT
DTSTART;TZID=UTC:20241215T193000
DTEND;TZID=UTC:20241217T203000
DTSTAMP:20260425T205817
CREATED:20241210T172243Z
LAST-MODIFIED:20241210T172243Z
UID:4567-1734291000-1734467400@cordobacapitalcofrade.com
SUMMARY:Solemne Triduo de María Santísima de la O
DESCRIPTION:Solemne Triduo de María Santísima de la O a las 20:00 horas en la Parroquia de Nuestra Señora de la Aurora. Previamente a las 19:30 horas Rezo del Santo Rosario.
URL:https://cordobacapitalcofrade.com/agenda/solemne-triduo-de-maria-santisima-de-la-o/
LOCATION:Parroquia de Nuestra Señora de la Aurora\, Plaza Mahatma Gandhi sn\, Córdoba\, Córdoba\, 14014\, España
CATEGORIES:Cultos
ATTACH;FMTTYPE=image/jpeg:https://cordobacapitalcofrade.com/wp-content/uploads/2024/12/410878891_357873383493899_2895077443275328540_n.jpg
END:VEVENT
END:VCALENDAR