BEGIN:VCALENDAR
VERSION:2.0
PRODID:-//Agenda Cofrade 365 Días - ECPv6.3.7//NONSGML v1.0//EN
CALSCALE:GREGORIAN
METHOD:PUBLISH
X-WR-CALNAME:Agenda Cofrade 365 Días
X-ORIGINAL-URL:https://cordobacapitalcofrade.com
X-WR-CALDESC:Eventos para Agenda Cofrade 365 Días
REFRESH-INTERVAL;VALUE=DURATION:PT1H
X-Robots-Tag:noindex
X-PUBLISHED-TTL:PT1H
BEGIN:VTIMEZONE
TZID:UTC
BEGIN:STANDARD
TZOFFSETFROM:+0000
TZOFFSETTO:+0000
TZNAME:UTC
DTSTART:20240101T000000
END:STANDARD
END:VTIMEZONE
BEGIN:VEVENT
DTSTART;TZID=UTC:20241218T090000
DTEND;TZID=UTC:20241218T210000
DTSTAMP:20260425T170146
CREATED:20241206T123804Z
LAST-MODIFIED:20241206T123804Z
UID:4480-1734512400-1734555600@cordobacapitalcofrade.com
SUMMARY:Besamanos de María Santísima de la Esperanza
DESCRIPTION:Besamanos de María Santísima de la Esperanza en horario de 09:00 a 21:00 horas en la Parroquia de San Andrés Apóstol.
URL:https://cordobacapitalcofrade.com/agenda/besamanos-de-maria-santisima-de-la-esperanza-2/
LOCATION:Parroquia de San Andrés Apóstol\, Pl. San Andrés\, 0\, Córdoba\, España
CATEGORIES:Cultos
ATTACH;FMTTYPE=image/jpeg:https://cordobacapitalcofrade.com/wp-content/uploads/2024/12/Besamanos-Esperanza-0127-min-scaled.jpg
END:VEVENT
BEGIN:VEVENT
DTSTART;TZID=UTC:20241218T100000
DTEND;TZID=UTC:20241218T220000
DTSTAMP:20260425T170146
CREATED:20241212T153327Z
LAST-MODIFIED:20241212T153327Z
UID:4588-1734516000-1734559200@cordobacapitalcofrade.com
SUMMARY:Besamanos de María Santísima de la O
DESCRIPTION:Besamanos de María Santísima de la O en horario de 10:00 a 22:00 horas en la Parroquia de Nuestra Señora de la Aurora.
URL:https://cordobacapitalcofrade.com/agenda/besamanos-de-maria-santisima-de-la-o/
LOCATION:Parroquia de Nuestra Señora de la Aurora\, Plaza Mahatma Gandhi sn\, Córdoba\, Córdoba\, 14014\, España
CATEGORIES:Cultos
ATTACH;FMTTYPE=image/jpeg:https://cordobacapitalcofrade.com/wp-content/uploads/2024/12/410899905_359521526662418_3131743768379737114_n.jpg
END:VEVENT
BEGIN:VEVENT
DTSTART;TZID=UTC:20241218T190000
DTEND;TZID=UTC:20241220T200000
DTSTAMP:20260425T170146
CREATED:20241216T135608Z
LAST-MODIFIED:20241216T135608Z
UID:4600-1734548400-1734724800@cordobacapitalcofrade.com
SUMMARY:Solemne Triduo de Nuestra Señora del Buen Fin
DESCRIPTION:Solemne Triduo de Nuestra Señora del Buen Fin a las 19:30 horas en la Parroquia de San José y Espíritu Santo. Previamente\, a las 19:00 horas Rezo del Santo Rosario.
URL:https://cordobacapitalcofrade.com/agenda/solemne-triduo-de-nuestra-senora-del-buen-fin/
LOCATION:Parroquia de San José y Espíritu Santo\, Pl. de Santa Teresa\, 1\, Córdoba\, España
CATEGORIES:Cultos
ATTACH;FMTTYPE=image/jpeg:https://cordobacapitalcofrade.com/wp-content/uploads/2024/12/409922242_738742964949766_3808006029653026326_n.jpg
END:VEVENT
BEGIN:VEVENT
DTSTART;TZID=UTC:20241218T190000
DTEND;TZID=UTC:20241220T200000
DTSTAMP:20260425T170146
CREATED:20241216T140213Z
LAST-MODIFIED:20241216T140213Z
UID:4608-1734548400-1734724800@cordobacapitalcofrade.com
SUMMARY:Solemne Triduo de Nuestra Señora de Belén
DESCRIPTION:Solemne Triduo de Nuestra Señora de Belén\, a las 19:30 horas en la Parroquia de Nuestra Señora de Belén. Previamente\, a las 19:00 horas Rezo del Santo Rosario.
URL:https://cordobacapitalcofrade.com/agenda/solemne-triduo-de-nuestra-senora-de-belen/
LOCATION:Parroquia de Nuestra Señora de Belén\, Levante\, 0\, 14007 Córdoba\, Córdoba\, España
CATEGORIES:Cultos
ATTACH;FMTTYPE=image/jpeg:https://cordobacapitalcofrade.com/wp-content/uploads/2024/12/416106111_277129495360794_6477728819111560472_n.jpg
END:VEVENT
BEGIN:VEVENT
DTSTART;TZID=UTC:20241218T200000
DTEND;TZID=UTC:20241220T210000
DTSTAMP:20260425T170146
CREATED:20241216T135050Z
LAST-MODIFIED:20241216T135050Z
UID:4592-1734552000-1734728400@cordobacapitalcofrade.com
SUMMARY:Solemne Triduo en honor de María Santísima de la Esperanza del Valle
DESCRIPTION:Solemne Triduo en honor de María Santísima de la Esperanza del Valle a las 20:00 horas en la Parroquia del Beato Álvaro de Córdoba.
URL:https://cordobacapitalcofrade.com/agenda/solemne-triduo-en-honor-de-maria-santisima-de-la-esperanza-del-valle-2/
LOCATION:Parroquia del Beato Álvaro de Córdoba\, Av. Guerrita\, 23\, 14005 Córdoba\, Córdoba\, España
CATEGORIES:Cultos
ATTACH;FMTTYPE=image/jpeg:https://cordobacapitalcofrade.com/wp-content/uploads/2024/12/410928119_727208859440226_5156811799220621007_n.jpg
END:VEVENT
BEGIN:VEVENT
DTSTART;TZID=UTC:20241218T203000
DTEND;TZID=UTC:20241218T213000
DTSTAMP:20260425T170146
CREATED:20241212T153042Z
LAST-MODIFIED:20241212T153042Z
UID:4586-1734553800-1734557400@cordobacapitalcofrade.com
SUMMARY:Fiesta de Regla de la Hermandad de la O
DESCRIPTION:Fiesta de Regla de la Hermandad\, a las 20:30 horas en la Parroquia de Nuestra Señora de la Aurora.
URL:https://cordobacapitalcofrade.com/agenda/fiesta-de-regla-de-la-hermandad-de-la-o/
LOCATION:Parroquia de Nuestra Señora de la Aurora\, Plaza Mahatma Gandhi sn\, Córdoba\, Córdoba\, 14014\, España
CATEGORIES:Cultos
ATTACH;FMTTYPE=image/jpeg:https://cordobacapitalcofrade.com/wp-content/uploads/2024/12/410878891_357873383493899_2895077443275328540_n.jpg
END:VEVENT
END:VCALENDAR