BEGIN:VCALENDAR
VERSION:2.0
PRODID:-//Agenda Cofrade 365 Días - ECPv6.3.7//NONSGML v1.0//EN
CALSCALE:GREGORIAN
METHOD:PUBLISH
X-WR-CALNAME:Agenda Cofrade 365 Días
X-ORIGINAL-URL:https://cordobacapitalcofrade.com
X-WR-CALDESC:Eventos para Agenda Cofrade 365 Días
REFRESH-INTERVAL;VALUE=DURATION:PT1H
X-Robots-Tag:noindex
X-PUBLISHED-TTL:PT1H
BEGIN:VTIMEZONE
TZID:UTC
BEGIN:STANDARD
TZOFFSETFROM:+0000
TZOFFSETTO:+0000
TZNAME:UTC
DTSTART:20250101T000000
END:STANDARD
END:VTIMEZONE
BEGIN:VEVENT
DTSTART;TZID=UTC:20250127T200000
DTEND;TZID=UTC:20250131T210000
DTSTAMP:20260422T201052
CREATED:20250116T140747Z
LAST-MODIFIED:20250116T140747Z
UID:4961-1738008000-1738357200@cordobacapitalcofrade.com
SUMMARY:Solemne Quinario en honor de Nuestro Padre Jesús Humilde en su Coronación de Espinas
DESCRIPTION:Solemne Quinario en honor de Nuestro Padre Jesús Humilde en su Coronación de Espinas\, a las 20:00 horas en la Parroquia de San Antonio de Pádua.
URL:https://cordobacapitalcofrade.com/agenda/solemne-quinario-en-honor-de-nuestro-padre-jesus-humilde-en-su-coronacion-de-espinas/
LOCATION:Parroquia de San Antonio de Pádua\, Av. Agrupación Córdoba\, 11\, 14007 Córdoba\, Córdoba\, España
CATEGORIES:Cultos
ATTACH;FMTTYPE=image/jpeg:https://cordobacapitalcofrade.com/wp-content/uploads/2025/01/422151029_694791086154926_8273103595456445409_n.jpg
END:VEVENT
BEGIN:VEVENT
DTSTART;TZID=UTC:20250130T200000
DTEND;TZID=UTC:20250201T210000
DTSTAMP:20260422T201052
CREATED:20250123T195159Z
LAST-MODIFIED:20250123T195159Z
UID:5026-1738267200-1738443600@cordobacapitalcofrade.com
SUMMARY:Triduo María Stma. Salud y Consuelo
DESCRIPTION:Triduo en honor a María Santísima de Salud y Consuelo\, tendrá lugar durante los días 301 31 de enero y 1 de febrero a las 20 horas en la Iglesia de Ntra. Sra\, Del Rosario.
URL:https://cordobacapitalcofrade.com/agenda/triduo-maria-stma-salud-y-consuelo/
LOCATION:Iglesia de Ntra. Sra. Del Rosario\, Plaza de Electromecánicas\, Córdoba\, Córdoba\, 14005\, España
CATEGORIES:Cultos
ATTACH;FMTTYPE=image/jpeg:https://cordobacapitalcofrade.com/wp-content/uploads/2025/01/Imagen-de-WhatsApp-2025-01-20-a-las-14.15.53_fba65c08.jpg
END:VEVENT
BEGIN:VEVENT
DTSTART;TZID=UTC:20250131T200000
DTEND;TZID=UTC:20250131T210000
DTSTAMP:20260422T201052
CREATED:20250127T163914Z
LAST-MODIFIED:20250127T163914Z
UID:5072-1738353600-1738357200@cordobacapitalcofrade.com
SUMMARY:Función Solemne a San Juan Bosco
DESCRIPTION:Función Solemne a San Juan Bosco\, a las 20:00 horas en el Santuario de María Auxiliadora.
URL:https://cordobacapitalcofrade.com/agenda/funcion-solemne-a-san-juan-bosco/
LOCATION:Santuario de María Auxiliadora\, C. María Auxiliadora\, 8\, Centro\, 14002 Córdoba\, Córdoba\, España
CATEGORIES:Cultos
ATTACH;FMTTYPE=image/jpeg:https://cordobacapitalcofrade.com/wp-content/uploads/2025/01/422449377_788630963307499_7384464624915432962_n.jpg
END:VEVENT
BEGIN:VEVENT
DTSTART;TZID=UTC:20250131T203000
DTEND;TZID=UTC:20250131T211500
DTSTAMP:20260422T201052
CREATED:20250125T124632Z
LAST-MODIFIED:20250125T124632Z
UID:5047-1738355400-1738358100@cordobacapitalcofrade.com
SUMMARY:Solemne Triduo de María Santísima de la Candelaria
DESCRIPTION:Solemne Triduo de María Santísima de la Candelaria\, a las 20:30 horas en la Parroquia de San Francisco y San Eulogio.
URL:https://cordobacapitalcofrade.com/agenda/solemne-triduo-de-maria-santisima-de-la-candelaria-3/
LOCATION:Parroquia de San Francisco y San Eulogio\, C. Compás de San Francisco\, 0\, Córdoba\, España
CATEGORIES:Cultos
ATTACH;FMTTYPE=image/jpeg:https://cordobacapitalcofrade.com/wp-content/uploads/2025/01/422474377_793936652773404_643232595574351580_n.jpg
END:VEVENT
END:VCALENDAR