BEGIN:VCALENDAR
VERSION:2.0
PRODID:-//Agenda Cofrade 365 Días - ECPv6.3.7//NONSGML v1.0//EN
CALSCALE:GREGORIAN
METHOD:PUBLISH
X-WR-CALNAME:Agenda Cofrade 365 Días
X-ORIGINAL-URL:https://cordobacapitalcofrade.com
X-WR-CALDESC:Eventos para Agenda Cofrade 365 Días
REFRESH-INTERVAL;VALUE=DURATION:PT1H
X-Robots-Tag:noindex
X-PUBLISHED-TTL:PT1H
BEGIN:VTIMEZONE
TZID:UTC
BEGIN:STANDARD
TZOFFSETFROM:+0000
TZOFFSETTO:+0000
TZNAME:UTC
DTSTART:20250101T000000
END:STANDARD
END:VTIMEZONE
BEGIN:VEVENT
DTSTART;TZID=UTC:20250205T190000
DTEND;TZID=UTC:20250213T200000
DTSTAMP:20260423T002820
CREATED:20250203T142748Z
LAST-MODIFIED:20250203T142748Z
UID:5099-1738782000-1739476800@cordobacapitalcofrade.com
SUMMARY:Solemne Novena en honor de San Juan Bautista de la Concepción
DESCRIPTION:Solemne Novena en honor de San Juan Bautista de la Concepción\, a las 19:00 horas en la Parroquia de Nuestra Señora de Gracia (Trinitarios).
URL:https://cordobacapitalcofrade.com/agenda/solemne-novena-en-honor-de-san-juan-bautista-de-la-concepcion/
LOCATION:Parroquia de Ntra. Sra. De Gracia y San Eulogio (P.P. Trinitarios)\, Plaza Cristo de Gracia\, 5\, Córdoba\, Córdoba\, 14002\, España
CATEGORIES:Cultos
ATTACH;FMTTYPE=image/webp:https://cordobacapitalcofrade.com/wp-content/uploads/2025/02/sanjuan-bautista-cordoba22.webp
END:VEVENT
BEGIN:VEVENT
DTSTART;TZID=UTC:20250209T120000
DTEND;TZID=UTC:20250209T130000
DTSTAMP:20260423T002820
CREATED:20250128T154747Z
LAST-MODIFIED:20250128T154747Z
UID:5088-1739102400-1739106000@cordobacapitalcofrade.com
SUMMARY:Función Principal de Instituto de la Hermandad de la Expiración
DESCRIPTION:Función Principal de Instituto de la Hermandad\, a las 12:00 horas en la Real Iglesia de San Pablo.
URL:https://cordobacapitalcofrade.com/agenda/funcion-principal-de-instituto-de-la-hermandad-de-la-expiracion-2/
LOCATION:Real Iglesia de San Pablo\, C. Capitulares\, 18\, Córdoba\, España
CATEGORIES:Cultos
ATTACH;FMTTYPE=image/jpeg:https://cordobacapitalcofrade.com/wp-content/uploads/2025/01/Quinario-Expiracion-0050-min-scaled.jpg
END:VEVENT
END:VCALENDAR