BEGIN:VCALENDAR
VERSION:2.0
PRODID:-//Agenda Cofrade 365 Días - ECPv6.3.7//NONSGML v1.0//EN
CALSCALE:GREGORIAN
METHOD:PUBLISH
X-WR-CALNAME:Agenda Cofrade 365 Días
X-ORIGINAL-URL:https://cordobacapitalcofrade.com
X-WR-CALDESC:Eventos para Agenda Cofrade 365 Días
REFRESH-INTERVAL;VALUE=DURATION:PT1H
X-Robots-Tag:noindex
X-PUBLISHED-TTL:PT1H
BEGIN:VTIMEZONE
TZID:UTC
BEGIN:STANDARD
TZOFFSETFROM:+0000
TZOFFSETTO:+0000
TZNAME:UTC
DTSTART:20250101T000000
END:STANDARD
END:VTIMEZONE
BEGIN:VEVENT
DTSTART;TZID=UTC:20250302T123000
DTEND;TZID=UTC:20250302T131500
DTSTAMP:20260423T033652
CREATED:20250214T130837Z
LAST-MODIFIED:20250214T130837Z
UID:5174-1740918600-1740921300@cordobacapitalcofrade.com
SUMMARY:Solemne Quinario de Nuestro Padre Jesús Nazareno Rescatado
DESCRIPTION:Solemne Quinario de Nuestro Padre Jesús Nazareno Rescatado\, a las 12:30 horas en la Parroquia de Nuestra Señora de Gracia (Trinitarios).
URL:https://cordobacapitalcofrade.com/agenda/solemne-quinario-de-nuestro-padre-jesus-nazareno-rescatado/
LOCATION:Parroquia de Ntra. Sra. De Gracia y San Eulogio (P.P. Trinitarios)\, Plaza Cristo de Gracia\, 5\, Córdoba\, Córdoba\, 14002\, España
CATEGORIES:Cultos
ATTACH;FMTTYPE=image/jpeg:https://cordobacapitalcofrade.com/wp-content/uploads/2025/02/422957120_818251060346563_6050445228683181702_n.jpg
END:VEVENT
END:VCALENDAR