BEGIN:VCALENDAR
VERSION:2.0
PRODID:-//Agenda Cofrade 365 Días - ECPv6.3.7//NONSGML v1.0//EN
CALSCALE:GREGORIAN
METHOD:PUBLISH
X-WR-CALNAME:Agenda Cofrade 365 Días
X-ORIGINAL-URL:https://cordobacapitalcofrade.com
X-WR-CALDESC:Eventos para Agenda Cofrade 365 Días
REFRESH-INTERVAL;VALUE=DURATION:PT1H
X-Robots-Tag:noindex
X-PUBLISHED-TTL:PT1H
BEGIN:VTIMEZONE
TZID:UTC
BEGIN:STANDARD
TZOFFSETFROM:+0000
TZOFFSETTO:+0000
TZNAME:UTC
DTSTART:20250101T000000
END:STANDARD
END:VTIMEZONE
BEGIN:VEVENT
DTSTART;TZID=UTC:20250303T193000
DTEND;TZID=UTC:20250308T201500
DTSTAMP:20260423T043435
CREATED:20250223T132717Z
LAST-MODIFIED:20250223T132717Z
UID:5295-1741030200-1741464900@cordobacapitalcofrade.com
SUMMARY:Solemne Septenario de María Santísima en su Soledad
DESCRIPTION:Solemne Septenario de María Santísima en su Soledad\, a las 19:30 horas en la Parroquia de Santa María de Guadalupe (Franciscano).
URL:https://cordobacapitalcofrade.com/agenda/solemne-septenario-de-maria-santisima-en-su-soledad-2/
LOCATION:Parroquia de Santa María de Guadalupe (Franciscanos)\, Av. del 28 de Febrero\, 3\, Levante\, 14007 Córdoba\, Córdoba\, España
CATEGORIES:Cultos
ATTACH;FMTTYPE=image/jpeg:https://cordobacapitalcofrade.com/wp-content/uploads/2025/02/Septenario-Soledad-0121-min-scaled.jpg
END:VEVENT
BEGIN:VEVENT
DTSTART;TZID=UTC:20250304T200000
DTEND;TZID=UTC:20250308T210000
DTSTAMP:20260423T043435
CREATED:20250303T165935Z
LAST-MODIFIED:20250303T165935Z
UID:5353-1741118400-1741467600@cordobacapitalcofrade.com
SUMMARY:Solemne Quinario de Nuestro Señor Jesucristo del Santo Sepulcro
DESCRIPTION:Solemne Quinario de Nuestro Señor Jesucristo del Santo Sepulcro a las 20:00 horas en la Parroquia del Salvador y Santo Domingo de Silos (Compañía).
URL:https://cordobacapitalcofrade.com/agenda/solemne-quinario-de-nuestro-senor-jesucristo-del-santo-sepulcro-2/
LOCATION:Parroquia Salvador y Santo Domingo de Silos (Compañía)\, Pl. de la Compañía\, 7\, Córdoba\, España
CATEGORIES:Cultos
ATTACH;FMTTYPE=image/jpeg:https://cordobacapitalcofrade.com/wp-content/uploads/2025/03/Quinario-Sepulcro-0077-min-scaled.jpg
END:VEVENT
BEGIN:VEVENT
DTSTART;TZID=UTC:20250305T190000
DTEND;TZID=UTC:20250308T200000
DTSTAMP:20260423T043435
CREATED:20250227T134702Z
LAST-MODIFIED:20250227T134702Z
UID:5328-1741201200-1741464000@cordobacapitalcofrade.com
SUMMARY:Solemne Quinario de Nuestro Padre Jesús de la Bondad
DESCRIPTION:Solemne Quinario de Nuestro Padre Jesús de la Bondad\, a las 19:30 horas en el Santuario de Nuestra Señora de la Fuensanta. Previamente\, a las 19:00 horas\, Rezo del Santo Rosario\, exceptuando el día 7 que se rezará el Santo Vía Crucis.
URL:https://cordobacapitalcofrade.com/agenda/solemne-quinario-de-nuestro-padre-jesus-de-la-bondad/
LOCATION:Santuario de Nuestra Señora de la Fuensanta\, Pl. Santuario de la Fuensanta\, s/n\, Sureste\, 14010 Córdoba\, Córdoba\, España
CATEGORIES:Cultos
ATTACH;FMTTYPE=image/jpeg:https://cordobacapitalcofrade.com/wp-content/uploads/2025/02/417440294_729306999342079_6482346740682574606_n.jpg
END:VEVENT
BEGIN:VEVENT
DTSTART;TZID=UTC:20250305T200000
DTEND;TZID=UTC:20250308T210000
DTSTAMP:20260423T043435
CREATED:20250303T171319Z
LAST-MODIFIED:20250303T171319Z
UID:5370-1741204800-1741467600@cordobacapitalcofrade.com
SUMMARY:Solemne Quinario a Nuestro Padre Jesús de la Oración en el Huerto
DESCRIPTION:Solemne Quinario a Nuestro Padre Jesús de la Oración en el Huerto a las 20:00 horas en la Parroquia de San Francisco y San Eulogio.
URL:https://cordobacapitalcofrade.com/agenda/solemne-quinario-a-nuestro-padre-jesus-de-la-oracion-en-el-huerto/
LOCATION:Parroquia de San Francisco y San Eulogio\, C. Compás de San Francisco\, 0\, Córdoba\, España
CATEGORIES:Cultos
ATTACH;FMTTYPE=image/jpeg:https://cordobacapitalcofrade.com/wp-content/uploads/2025/03/422591785_803818398451896_4401136413800198019_n.jpg
END:VEVENT
BEGIN:VEVENT
DTSTART;TZID=UTC:20250306T183000
DTEND;TZID=UTC:20250308T193000
DTSTAMP:20260423T043435
CREATED:20250302T203225Z
LAST-MODIFIED:20250302T203225Z
UID:5341-1741285800-1741462200@cordobacapitalcofrade.com
SUMMARY:Solemne Quinario en honor del Santísimo Cristo de la Misericordia
DESCRIPTION:Solemne Quinario en honor del Santísimo Cristo de la Misericordia\, a las 19:00 horas en la Basílica de San Pedro. Previamente\, a las 18:30 horas\, Exposición de su Divina Majestad\, rezo del Santo Rosario\, ejercicio del Quinario y Reserva.
URL:https://cordobacapitalcofrade.com/agenda/solemne-quinario-en-honor-del-santisimo-cristo-de-la-misericordia-2/
LOCATION:Basílica de San Pedro\, Pl. de San Pedro\, 1\, 14002 Córdoba\, Córdoba\, España
CATEGORIES:Cultos
ATTACH;FMTTYPE=image/jpeg:https://cordobacapitalcofrade.com/wp-content/uploads/2025/03/424620771_733109782248193_6042597117483396875_n.jpg
END:VEVENT
BEGIN:VEVENT
DTSTART;TZID=UTC:20250307T073000
DTEND;TZID=UTC:20250307T203000
DTSTAMP:20260423T043435
CREATED:20250214T131557Z
LAST-MODIFIED:20250214T131557Z
UID:5181-1741332600-1741379400@cordobacapitalcofrade.com
SUMMARY:Besapiés de Nuestro Padre Jesús Nazareno Rescatado
DESCRIPTION:Besapiés de Nuestro Padre Jesús Nazareno Rescatado en horario de 07:30 a 20:30 horas en la Parroquia de Nuestra Señora de Gracia (Trinitarios).
URL:https://cordobacapitalcofrade.com/agenda/besapies-de-nuestro-padre-jesus-nazareno-rescatado/
LOCATION:Parroquia de Ntra. Sra. De Gracia y San Eulogio (P.P. Trinitarios)\, Plaza Cristo de Gracia\, 5\, Córdoba\, Córdoba\, 14002\, España
CATEGORIES:Cultos
ATTACH;FMTTYPE=image/jpeg:https://cordobacapitalcofrade.com/wp-content/uploads/2025/02/Besapies-Rescatado-0867-min-scaled.jpg
END:VEVENT
BEGIN:VEVENT
DTSTART;TZID=UTC:20250307T083000
DTEND;TZID=UTC:20250307T220000
DTSTAMP:20260423T043435
CREATED:20250211T142535Z
LAST-MODIFIED:20250211T142535Z
UID:5168-1741336200-1741384800@cordobacapitalcofrade.com
SUMMARY:Besapiés del Santísimo Cristo del Remedio de Ánimas
DESCRIPTION:Besapiés del Santísimo Cristo del Remedio de Ánimas durante todo el día en la Real Parroquia de San Lorenzo Mártir.
URL:https://cordobacapitalcofrade.com/agenda/besapies-del-santisimo-cristo-del-remedio-de-animas-2/
LOCATION:Real Parroquia de San Lorenzo Mártir\, Pl. de San Lorenzo\, 5\, Córdoba\, España
CATEGORIES:Cultos
ATTACH;FMTTYPE=image/jpeg:https://cordobacapitalcofrade.com/wp-content/uploads/2025/02/Besapies-Animas-0585-min-scaled.jpg
END:VEVENT
BEGIN:VEVENT
DTSTART;TZID=UTC:20250307T090000
DTEND;TZID=UTC:20250307T210000
DTSTAMP:20260423T043435
CREATED:20250226T165357Z
LAST-MODIFIED:20250226T165357Z
UID:5320-1741338000-1741381200@cordobacapitalcofrade.com
SUMMARY:Besapiés de Nuestro Padre Jesús de las Penas
DESCRIPTION:Besapiés de Nuestro Padre Jesús de las Penas en horario de 09:00 a 21:00 horas en la Parroquia de San Andrés Apóstol.
URL:https://cordobacapitalcofrade.com/agenda/besapies-de-nuestro-padre-jesus-de-las-penas-2/
LOCATION:Parroquia de San Andrés Apóstol\, Pl. San Andrés\, 0\, Córdoba\, España
CATEGORIES:Cultos
ATTACH;FMTTYPE=image/jpeg:https://cordobacapitalcofrade.com/wp-content/uploads/2025/02/Besapies-Penas-de-San-Andres-0096-min-scaled.jpg
END:VEVENT
BEGIN:VEVENT
DTSTART;TZID=UTC:20250307T100000
DTEND;TZID=UTC:20250307T200000
DTSTAMP:20260423T043435
CREATED:20250226T163141Z
LAST-MODIFIED:20250226T163141Z
UID:5314-1741341600-1741377600@cordobacapitalcofrade.com
SUMMARY:Veneración de los fieles al Santísimo Cristo de San Álvaro
DESCRIPTION:Veneración de los fieles al Santísimo Cristo de San Álvaro en horario de 10:00 a 14:00 horas y de 16:00 a 20:00 horas en la Iglesia Conventual de San Agustín.
URL:https://cordobacapitalcofrade.com/agenda/veneracion-de-los-fieles-al-santisimo-cristo-de-san-alvaro/
LOCATION:Iglesia Conventual de San Agustín\, Pl. de San Agustín\, s/n\, Centro\, 14001 Córdoba\, Córdoba\, España
CATEGORIES:Cultos
ATTACH;FMTTYPE=image/gif:https://cordobacapitalcofrade.com/wp-content/uploads/2025/02/Cristo-de-San-Alvaro.gif
END:VEVENT
BEGIN:VEVENT
DTSTART;TZID=UTC:20250307T103000
DTEND;TZID=UTC:20250307T200000
DTSTAMP:20260423T043435
CREATED:20250303T173452Z
LAST-MODIFIED:20250303T173452Z
UID:5398-1741343400-1741377600@cordobacapitalcofrade.com
SUMMARY:Solemne Besamanos de Nuestro Padre Jesús del Divino Salvador en su Prendimiento
DESCRIPTION:Solemne Besamanos de Nuestro Padre Jesús del Divino Salvador en su Prendimiento en horario de 10:30 a 20:00 horas en el Santuario de María Auxiliadora.
URL:https://cordobacapitalcofrade.com/agenda/solemne-besamanos-de-nuestro-padre-jesus-del-divino-salvador-en-su-prendimiento/
LOCATION:Santuario de María Auxiliadora\, C. María Auxiliadora\, 8\, Centro\, 14002 Córdoba\, Córdoba\, España
CATEGORIES:Cultos
ATTACH;FMTTYPE=image/jpeg:https://cordobacapitalcofrade.com/wp-content/uploads/2025/03/Besamanos-Prendimiento-0680-min-scaled.jpg
END:VEVENT
BEGIN:VEVENT
DTSTART;TZID=UTC:20250307T160000
DTEND;TZID=UTC:20250307T190000
DTSTAMP:20260423T043435
CREATED:20250223T130018Z
LAST-MODIFIED:20250223T130018Z
UID:5278-1741363200-1741374000@cordobacapitalcofrade.com
SUMMARY:Besapiés de Nuestro Padre Jesús de los Afligidos
DESCRIPTION:Besapiés de Nuestro Padre Jesús de los Afligidos en horario de 16:00 a 19:00 horas en la Parroquia de San Vicente Ferrer.
URL:https://cordobacapitalcofrade.com/agenda/besapies-de-nuestro-padre-jesus-de-los-afligidos/
LOCATION:Parroquia de San Vicente Ferrer (Cañero)\, C. Funcionario Lázaro Navajas\, 70\, 14014 Córdoba\, España\, Córdoba\, España
CATEGORIES:Cultos
ATTACH;FMTTYPE=image/jpeg:https://cordobacapitalcofrade.com/wp-content/uploads/2025/02/428624646_419882227215219_8786451271738102626_n.jpg
END:VEVENT
BEGIN:VEVENT
DTSTART;TZID=UTC:20250307T210000
DTEND;TZID=UTC:20250307T220000
DTSTAMP:20260423T043435
CREATED:20250214T131228Z
LAST-MODIFIED:20250214T131228Z
UID:5179-1741381200-1741384800@cordobacapitalcofrade.com
SUMMARY:Fiesta de Regla de la Hermandad del Rescatado
DESCRIPTION:Fiesta de Regla de la Hermandad\, a las 21:00 horas en la Parroquia de Nuestra Señora de Gracia (Trinitarios).
URL:https://cordobacapitalcofrade.com/agenda/fiesta-de-regla-de-la-hermandad-del-rescatado/
LOCATION:Parroquia de Ntra. Sra. De Gracia y San Eulogio (P.P. Trinitarios)\, Plaza Cristo de Gracia\, 5\, Córdoba\, Córdoba\, 14002\, España
CATEGORIES:Cultos
ATTACH;FMTTYPE=image/jpeg:https://cordobacapitalcofrade.com/wp-content/uploads/2025/02/422957120_818251060346563_6050445228683181702_n.jpg
END:VEVENT
END:VCALENDAR