BEGIN:VCALENDAR
VERSION:2.0
PRODID:-//Agenda Cofrade 365 Días - ECPv6.3.7//NONSGML v1.0//EN
CALSCALE:GREGORIAN
METHOD:PUBLISH
X-WR-CALNAME:Agenda Cofrade 365 Días
X-ORIGINAL-URL:https://cordobacapitalcofrade.com
X-WR-CALDESC:Eventos para Agenda Cofrade 365 Días
REFRESH-INTERVAL;VALUE=DURATION:PT1H
X-Robots-Tag:noindex
X-PUBLISHED-TTL:PT1H
BEGIN:VTIMEZONE
TZID:UTC
BEGIN:STANDARD
TZOFFSETFROM:+0000
TZOFFSETTO:+0000
TZNAME:UTC
DTSTART:20250101T000000
END:STANDARD
END:VTIMEZONE
BEGIN:VEVENT
DTSTART;TZID=UTC:20250308T103000
DTEND;TZID=UTC:20250309T190000
DTSTAMP:20260422T135646
CREATED:20250223T130135Z
LAST-MODIFIED:20250223T130135Z
UID:5281-1741429800-1741546800@cordobacapitalcofrade.com
SUMMARY:Besapiés de Nuestro Padre Jesús de los Afligidos
DESCRIPTION:Besapiés de Nuestro Padre Jesús de los Afligidos en horario de 10:30 a 14:00 horas y de 16:00 a 19:00 horas en la Parroquia de San Vicente Ferrer.
URL:https://cordobacapitalcofrade.com/agenda/besapies-de-nuestro-padre-jesus-de-los-afligidos-2/
LOCATION:Parroquia de San Vicente Ferrer (Cañero)\, C. Funcionario Lázaro Navajas\, 70\, 14014 Córdoba\, España\, Córdoba\, España
CATEGORIES:Cultos
ATTACH;FMTTYPE=image/jpeg:https://cordobacapitalcofrade.com/wp-content/uploads/2025/02/428624646_419882227215219_8786451271738102626_n.jpg
END:VEVENT
BEGIN:VEVENT
DTSTART;TZID=UTC:20250309T100000
DTEND;TZID=UTC:20250309T140000
DTSTAMP:20260422T135646
CREATED:20250227T135049Z
LAST-MODIFIED:20250227T135049Z
UID:5331-1741514400-1741528800@cordobacapitalcofrade.com
SUMMARY:Besamanos de Nuestro Padre Jesús de la Bondad
DESCRIPTION:Besamanos de Nuestro Padre Jesús de la Bondad en horario de 10:00 a 14:00 horas en el Santuario de Nuestra Señora de la Fuensanta.
URL:https://cordobacapitalcofrade.com/agenda/besamanos-de-nuestro-padre-jesus-de-la-bondad/
LOCATION:Santuario de Nuestra Señora de la Fuensanta\, Pl. Santuario de la Fuensanta\, s/n\, Sureste\, 14010 Córdoba\, Córdoba\, España
CATEGORIES:Cultos
ATTACH;FMTTYPE=image/jpeg:https://cordobacapitalcofrade.com/wp-content/uploads/2025/02/417440294_729306999342079_6482346740682574606_n.jpg
END:VEVENT
BEGIN:VEVENT
DTSTART;TZID=UTC:20250309T100000
DTEND;TZID=UTC:20250309T203000
DTSTAMP:20260422T135646
CREATED:20250214T140626Z
LAST-MODIFIED:20250214T140626Z
UID:5209-1741514400-1741552200@cordobacapitalcofrade.com
SUMMARY:Besamanos de Nuestro Padre Jesús de la Redención
DESCRIPTION:Besamanos de Nuestro Padre Jesús de la Redención durante todo el día en la Parroquia de San Fernando.
URL:https://cordobacapitalcofrade.com/agenda/besamanos-de-nuestro-padre-jesus-de-la-redencion-2/
LOCATION:Parroquia de San Fernando\, C. Goya\, 24\, 14006 Córdoba\, Córdoba\, España
CATEGORIES:Cultos
ATTACH;FMTTYPE=image/jpeg:https://cordobacapitalcofrade.com/wp-content/uploads/2025/02/428415689_789840303186820_8276684596128353996_n.jpg
END:VEVENT
BEGIN:VEVENT
DTSTART;TZID=UTC:20250309T100000
DTEND;TZID=UTC:20250309T203000
DTSTAMP:20260422T135646
CREATED:20250303T174305Z
LAST-MODIFIED:20250303T174305Z
UID:5407-1741514400-1741552200@cordobacapitalcofrade.com
SUMMARY:Veneración de los fieles a Nuestro Padre Jesús Nazareno
DESCRIPTION:Veneración de los fieles a Nuestro Padre Jesús Nazareno en horario de 10:00 a 14:00 horas y de 17:30 a 20:30 horas en la Iglesia Hospital de Jesús Nazareno.
URL:https://cordobacapitalcofrade.com/agenda/veneracion-de-los-fieles-a-nuestro-padre-jesus-nazareno-2/
LOCATION:Iglesia Hospital de Jesús Nazareno\, C. Jesús Nazareno\, 11\, Córdoba\, España
CATEGORIES:Cultos
ATTACH;FMTTYPE=image/jpeg:https://cordobacapitalcofrade.com/wp-content/uploads/2025/03/Besapies-Nazareno-0484-min-scaled.jpg
END:VEVENT
BEGIN:VEVENT
DTSTART;TZID=UTC:20250309T110000
DTEND;TZID=UTC:20250309T200000
DTSTAMP:20260422T135646
CREATED:20250303T171751Z
LAST-MODIFIED:20250303T171751Z
UID:5375-1741518000-1741550400@cordobacapitalcofrade.com
SUMMARY:Besapiés de Nuestro Padre Jesús de la Oración en el Huerto
DESCRIPTION:Besapiés de Nuestro Padre Jesús de la Oración en el Huerto en horario de 11:00 a 12:30 y de 17:30 a 20:00 horas en la Parroquia de San Francisco y San Eulogio.
URL:https://cordobacapitalcofrade.com/agenda/besapies-de-nuestro-padre-jesus-de-la-oracion-en-el-huerto-2/
LOCATION:Parroquia de San Francisco y San Eulogio\, C. Compás de San Francisco\, 0\, Córdoba\, España
CATEGORIES:Cultos
ATTACH;FMTTYPE=image/jpeg:https://cordobacapitalcofrade.com/wp-content/uploads/2025/03/Veneracion-Extraordinaria-Huerto-0106-scaled.jpg
END:VEVENT
BEGIN:VEVENT
DTSTART;TZID=UTC:20250309T123000
DTEND;TZID=UTC:20250309T133000
DTSTAMP:20260422T135646
CREATED:20250223T132823Z
LAST-MODIFIED:20250223T132823Z
UID:5298-1741523400-1741527000@cordobacapitalcofrade.com
SUMMARY:Fiesta de Regla de la Hermandad de la Soledad
DESCRIPTION:Fiesta de Regla de la Hermandad\, a las 12:30 horas en la Parroquia de Santa María de Guadalupe (Franciscanos).
URL:https://cordobacapitalcofrade.com/agenda/fiesta-de-regla-de-la-hermandad-de-la-soledad-2/
LOCATION:Parroquia de Santa María de Guadalupe (Franciscanos)\, Av. del 28 de Febrero\, 3\, Levante\, 14007 Córdoba\, Córdoba\, España
CATEGORIES:Cultos
ATTACH;FMTTYPE=image/jpeg:https://cordobacapitalcofrade.com/wp-content/uploads/2025/02/Septenario-Soledad-0121-min-scaled.jpg
END:VEVENT
BEGIN:VEVENT
DTSTART;TZID=UTC:20250309T123000
DTEND;TZID=UTC:20250309T133000
DTSTAMP:20260422T135646
CREATED:20250227T135308Z
LAST-MODIFIED:20250227T135308Z
UID:5333-1741523400-1741527000@cordobacapitalcofrade.com
SUMMARY:Función Principal de Nuestro Padre Jesús de la Bondad
DESCRIPTION:Función Principal de Nuestro Padre Jesús de la Bondad\, a las 12:30 horas en el Santuario de Nuestra Señora de la Fuensanta.
URL:https://cordobacapitalcofrade.com/agenda/funcion-principal-de-nuestro-padre-jesus-de-la-bondad/
LOCATION:Santuario de Nuestra Señora de la Fuensanta\, Pl. Santuario de la Fuensanta\, s/n\, Sureste\, 14010 Córdoba\, Córdoba\, España
CATEGORIES:Cultos
ATTACH;FMTTYPE=image/jpeg:https://cordobacapitalcofrade.com/wp-content/uploads/2025/02/417440294_729306999342079_6482346740682574606_n.jpg
END:VEVENT
BEGIN:VEVENT
DTSTART;TZID=UTC:20250309T123000
DTEND;TZID=UTC:20250309T133000
DTSTAMP:20260422T135646
CREATED:20250303T171517Z
LAST-MODIFIED:20250303T171517Z
UID:5373-1741523400-1741527000@cordobacapitalcofrade.com
SUMMARY:Fiesta de Regla de la Hermandad del Huerto
DESCRIPTION:Fiesta de Regla de la Hermandad\, a las 12:30 horas en la Parroquia de San Francisco y San Eulogio.
URL:https://cordobacapitalcofrade.com/agenda/fiesta-de-regla-de-la-hermandad-del-huerto/
LOCATION:Parroquia de San Francisco y San Eulogio\, C. Compás de San Francisco\, 0\, Córdoba\, España
CATEGORIES:Cultos
ATTACH;FMTTYPE=image/jpeg:https://cordobacapitalcofrade.com/wp-content/uploads/2025/03/422591785_803818398451896_4401136413800198019_n.jpg
END:VEVENT
BEGIN:VEVENT
DTSTART;TZID=UTC:20250309T124500
DTEND;TZID=UTC:20250309T134500
DTSTAMP:20260422T135646
CREATED:20250302T203542Z
LAST-MODIFIED:20250302T203542Z
UID:5343-1741524300-1741527900@cordobacapitalcofrade.com
SUMMARY:Fiesta de Regla de la Hermandad de la Misericordia
DESCRIPTION:Fiesta de Regla de la Hermandad\, a las 12:45 horas en la Basílica de San Pedro.
URL:https://cordobacapitalcofrade.com/agenda/fiesta-de-regla-de-la-hermandad-de-la-misericordia-2/
LOCATION:Basílica de San Pedro\, Pl. de San Pedro\, 1\, 14002 Córdoba\, Córdoba\, España
CATEGORIES:Cultos
ATTACH;FMTTYPE=image/jpeg:https://cordobacapitalcofrade.com/wp-content/uploads/2025/03/424620771_733109782248193_6042597117483396875_n.jpg
END:VEVENT
BEGIN:VEVENT
DTSTART;TZID=UTC:20250309T133000
DTEND;TZID=UTC:20250309T143000
DTSTAMP:20260422T135646
CREATED:20250303T170041Z
LAST-MODIFIED:20250303T170041Z
UID:5356-1741527000-1741530600@cordobacapitalcofrade.com
SUMMARY:Función Solemne en honor de Nuestro Señor Jesucristo del Santo Sepulcro
DESCRIPTION:Función Solemne en honor de Nuestro Señor Jesucristo del Santo Sepulcro\, a las 13:30 horas en la Parroquia del Salvador y Santo Domingo de Silos (Compañía).
URL:https://cordobacapitalcofrade.com/agenda/funcion-solemne-en-honor-de-nuestro-senor-jesucristo-del-santo-sepulcro/
LOCATION:Parroquia Salvador y Santo Domingo de Silos (Compañía)\, Pl. de la Compañía\, 7\, Córdoba\, España
CATEGORIES:Cultos
ATTACH;FMTTYPE=image/jpeg:https://cordobacapitalcofrade.com/wp-content/uploads/2025/03/Quinario-Sepulcro-0077-min-scaled.jpg
END:VEVENT
END:VCALENDAR