BEGIN:VCALENDAR
VERSION:2.0
PRODID:-//Agenda Cofrade 365 Días - ECPv6.3.7//NONSGML v1.0//EN
CALSCALE:GREGORIAN
METHOD:PUBLISH
X-WR-CALNAME:Agenda Cofrade 365 Días
X-ORIGINAL-URL:https://cordobacapitalcofrade.com
X-WR-CALDESC:Eventos para Agenda Cofrade 365 Días
REFRESH-INTERVAL;VALUE=DURATION:PT1H
X-Robots-Tag:noindex
X-PUBLISHED-TTL:PT1H
BEGIN:VTIMEZONE
TZID:UTC
BEGIN:STANDARD
TZOFFSETFROM:+0000
TZOFFSETTO:+0000
TZNAME:UTC
DTSTART:20250101T000000
END:STANDARD
END:VTIMEZONE
BEGIN:VEVENT
DTSTART;TZID=UTC:20250310T190000
DTEND;TZID=UTC:20250314T200000
DTSTAMP:20260423T020130
CREATED:20250310T155409Z
LAST-MODIFIED:20250310T155409Z
UID:5479-1741633200-1741982400@cordobacapitalcofrade.com
SUMMARY:Solemne Quinario en honor del Santísimo Cristo del Descendimiento
DESCRIPTION:Solemne Quinario en honor del Santísimo Cristo del Descendimiento\, a las 19:00 horas en la Parroquia de San José y Espíritu Santo. Al término de la Eucaristía del lunes 10 de marzo se presentará el Cartel del Viernes Santo 2025 obra de D. Pedro Jesús García Dorado.
URL:https://cordobacapitalcofrade.com/agenda/solemne-quinario-en-honor-del-santisimo-cristo-del-descendimiento/
LOCATION:Parroquia de San José y Espíritu Santo\, Pl. de Santa Teresa\, 1\, Córdoba\, España
CATEGORIES:Cultos
ATTACH;FMTTYPE=image/jpeg:https://cordobacapitalcofrade.com/wp-content/uploads/2025/03/483089830_18265341469273736_1043898023798619038_n.jpg
END:VEVENT
BEGIN:VEVENT
DTSTART;TZID=UTC:20250310T200000
DTEND;TZID=UTC:20250314T204500
DTSTAMP:20260423T020130
CREATED:20250308T134835Z
LAST-MODIFIED:20250308T134835Z
UID:5455-1741636800-1741985100@cordobacapitalcofrade.com
SUMMARY:Quinario en honor del Santísimo Cristo de la Agonía
DESCRIPTION:Quinario en honor del Santísimo Cristo de la Agonía\, a las 20:00 horas en la Parroquia de Santa Victoria.
URL:https://cordobacapitalcofrade.com/agenda/quinario-en-honor-del-santisimo-cristo-de-la-agonia/
LOCATION:Parroquia de Santa Victoria\, C. Párroco Agustín Molina\, 20\, Nte. Sierra\, 14960 Córdoba\, Córdoba\, España
CATEGORIES:Cultos
ATTACH;FMTTYPE=image/jpeg:https://cordobacapitalcofrade.com/wp-content/uploads/2025/03/477576930_923698949929968_1038281591106262634_n.jpg
END:VEVENT
BEGIN:VEVENT
DTSTART;TZID=UTC:20250310T200000
DTEND;TZID=UTC:20250314T210000
DTSTAMP:20260423T020130
CREATED:20250308T140423Z
LAST-MODIFIED:20250308T140423Z
UID:5463-1741636800-1741986000@cordobacapitalcofrade.com
SUMMARY:Solemne Quinario de Nuestro Padre Jesús del Buen Suceso
DESCRIPTION:Solemne Quinario de Nuestro Padre Jesús del Buen Suceso\, a las 20:00 horas en la Parroquia de San Andrés Apóstol.
URL:https://cordobacapitalcofrade.com/agenda/solemne-quinario-de-nuestro-padre-jesus-del-buen-suceso/
LOCATION:Parroquia de San Andrés Apóstol\, Pl. San Andrés\, 0\, Córdoba\, España
CATEGORIES:Cultos
ATTACH;FMTTYPE=image/jpeg:https://cordobacapitalcofrade.com/wp-content/uploads/2025/03/422673402_800359525468345_807913415543211029_n.jpg
END:VEVENT
BEGIN:VEVENT
DTSTART;TZID=UTC:20250310T203000
DTEND;TZID=UTC:20250314T211500
DTSTAMP:20260423T020130
CREATED:20250310T155104Z
LAST-MODIFIED:20250310T155104Z
UID:5474-1741638600-1741986900@cordobacapitalcofrade.com
SUMMARY:Solemne Quinario en honor de Nuestro Padre Jesús Nazareno
DESCRIPTION:Solemne Quinario en honor de Nuestro Padre Jesús Nazareno\, a las 20:30 horas en la Iglesia Hospital de Jesús Nazareno.
URL:https://cordobacapitalcofrade.com/agenda/solemne-quinario-en-honor-de-nuestro-padre-jesus-nazareno-2/
LOCATION:Iglesia Hospital de Jesús Nazareno\, C. Jesús Nazareno\, 11\, Córdoba\, España
CATEGORIES:Cultos
ATTACH;FMTTYPE=image/jpeg:https://cordobacapitalcofrade.com/wp-content/uploads/2025/03/Quinario-Nazareno-0061-min-scaled.jpg
END:VEVENT
END:VCALENDAR