BEGIN:VCALENDAR
VERSION:2.0
PRODID:-//Agenda Cofrade 365 Días - ECPv6.3.7//NONSGML v1.0//EN
CALSCALE:GREGORIAN
METHOD:PUBLISH
X-WR-CALNAME:Agenda Cofrade 365 Días
X-ORIGINAL-URL:https://cordobacapitalcofrade.com
X-WR-CALDESC:Eventos para Agenda Cofrade 365 Días
REFRESH-INTERVAL;VALUE=DURATION:PT1H
X-Robots-Tag:noindex
X-PUBLISHED-TTL:PT1H
BEGIN:VTIMEZONE
TZID:UTC
BEGIN:STANDARD
TZOFFSETFROM:+0000
TZOFFSETTO:+0000
TZNAME:UTC
DTSTART:20250101T000000
END:STANDARD
END:VTIMEZONE
BEGIN:VEVENT
DTSTART;TZID=UTC:20250311T184500
DTEND;TZID=UTC:20250315T200000
DTSTAMP:20260422T184858
CREATED:20250310T173315Z
LAST-MODIFIED:20250310T173315Z
UID:5498-1741718700-1742068800@cordobacapitalcofrade.com
SUMMARY:Solemne Quinario de Nuestro Padre Jesús Caído
DESCRIPTION:Solemne Quinario de Nuestro Padre Jesús Caído\, a las 19:30 horas en el Santuario de Nuestra Señora del Carmen (San Cayetano). Previamente\, a las 18:45 horas\, Exposición del Santísimo\, rezo del Santo Rosario y ejercicio del Quinario.
URL:https://cordobacapitalcofrade.com/agenda/solemne-quinario-de-nuestro-padre-jesus-caido-2/
LOCATION:Santuario de Nuestra Señora del Carmen\, C. Cta. de San Cayetano\, Centro\, 14001 Córdoba\, Córdoba\, España
CATEGORIES:Cultos
ATTACH;FMTTYPE=image/jpeg:https://cordobacapitalcofrade.com/wp-content/uploads/2025/03/480820900_1117877633472075_6991834554961107704_n.jpg
END:VEVENT
BEGIN:VEVENT
DTSTART;TZID=UTC:20250311T193000
DTEND;TZID=UTC:20250315T201500
DTSTAMP:20260422T184858
CREATED:20250305T162515Z
LAST-MODIFIED:20250305T162515Z
UID:5415-1741721400-1742069700@cordobacapitalcofrade.com
SUMMARY:Solemne Quinario en honor del Santísimo Cristo de las Penas
DESCRIPTION:Solemne Quinario en honor del Santísimo Cristo de las Penas\, a las 19:30 horas en la Parroquia de Santiago Apóstol.
URL:https://cordobacapitalcofrade.com/agenda/solemne-quinario-en-honor-del-santisimo-cristo-de-las-penas-2/
LOCATION:Parroquia de Santiago Apóstol\, C. de Agustín Moreno\, 26\, 14002 Córdoba\, Córdoba\, España
CATEGORIES:Cultos
ATTACH;FMTTYPE=image/jpeg:https://cordobacapitalcofrade.com/wp-content/uploads/2025/03/428638272_839689234869969_3403799335037223597_n.jpg
END:VEVENT
BEGIN:VEVENT
DTSTART;TZID=UTC:20250311T193000
DTEND;TZID=UTC:20250315T201500
DTSTAMP:20260422T184858
CREATED:20250305T163423Z
LAST-MODIFIED:20250305T163423Z
UID:5423-1741721400-1742069700@cordobacapitalcofrade.com
SUMMARY:Quinario del Santísimo Cristo del Amor
DESCRIPTION:Quinario del Santísimo Cristo del Amor\, a las 19:30 horas en la Parroquia de Jesús Divino Obrero.
URL:https://cordobacapitalcofrade.com/agenda/quinario-del-santisimo-cristo-del-amor/
LOCATION:Parroquia de Jesús Divino Obrero\, C. Beato Henares\, 1\, Córdoba\, España
CATEGORIES:Cultos
ATTACH;FMTTYPE=image/jpeg:https://cordobacapitalcofrade.com/wp-content/uploads/2025/03/428605593_415019887754233_354686674618922455_n.jpg
END:VEVENT
BEGIN:VEVENT
DTSTART;TZID=UTC:20250311T193000
DTEND;TZID=UTC:20250315T203000
DTSTAMP:20260422T184858
CREATED:20250214T141127Z
LAST-MODIFIED:20250214T141127Z
UID:5212-1741721400-1742070600@cordobacapitalcofrade.com
SUMMARY:Quinario de Nuestro Padre Jesús de la Redención
DESCRIPTION:Quinario de Nuestro Padre Jesús de la Redención\, a las 19:30 horas en la Parroquia de San Fernando.
URL:https://cordobacapitalcofrade.com/agenda/quinario-de-nuestro-padre-jesus-de-la-redencion-2/
LOCATION:Parroquia de San Fernando\, C. Goya\, 24\, 14006 Córdoba\, Córdoba\, España
CATEGORIES:Cultos
ATTACH;FMTTYPE=image/jpeg:https://cordobacapitalcofrade.com/wp-content/uploads/2025/02/424867041_790368119800705_1644840931235777111_n.jpg
END:VEVENT
BEGIN:VEVENT
DTSTART;TZID=UTC:20250311T200000
DTEND;TZID=UTC:20250315T204500
DTSTAMP:20260422T184858
CREATED:20250214T132541Z
LAST-MODIFIED:20250214T132541Z
UID:5184-1741723200-1742071500@cordobacapitalcofrade.com
SUMMARY:Quinario en honor de Nuestro Padre Jesús de la Sentencia
DESCRIPTION:Quinario en honor de Nuestro Padre Jesús de la Sentencia\, a las 20:00 horas en la Parroquia de San Nicolás de la Villa.
URL:https://cordobacapitalcofrade.com/agenda/quinario-en-honor-de-nuestro-padre-jesus-de-la-sentencia/
LOCATION:Parroquia de San Nicolás de la Villa\, Pl. de San Nicolás\, 14003 Córdoba\, Córdoba\, España
CATEGORIES:Cultos
ATTACH;FMTTYPE=image/jpeg:https://cordobacapitalcofrade.com/wp-content/uploads/2025/02/Quinario-Sentencia-0002-min-scaled.jpg
END:VEVENT
BEGIN:VEVENT
DTSTART;TZID=UTC:20250311T200000
DTEND;TZID=UTC:20250315T210000
DTSTAMP:20260422T184858
CREATED:20250214T135237Z
LAST-MODIFIED:20250214T135237Z
UID:5198-1741723200-1742072400@cordobacapitalcofrade.com
SUMMARY:Quinario de Nuestro Padre Jesús del Calvario
DESCRIPTION:Quinario de Nuestro Padre Jesús del Calvario\, a las 20:00 horas en la Real Parroquia de San Lorenzo Mártir.
URL:https://cordobacapitalcofrade.com/agenda/quinario-de-nuestro-padre-jesus-del-calvario/
LOCATION:Real Parroquia de San Lorenzo Mártir\, Pl. de San Lorenzo\, 5\, Córdoba\, España
CATEGORIES:Cultos
ATTACH;FMTTYPE=image/jpeg:https://cordobacapitalcofrade.com/wp-content/uploads/2025/02/425800074_707513791497845_4879640811303649086_n.jpg
END:VEVENT
BEGIN:VEVENT
DTSTART;TZID=UTC:20250311T203000
DTEND;TZID=UTC:20250315T211500
DTSTAMP:20260422T184858
CREATED:20250310T172317Z
LAST-MODIFIED:20250310T172317Z
UID:5484-1741725000-1742073300@cordobacapitalcofrade.com
SUMMARY:Solemne Quinario de Nuestro Padre Jesús Nazareno de la Compasión
DESCRIPTION:Solemne Quinario de Nuestro Padre Jesús Nazareno de la Compasión\, a las 20:30 horas en la Parroquia de San Isidro Labrador.
URL:https://cordobacapitalcofrade.com/agenda/solemne-quinario-de-nuestro-padre-jesus-nazareno-de-la-compasion/
LOCATION:Parroquia de San Isidro Labrador\, Avenida Principal\, 14193 Córdoba\, Córdoba\, España
CATEGORIES:Cultos
ATTACH;FMTTYPE=image/jpeg:https://cordobacapitalcofrade.com/wp-content/uploads/2025/03/422698282_2074789622890751_5162394559393470305_n.jpg
END:VEVENT
BEGIN:VEVENT
DTSTART;TZID=UTC:20250311T203000
DTEND;TZID=UTC:20250315T211500
DTSTAMP:20260422T184858
CREATED:20250310T172818Z
LAST-MODIFIED:20250310T172818Z
UID:5489-1741725000-1742073300@cordobacapitalcofrade.com
SUMMARY:Solemne Quinario en honor de Nuestro Padre Jesús del Divino Salvador en su Prendimiento
DESCRIPTION:Solemne Quinario en honor de Nuestro Padre Jesús del Divino Salvador en su Prendimiento\, a las 20:30 horas en el Santuario de María Auxiliadora.
URL:https://cordobacapitalcofrade.com/agenda/solemne-quinario-en-honor-de-nuestro-padre-jesus-del-divino-salvador-en-su-prendimiento/
LOCATION:Santuario de María Auxiliadora\, C. María Auxiliadora\, 8\, Centro\, 14002 Córdoba\, Córdoba\, España
CATEGORIES:Cultos
ATTACH;FMTTYPE=image/jpeg:https://cordobacapitalcofrade.com/wp-content/uploads/2025/03/428610059_805915678245694_5126017999673475920_n.jpg
END:VEVENT
BEGIN:VEVENT
DTSTART;TZID=UTC:20250312T200000
DTEND;TZID=UTC:20250315T210000
DTSTAMP:20260422T184858
CREATED:20250308T132346Z
LAST-MODIFIED:20250308T132346Z
UID:5444-1741809600-1742072400@cordobacapitalcofrade.com
SUMMARY:Solemne Quinario del Santísimo Cristo de Oración y Caridad
DESCRIPTION:Solemne Quinario del Santísimo Cristo de Oración y Caridad\, a las 20:00 horas en la Parroquia de Nuestra Señora del Rosario.
URL:https://cordobacapitalcofrade.com/agenda/solemne-quinario-del-santisimo-cristo-de-oracion-y-caridad/
LOCATION:Iglesia de Ntra. Sra. Del Rosario\, Plaza de Electromecánicas\, Córdoba\, Córdoba\, 14005\, España
CATEGORIES:Cultos
ATTACH;FMTTYPE=image/jpeg:https://cordobacapitalcofrade.com/wp-content/uploads/2025/03/1.jpg
END:VEVENT
BEGIN:VEVENT
DTSTART;TZID=UTC:20250314T193000
DTEND;TZID=UTC:20250316T203000
DTSTAMP:20260422T184858
CREATED:20250310T174536Z
LAST-MODIFIED:20250310T174536Z
UID:5521-1741980600-1742157000@cordobacapitalcofrade.com
SUMMARY:Solemne Triduo del Santísimo Cristo de las Cinco Llagas
DESCRIPTION:Solemne Triduo del Santísimo Cristo de las Cinco Llagas\, a las 19:30 horas en la Parroquia de Nuestra Señora de los Ángeles.
URL:https://cordobacapitalcofrade.com/agenda/solemne-triduo-del-santisimo-cristo-de-las-cinco-llagas/
LOCATION:Parroquia de Nuestra Señora de los Ángeles\, 14610 Córdoba\, Córdoba\, España
CATEGORIES:Cultos
ATTACH;FMTTYPE=image/jpeg:https://cordobacapitalcofrade.com/wp-content/uploads/2025/03/IMG-20190308-WA0026.jpg
END:VEVENT
BEGIN:VEVENT
DTSTART;TZID=UTC:20250315T173000
DTEND;TZID=UTC:20250315T203000
DTSTAMP:20260422T184858
CREATED:20250310T180905Z
LAST-MODIFIED:20250310T180905Z
UID:5543-1742059800-1742070600@cordobacapitalcofrade.com
SUMMARY:1er día del Solemne Besamanos de Nuestro Padre Jesús Nazareno de la Santa Faz
DESCRIPTION:1er día del Solemne Besamanos de Nuestro Padre Jesús Nazareno de la Santa Faz en horario de tarde en la Parroquia de la Trinidad.
URL:https://cordobacapitalcofrade.com/agenda/1er-dia-del-solemne-besamanos-de-nuestro-padre-jesus-nazareno-de-la-santa-faz/
LOCATION:Parroquia de la Trinidad\, Plaza de la Trinidad\, Córdoba\, España
CATEGORIES:Cultos
ATTACH;FMTTYPE=image/jpeg:https://cordobacapitalcofrade.com/wp-content/uploads/2025/03/483486348_1049687090526195_8887954891281918679_n.jpg
END:VEVENT
BEGIN:VEVENT
DTSTART;TZID=UTC:20250315T190000
DTEND;TZID=UTC:20250315T194500
DTSTAMP:20260422T184858
CREATED:20250310T173830Z
LAST-MODIFIED:20250310T173830Z
UID:5509-1742065200-1742067900@cordobacapitalcofrade.com
SUMMARY:Solemne Quinario del Santísimo Cristo de la Clemencia
DESCRIPTION:Solemne Quinario del Santísimo Cristo de la Clemencia\, a las 19:00 horas en el Santuario de Nuestra Señora de los Dolores.
URL:https://cordobacapitalcofrade.com/agenda/solemne-quinario-del-santisimo-cristo-de-la-clemencia-2/
LOCATION:Santuario de Nuestra Señora de los Dolores\, Pl. de Capuchinos\, 6\, 14001 Córdoba\, Córdoba\, España
CATEGORIES:Cultos
ATTACH;FMTTYPE=image/jpeg:https://cordobacapitalcofrade.com/wp-content/uploads/2025/03/424661588_787488876742039_6926963661583205962_n.jpg
END:VEVENT
BEGIN:VEVENT
DTSTART;TZID=UTC:20250315T193000
DTEND;TZID=UTC:20250315T203000
DTSTAMP:20260422T184858
CREATED:20250310T155513Z
LAST-MODIFIED:20250310T155513Z
UID:5482-1742067000-1742070600@cordobacapitalcofrade.com
SUMMARY:Fiesta de Regla de la Hermandad del Descendimiento
DESCRIPTION:Fiesta de Regla de la Cofradía\, a las 19:30 horas en la Parroquia de San José y Espíritu Santo.
URL:https://cordobacapitalcofrade.com/agenda/fiesta-de-regla-de-la-hermandad-del-descendimiento-2/
LOCATION:Parroquia de San José y Espíritu Santo\, Pl. de Santa Teresa\, 1\, Córdoba\, España
CATEGORIES:Cultos
ATTACH;FMTTYPE=image/jpeg:https://cordobacapitalcofrade.com/wp-content/uploads/2025/03/483089830_18265341469273736_1043898023798619038_n.jpg
END:VEVENT
BEGIN:VEVENT
DTSTART;TZID=UTC:20250315T200000
DTEND;TZID=UTC:20250315T210000
DTSTAMP:20260422T184858
CREATED:20250310T155218Z
LAST-MODIFIED:20250310T155218Z
UID:5477-1742068800-1742072400@cordobacapitalcofrade.com
SUMMARY:Fiesta de Regla de la Hermandad del Nazareno
DESCRIPTION:Fiesta de Regla de la Cofradía\, a las 20:00 horas en la Iglesia Hospital de Jesús Nazareno.
URL:https://cordobacapitalcofrade.com/agenda/fiesta-de-regla-de-la-hermandad-del-nazareno-2/
LOCATION:Iglesia Hospital de Jesús Nazareno\, C. Jesús Nazareno\, 11\, Córdoba\, España
CATEGORIES:Cultos
ATTACH;FMTTYPE=image/jpeg:https://cordobacapitalcofrade.com/wp-content/uploads/2025/03/Quinario-Nazareno-0061-min-scaled.jpg
END:VEVENT
BEGIN:VEVENT
DTSTART;TZID=UTC:20250315T200000
DTEND;TZID=UTC:20250315T220000
DTSTAMP:20260422T184858
CREATED:20250308T135426Z
LAST-MODIFIED:20250308T135426Z
UID:5458-1742068800-1742076000@cordobacapitalcofrade.com
SUMMARY:Función Principal del Santísimo Cristo de la Agonía\, Pregón y Presentación del Cartel 2025
DESCRIPTION:Función Principal del Santísimo Cristo de la Agonía\, a las 20:00 horas en la Parroquia de Santa Victoria. Al término tendrá lugar el pregón a cargo de D. Alfredo Ordóñez Alférez y la presentación del cartel 2025 obra de D. Francisco Gázquez.
URL:https://cordobacapitalcofrade.com/agenda/funcion-principal-del-santisimo-cristo-de-la-agonia-pregon-y-presentacion-del-cartel-2025/
LOCATION:Parroquia de Santa Victoria\, C. Párroco Agustín Molina\, 20\, Nte. Sierra\, 14960 Córdoba\, Córdoba\, España
CATEGORIES:Cultos
ATTACH;FMTTYPE=image/jpeg:https://cordobacapitalcofrade.com/wp-content/uploads/2025/03/477576930_923698949929968_1038281591106262634_n.jpg
END:VEVENT
BEGIN:VEVENT
DTSTART;TZID=UTC:20250315T203000
DTEND;TZID=UTC:20250315T214500
DTSTAMP:20260422T184858
CREATED:20250308T140803Z
LAST-MODIFIED:20250308T140803Z
UID:5466-1742070600-1742075100@cordobacapitalcofrade.com
SUMMARY:Función Principal de Nuestro Padre Jesús del Buen Suceso
DESCRIPTION:Función Principal de Nuestro Padre Jesús del Buen Suceso\, a las 20:30 horas en la Parroquia de San Andrés Apóstol. Tras finalizar la Eucaristía tendrá lugar la presentación del cartel de 2025.
URL:https://cordobacapitalcofrade.com/agenda/funcion-principal-de-nuestro-padre-jesus-del-buen-suceso/
LOCATION:Parroquia de San Andrés Apóstol\, Pl. San Andrés\, 0\, Córdoba\, España
CATEGORIES:Cultos
ATTACH;FMTTYPE=image/jpeg:https://cordobacapitalcofrade.com/wp-content/uploads/2025/03/422673402_800359525468345_807913415543211029_n.jpg
END:VEVENT
END:VCALENDAR