BEGIN:VCALENDAR
VERSION:2.0
PRODID:-//Agenda Cofrade 365 Días - ECPv6.3.7//NONSGML v1.0//EN
CALSCALE:GREGORIAN
METHOD:PUBLISH
X-WR-CALNAME:Agenda Cofrade 365 Días
X-ORIGINAL-URL:https://cordobacapitalcofrade.com
X-WR-CALDESC:Eventos para Agenda Cofrade 365 Días
REFRESH-INTERVAL;VALUE=DURATION:PT1H
X-Robots-Tag:noindex
X-PUBLISHED-TTL:PT1H
BEGIN:VTIMEZONE
TZID:UTC
BEGIN:STANDARD
TZOFFSETFROM:+0000
TZOFFSETTO:+0000
TZNAME:UTC
DTSTART:20250101T000000
END:STANDARD
END:VTIMEZONE
BEGIN:VEVENT
DTSTART;TZID=UTC:20250314T193000
DTEND;TZID=UTC:20250316T203000
DTSTAMP:20260423T093428
CREATED:20250310T174536Z
LAST-MODIFIED:20250310T174536Z
UID:5521-1741980600-1742157000@cordobacapitalcofrade.com
SUMMARY:Solemne Triduo del Santísimo Cristo de las Cinco Llagas
DESCRIPTION:Solemne Triduo del Santísimo Cristo de las Cinco Llagas\, a las 19:30 horas en la Parroquia de Nuestra Señora de los Ángeles.
URL:https://cordobacapitalcofrade.com/agenda/solemne-triduo-del-santisimo-cristo-de-las-cinco-llagas/
LOCATION:Parroquia de Nuestra Señora de los Ángeles\, 14610 Córdoba\, Córdoba\, España
CATEGORIES:Cultos
ATTACH;FMTTYPE=image/jpeg:https://cordobacapitalcofrade.com/wp-content/uploads/2025/03/IMG-20190308-WA0026.jpg
END:VEVENT
BEGIN:VEVENT
DTSTART;TZID=UTC:20250316T090000
DTEND;TZID=UTC:20250316T210000
DTSTAMP:20260423T093428
CREATED:20250308T135638Z
LAST-MODIFIED:20250308T135638Z
UID:5460-1742115600-1742158800@cordobacapitalcofrade.com
SUMMARY:Besapiés del Santísimo Cristo de la Agonía
DESCRIPTION:Besapiés del Santísimo Cristo de la Agonía en horario de 09:00 a 14:00 horas y de 16:00 a 21:00 horas en la Parroquia de Santa Victoria.
URL:https://cordobacapitalcofrade.com/agenda/besapies-del-santisimo-cristo-de-la-agonia/
LOCATION:Parroquia de Santa Victoria\, C. Párroco Agustín Molina\, 20\, Nte. Sierra\, 14960 Córdoba\, Córdoba\, España
CATEGORIES:Cultos
ATTACH;FMTTYPE=image/jpeg:https://cordobacapitalcofrade.com/wp-content/uploads/2025/03/477914323_924223976544132_2435648133532228754_n.jpg
END:VEVENT
BEGIN:VEVENT
DTSTART;TZID=UTC:20250316T093000
DTEND;TZID=UTC:20250316T140000
DTSTAMP:20260423T093428
CREATED:20250310T181030Z
LAST-MODIFIED:20250310T181030Z
UID:5546-1742117400-1742133600@cordobacapitalcofrade.com
SUMMARY:2º día del Solemne Besamanos de Nuestro Padre Jesús Nazareno de la Santa Faz
DESCRIPTION:2º día del Solemne Besamanos de Nuestro Padre Jesús Nazareno de la Santa Faz en horario de mañana en la Parroquia de la Trinidad.
URL:https://cordobacapitalcofrade.com/agenda/2o-dia-del-solemne-besamanos-de-nuestro-padre-jesus-nazareno-de-la-santa-faz/
LOCATION:Parroquia de la Trinidad\, Plaza de la Trinidad\, Córdoba\, España
CATEGORIES:Cultos
ATTACH;FMTTYPE=image/jpeg:https://cordobacapitalcofrade.com/wp-content/uploads/2025/03/483486348_1049687090526195_8887954891281918679_n.jpg
END:VEVENT
BEGIN:VEVENT
DTSTART;TZID=UTC:20250316T100000
DTEND;TZID=UTC:20250316T200000
DTSTAMP:20260423T093428
CREATED:20250312T140725Z
LAST-MODIFIED:20250312T140725Z
UID:5561-1742119200-1742155200@cordobacapitalcofrade.com
SUMMARY:Besapiés de Nuestro Padre Jesús de la Humildad y Paciencia
DESCRIPTION:Besapiés de Nuestro Padre Jesús de la Humildad y Paciencia durante todo el día en la Iglesia Conventual del Santo Ángel (Capuchinos).
URL:https://cordobacapitalcofrade.com/agenda/besapies-de-nuestro-padre-jesus-de-la-humildad-y-paciencia/
LOCATION:Iglesia Conventual del Santo Ángel (Capuchinos)\, Pl. de Capuchinos\, 5\, Córdoba\, España
CATEGORIES:Cultos
ATTACH;FMTTYPE=image/jpeg:https://cordobacapitalcofrade.com/wp-content/uploads/2025/03/Besapies-Humildad-y-Paciencia-0176-min-scaled.jpg
END:VEVENT
BEGIN:VEVENT
DTSTART;TZID=UTC:20250316T111500
DTEND;TZID=UTC:20250316T121500
DTSTAMP:20260423T093428
CREATED:20250305T163807Z
LAST-MODIFIED:20250305T163807Z
UID:5426-1742123700-1742127300@cordobacapitalcofrade.com
SUMMARY:Fiesta de Regla de la Hermandad del Amor
DESCRIPTION:Fiesta de Regla de la Hermandad\, a las 11:15 horas en la Parroquia de Jesús Divino Obrero.
URL:https://cordobacapitalcofrade.com/agenda/fiesta-de-regla-de-la-hermandad-del-amor-2/
LOCATION:Parroquia de Jesús Divino Obrero\, C. Beato Henares\, 1\, Córdoba\, España
CATEGORIES:Cultos
ATTACH;FMTTYPE=image/jpeg:https://cordobacapitalcofrade.com/wp-content/uploads/2025/03/428605593_415019887754233_354686674618922455_n.jpg
END:VEVENT
BEGIN:VEVENT
DTSTART;TZID=UTC:20250316T120000
DTEND;TZID=UTC:20250316T130000
DTSTAMP:20260423T093428
CREATED:20250214T141253Z
LAST-MODIFIED:20250214T141253Z
UID:5215-1742126400-1742130000@cordobacapitalcofrade.com
SUMMARY:Función Principal de Instituto de la Hermandad de la Estrella
DESCRIPTION:Función Principal de Instituto de la Hermandad\, a las 12:00 horas en la Parroquia de San Fernando.
URL:https://cordobacapitalcofrade.com/agenda/funcion-principal-de-instituto-de-la-hermandad-de-la-estrella-2/
LOCATION:Parroquia de San Fernando\, C. Goya\, 24\, 14006 Córdoba\, Córdoba\, España
CATEGORIES:Cultos
ATTACH;FMTTYPE=image/jpeg:https://cordobacapitalcofrade.com/wp-content/uploads/2025/02/424867041_790368119800705_1644840931235777111_n.jpg
END:VEVENT
BEGIN:VEVENT
DTSTART;TZID=UTC:20250316T120000
DTEND;TZID=UTC:20250316T130000
DTSTAMP:20260423T093428
CREATED:20250308T132607Z
LAST-MODIFIED:20250308T132607Z
UID:5447-1742126400-1742130000@cordobacapitalcofrade.com
SUMMARY:Función Principal del Santísimo Cristo de Oración y Caridad
DESCRIPTION:Función Principal del Santísimo Cristo de Oración y Caridad a las 12:00 horas en la Parroquia de Nuestra Señora del Rosario.
URL:https://cordobacapitalcofrade.com/agenda/funcion-principal-del-santisimo-cristo-de-oracion-y-caridad/
LOCATION:Iglesia de Ntra. Sra. Del Rosario\, Plaza de Electromecánicas\, Córdoba\, Córdoba\, 14005\, España
CATEGORIES:Cultos
ATTACH;FMTTYPE=image/jpeg:https://cordobacapitalcofrade.com/wp-content/uploads/2025/03/1.jpg
END:VEVENT
BEGIN:VEVENT
DTSTART;TZID=UTC:20250316T120000
DTEND;TZID=UTC:20250316T130000
DTSTAMP:20260423T093428
CREATED:20250310T172419Z
LAST-MODIFIED:20250310T172419Z
UID:5487-1742126400-1742130000@cordobacapitalcofrade.com
SUMMARY:Función Principal de Nuestro Padre Jesús Nazareno de la Compasión
DESCRIPTION:Función Principal de Nuestro Padre Jesús Nazareno de la Compasión\, a las 12:00 horas en la Parroquia de San Isidro Labrador.
URL:https://cordobacapitalcofrade.com/agenda/funcion-principal-de-nuestro-padre-jesus-nazareno-de-la-compasion/
LOCATION:Parroquia de San Isidro Labrador\, Avenida Principal\, 14193 Córdoba\, Córdoba\, España
CATEGORIES:Cultos
ATTACH;FMTTYPE=image/jpeg:https://cordobacapitalcofrade.com/wp-content/uploads/2025/03/422698282_2074789622890751_5162394559393470305_n.jpg
END:VEVENT
BEGIN:VEVENT
DTSTART;TZID=UTC:20250316T120000
DTEND;TZID=UTC:20250316T130000
DTSTAMP:20260423T093428
CREATED:20250310T174134Z
LAST-MODIFIED:20250310T174134Z
UID:5515-1742126400-1742130000@cordobacapitalcofrade.com
SUMMARY:Fiesta de Regla de la Cofradía de los Dolores
DESCRIPTION:Fiesta de Regla de la Cofradía\, a las 12:00 horas en el Santuario de Nuestra Señora de los Dolores.
URL:https://cordobacapitalcofrade.com/agenda/fiesta-de-regla-de-la-cofradia-de-los-dolores/
LOCATION:Santuario de Nuestra Señora de los Dolores\, Pl. de Capuchinos\, 6\, 14001 Córdoba\, Córdoba\, España
CATEGORIES:Cultos
ATTACH;FMTTYPE=image/jpeg:https://cordobacapitalcofrade.com/wp-content/uploads/2025/03/424661588_787488876742039_6926963661583205962_n.jpg
END:VEVENT
BEGIN:VEVENT
DTSTART;TZID=UTC:20250316T123000
DTEND;TZID=UTC:20250316T133000
DTSTAMP:20260423T093428
CREATED:20250214T132758Z
LAST-MODIFIED:20250214T132758Z
UID:5187-1742128200-1742131800@cordobacapitalcofrade.com
SUMMARY:Función Principal de Instituto de la Hermandad de la Sentencia
DESCRIPTION:Función Principal de Instituto de la Hermandad\, a las 12:30 horas en la Parroquia de San Nicolás de la Villa.
URL:https://cordobacapitalcofrade.com/agenda/funcion-principal-de-instituto-de-la-hermandad-de-la-sentencia/
LOCATION:Parroquia de San Nicolás de la Villa\, Pl. de San Nicolás\, 14003 Córdoba\, Córdoba\, España
CATEGORIES:Cultos
ATTACH;FMTTYPE=image/jpeg:https://cordobacapitalcofrade.com/wp-content/uploads/2025/02/Quinario-Sentencia-0002-min-scaled.jpg
END:VEVENT
BEGIN:VEVENT
DTSTART;TZID=UTC:20250316T130000
DTEND;TZID=UTC:20250316T140000
DTSTAMP:20260423T093428
CREATED:20250214T135345Z
LAST-MODIFIED:20250214T135345Z
UID:5201-1742130000-1742133600@cordobacapitalcofrade.com
SUMMARY:Fiesta de Regla de la Hermandad del Calvario
DESCRIPTION:Fiesta de Regla de la Hermandad\, a las 13:00 horas en la Real Parroquia de San Lorenzo Mártir.
URL:https://cordobacapitalcofrade.com/agenda/fiesta-de-regla-de-la-hermandad-del-calvario-2/
LOCATION:Real Parroquia de San Lorenzo Mártir\, Pl. de San Lorenzo\, 5\, Córdoba\, España
CATEGORIES:Cultos
ATTACH;FMTTYPE=image/jpeg:https://cordobacapitalcofrade.com/wp-content/uploads/2025/02/425800074_707513791497845_4879640811303649086_n.jpg
END:VEVENT
BEGIN:VEVENT
DTSTART;TZID=UTC:20250316T130000
DTEND;TZID=UTC:20250316T140000
DTSTAMP:20260423T093428
CREATED:20250305T162647Z
LAST-MODIFIED:20250305T162647Z
UID:5421-1742130000-1742133600@cordobacapitalcofrade.com
SUMMARY:Fiesta de Regla de la Hermandad de las Penas de Santiago
DESCRIPTION:Fiesta de Regla de la Hermandad\, a las 13:00 horas en la Parroquia de Santiago Apóstol.
URL:https://cordobacapitalcofrade.com/agenda/fiesta-de-regla-de-la-hermandad-de-las-penas-de-santiago/
LOCATION:Parroquia de Santiago Apóstol\, C. de Agustín Moreno\, 26\, 14002 Córdoba\, Córdoba\, España
CATEGORIES:Cultos
ATTACH;FMTTYPE=image/jpeg:https://cordobacapitalcofrade.com/wp-content/uploads/2025/03/428638272_839689234869969_3403799335037223597_n.jpg
END:VEVENT
BEGIN:VEVENT
DTSTART;TZID=UTC:20250316T130000
DTEND;TZID=UTC:20250316T140000
DTSTAMP:20260423T093428
CREATED:20250310T172931Z
LAST-MODIFIED:20250310T172931Z
UID:5492-1742130000-1742133600@cordobacapitalcofrade.com
SUMMARY:Fiesta de Regla de la Hermandad del Prendimiento
DESCRIPTION:Fiesta de Regla de la Hermandad\, a las 13:00 horas en el Santuario de María Auxiliadora.
URL:https://cordobacapitalcofrade.com/agenda/fiesta-de-regla-de-la-hermandad-del-prendimiento/
LOCATION:Santuario de María Auxiliadora\, C. María Auxiliadora\, 8\, Centro\, 14002 Córdoba\, Córdoba\, España
CATEGORIES:Cultos
ATTACH;FMTTYPE=image/jpeg:https://cordobacapitalcofrade.com/wp-content/uploads/2025/03/428610059_805915678245694_5126017999673475920_n.jpg
END:VEVENT
BEGIN:VEVENT
DTSTART;TZID=UTC:20250316T130000
DTEND;TZID=UTC:20250316T140000
DTSTAMP:20260423T093428
CREATED:20250310T173437Z
LAST-MODIFIED:20250310T173437Z
UID:5501-1742130000-1742133600@cordobacapitalcofrade.com
SUMMARY:Fiesta de Regla de la Hermandad de Jesús Caído
DESCRIPTION:Fiesta de Regla de la Hermandad\, a las 13:00 horas en el Santuario de Nuestra Señora del Carmen (San Cayetano).
URL:https://cordobacapitalcofrade.com/agenda/fiesta-de-regla-de-la-hermandad-de-jesus-caido-2/
LOCATION:Santuario de Nuestra Señora del Carmen\, C. Cta. de San Cayetano\, Centro\, 14001 Córdoba\, Córdoba\, España
CATEGORIES:Cultos
ATTACH;FMTTYPE=image/jpeg:https://cordobacapitalcofrade.com/wp-content/uploads/2025/03/480820900_1117877633472075_6991834554961107704_n.jpg
END:VEVENT
BEGIN:VEVENT
DTSTART;TZID=UTC:20250316T130000
DTEND;TZID=UTC:20250316T140000
DTSTAMP:20260423T093428
CREATED:20250310T181257Z
LAST-MODIFIED:20250310T181257Z
UID:5548-1742130000-1742133600@cordobacapitalcofrade.com
SUMMARY:Fiesta de Regla de la Hermandad de la Santa Faz
DESCRIPTION:Fiesta de Regla de la Hermandad\, a las 13:00 horas en la Parroquia de San Juan y Todos los Santos (Trinidad).
URL:https://cordobacapitalcofrade.com/agenda/fiesta-de-regla-de-la-hermandad-de-la-santa-faz-2/
LOCATION:Parroquia de la Trinidad\, Plaza de la Trinidad\, Córdoba\, España
CATEGORIES:Cultos
ATTACH;FMTTYPE=image/jpeg:https://cordobacapitalcofrade.com/wp-content/uploads/2025/03/483486348_1049687090526195_8887954891281918679_n.jpg
END:VEVENT
BEGIN:VEVENT
DTSTART;TZID=UTC:20250316T170000
DTEND;TZID=UTC:20250316T200000
DTSTAMP:20260423T093428
CREATED:20250305T164023Z
LAST-MODIFIED:20250305T164023Z
UID:5428-1742144400-1742155200@cordobacapitalcofrade.com
SUMMARY:Besapiés del Santísimo Cristo del Amor
DESCRIPTION:Besapiés del Santísimo Cristo del Amor en horario de 17:00 a 20:00 horas en la Parroquia de Jesús Divino Obrero.
URL:https://cordobacapitalcofrade.com/agenda/besapies-del-santisimo-cristo-del-amor-2/
LOCATION:Parroquia de Jesús Divino Obrero\, C. Beato Henares\, 1\, Córdoba\, España
CATEGORIES:Cultos
ATTACH;FMTTYPE=image/jpeg:https://cordobacapitalcofrade.com/wp-content/uploads/2025/03/425288445_417456850843870_4165609283402016549_n.jpg
END:VEVENT
BEGIN:VEVENT
DTSTART;TZID=UTC:20250316T200000
DTEND;TZID=UTC:20250322T210000
DTSTAMP:20260423T093428
CREATED:20250310T182835Z
LAST-MODIFIED:20250310T182835Z
UID:5556-1742155200-1742677200@cordobacapitalcofrade.com
SUMMARY:Solemne Septenario en honor de Nuestra Señora de las Angustias Coronada
DESCRIPTION:Solemne Septenario en honor de Nuestra Señora de las Angustias Coronada\, a las 20:00 horas en la Iglesia Conventual de San Agustín.
URL:https://cordobacapitalcofrade.com/agenda/solemne-septenario-en-honor-de-nuestra-senora-de-las-angustias-coronada/
LOCATION:Iglesia Conventual de San Agustín\, Pl. de San Agustín\, s/n\, Centro\, 14001 Córdoba\, Córdoba\, España
CATEGORIES:Cultos
ATTACH;FMTTYPE=image/jpeg:https://cordobacapitalcofrade.com/wp-content/uploads/2025/03/482008893_937811698566235_7147327754129416861_n.jpg
END:VEVENT
END:VCALENDAR