BEGIN:VCALENDAR
VERSION:2.0
PRODID:-//Agenda Cofrade 365 Días - ECPv6.3.7//NONSGML v1.0//EN
CALSCALE:GREGORIAN
METHOD:PUBLISH
X-WR-CALNAME:Agenda Cofrade 365 Días
X-ORIGINAL-URL:https://cordobacapitalcofrade.com
X-WR-CALDESC:Eventos para Agenda Cofrade 365 Días
REFRESH-INTERVAL;VALUE=DURATION:PT1H
X-Robots-Tag:noindex
X-PUBLISHED-TTL:PT1H
BEGIN:VTIMEZONE
TZID:UTC
BEGIN:STANDARD
TZOFFSETFROM:+0000
TZOFFSETTO:+0000
TZNAME:UTC
DTSTART:20250101T000000
END:STANDARD
END:VTIMEZONE
BEGIN:VEVENT
DTSTART;TZID=UTC:20250316T200000
DTEND;TZID=UTC:20250322T210000
DTSTAMP:20260422T231738
CREATED:20250310T182835Z
LAST-MODIFIED:20250310T182835Z
UID:5556-1742155200-1742677200@cordobacapitalcofrade.com
SUMMARY:Solemne Septenario en honor de Nuestra Señora de las Angustias Coronada
DESCRIPTION:Solemne Septenario en honor de Nuestra Señora de las Angustias Coronada\, a las 20:00 horas en la Iglesia Conventual de San Agustín.
URL:https://cordobacapitalcofrade.com/agenda/solemne-septenario-en-honor-de-nuestra-senora-de-las-angustias-coronada/
LOCATION:Iglesia Conventual de San Agustín\, Pl. de San Agustín\, s/n\, Centro\, 14001 Córdoba\, Córdoba\, España
CATEGORIES:Cultos
ATTACH;FMTTYPE=image/jpeg:https://cordobacapitalcofrade.com/wp-content/uploads/2025/03/482008893_937811698566235_7147327754129416861_n.jpg
END:VEVENT
BEGIN:VEVENT
DTSTART;TZID=UTC:20250318T193000
DTEND;TZID=UTC:20250322T201500
DTSTAMP:20260422T231738
CREATED:20250220T135950Z
LAST-MODIFIED:20250220T135950Z
UID:5267-1742326200-1742674500@cordobacapitalcofrade.com
SUMMARY:Quinario del Santísimo Cristo de la Buena Muerte
DESCRIPTION:Quinario del Santísimo Cristo de la Buena Muerte\, a las 19:30 horas en la Real Colegiata de San Hipólito.
URL:https://cordobacapitalcofrade.com/agenda/quinario-del-santisimo-cristo-de-la-buena-muerte/
LOCATION:Real Colegiata de San Hipólito\, Pl. de San Ignacio de Loyola\, Córdoba\, España
CATEGORIES:Cultos
ATTACH;FMTTYPE=image/jpeg:https://cordobacapitalcofrade.com/wp-content/uploads/2025/02/Quinario-Buena-Muerte-0053-min-scaled.jpg
END:VEVENT
BEGIN:VEVENT
DTSTART;TZID=UTC:20250318T193000
DTEND;TZID=UTC:20250322T203000
DTSTAMP:20260422T231738
CREATED:20250226T170359Z
LAST-MODIFIED:20250226T170359Z
UID:5323-1742326200-1742675400@cordobacapitalcofrade.com
SUMMARY:Solemne Quinario en honor de Nuestro Padre Jesús de las Penas
DESCRIPTION:Solemne Quinario en honor de Nuestro Padre Jesús de las Penas\, a las 20:00 horas en la Parroquia de San Andrés Apóstol. Previamente\, a las 19:30 horas Rezo del Santo Rosario.
URL:https://cordobacapitalcofrade.com/agenda/solemne-quinario-en-honor-de-nuestro-padre-jesus-de-las-penas-2/
LOCATION:Parroquia de San Andrés Apóstol\, Pl. San Andrés\, 0\, Córdoba\, España
CATEGORIES:Cultos
ATTACH;FMTTYPE=image/jpeg:https://cordobacapitalcofrade.com/wp-content/uploads/2025/02/Quinario-Penas-de-San-Andres-0062-min-scaled.jpg
END:VEVENT
BEGIN:VEVENT
DTSTART;TZID=UTC:20250318T200000
DTEND;TZID=UTC:20250322T210000
DTSTAMP:20260422T231738
CREATED:20250313T163435Z
LAST-MODIFIED:20250313T163435Z
UID:5602-1742328000-1742677200@cordobacapitalcofrade.com
SUMMARY:Quinario de Nuestro Padre Jesús de la Victoria
DESCRIPTION:Quinario de Nuestro Padre Jesús de la Victoria\, a las 20:00 horas en la Parroquia de Nuestra Señora de la Aurora.
URL:https://cordobacapitalcofrade.com/agenda/quinario-de-nuestro-padre-jesus-de-la-victoria/
LOCATION:Parroquia de Nuestra Señora de la Aurora\, Plaza Mahatma Gandhi sn\, Córdoba\, Córdoba\, 14014\, España
CATEGORIES:Cultos
ATTACH;FMTTYPE=image/jpeg:https://cordobacapitalcofrade.com/wp-content/uploads/2025/03/480544996_634615809152987_5222321299138278633_n.jpg
END:VEVENT
BEGIN:VEVENT
DTSTART;TZID=UTC:20250318T200000
DTEND;TZID=UTC:20250322T211500
DTSTAMP:20260422T231738
CREATED:20250317T172152Z
LAST-MODIFIED:20250317T172152Z
UID:5633-1742328000-1742678100@cordobacapitalcofrade.com
SUMMARY:Solemne Quinario de Nuestro Padre Jesús de la Humildad y Paciencia
DESCRIPTION:Solemne Quinario de Nuestro Padre Jesús de la Humildad y Paciencia\, a las 20:30 horas en la Iglesia Conventual del Santo Ángel (Capuchinos). A las 20:00 horas\, rezo del Santo Rosario y ejercicio del Quinario.
URL:https://cordobacapitalcofrade.com/agenda/solemne-quinario-de-nuestro-padre-jesus-de-la-humildad-y-paciencia/
LOCATION:Iglesia Conventual del Santo Ángel (Capuchinos)\, Pl. de Capuchinos\, 5\, Córdoba\, España
CATEGORIES:Cultos
ATTACH;FMTTYPE=image/jpeg:https://cordobacapitalcofrade.com/wp-content/uploads/2025/03/480355279_965550079043545_35446922287929774_n.jpg
END:VEVENT
BEGIN:VEVENT
DTSTART;TZID=UTC:20250319T190000
DTEND;TZID=UTC:20250322T194500
DTSTAMP:20260422T231738
CREATED:20250317T173013Z
LAST-MODIFIED:20250317T173013Z
UID:5642-1742410800-1742672700@cordobacapitalcofrade.com
SUMMARY:Solemne Quinario del Santísimo Cristo de las Lágrimas
DESCRIPTION:Solemne Quinario del Santísimo Cristo de las Lágrimas\, a las 19:00 horas en la Parroquia de Nuestra Señora de la Asunción.
URL:https://cordobacapitalcofrade.com/agenda/solemne-quinario-del-santisimo-cristo-de-las-lagrimas/
LOCATION:Parroquia de Nuestra Señora de la Asunción\, Plaza de la Marina Española\, s/n\, Noroeste\, 14011 Córdoba\, Córdoba\, España
CATEGORIES:Cultos
ATTACH;FMTTYPE=image/jpeg:https://cordobacapitalcofrade.com/wp-content/uploads/2025/03/cristo-lagrimas-cordoba10.jpg
END:VEVENT
BEGIN:VEVENT
DTSTART;TZID=UTC:20250319T193000
DTEND;TZID=UTC:20250321T203000
DTSTAMP:20260422T231738
CREATED:20250305T165505Z
LAST-MODIFIED:20250305T165505Z
UID:5431-1742412600-1742589000@cordobacapitalcofrade.com
SUMMARY:Solemne Quinario en honor de Nuestro Señor de los Reyes
DESCRIPTION:Solemne Quinario en honor de Nuestro Señor de los Reyes\, a las 19:30 horas en la Parroquia de San José y Espíritu Santo.
URL:https://cordobacapitalcofrade.com/agenda/solemne-quinario-en-honor-de-nuestro-senor-de-los-reyes-3/
LOCATION:Parroquia de San José y Espíritu Santo\, Pl. de Santa Teresa\, 1\, Córdoba\, España
CATEGORIES:Cultos
ATTACH;FMTTYPE=image/jpeg:https://cordobacapitalcofrade.com/wp-content/uploads/2025/03/428485738_778064701012816_7548441326747148954_n.jpg
END:VEVENT
BEGIN:VEVENT
DTSTART;TZID=UTC:20250319T200000
DTEND;TZID=UTC:20250322T210000
DTSTAMP:20260422T231738
CREATED:20250312T142428Z
LAST-MODIFIED:20250312T142428Z
UID:5571-1742414400-1742677200@cordobacapitalcofrade.com
SUMMARY:Solemne Quinario en honor de Nuestro Padre Jesús de la Oración en el Huerto
DESCRIPTION:Solemne Quinario en honor de Nuestro Padre Jesús de la Oración en el Huerto\, a las 20:00 horas en la Parroquia de San Francisco y San Eulogio.
URL:https://cordobacapitalcofrade.com/agenda/solemne-quinario-en-honor-de-nuestro-padre-jesus-de-la-oracion-en-el-huerto-2/
LOCATION:Parroquia de San Francisco y San Eulogio\, C. Compás de San Francisco\, 0\, Córdoba\, España
CATEGORIES:Cultos
ATTACH;FMTTYPE=image/jpeg:https://cordobacapitalcofrade.com/wp-content/uploads/2025/03/422591785_803818398451896_4401136413800198019_n-1.jpg
END:VEVENT
BEGIN:VEVENT
DTSTART;TZID=UTC:20250319T203000
DTEND;TZID=UTC:20250322T213000
DTSTAMP:20260422T231738
CREATED:20250312T170727Z
LAST-MODIFIED:20250312T170727Z
UID:5593-1742416200-1742679000@cordobacapitalcofrade.com
SUMMARY:Quinario conjunto Extraordinario del Santísimo Cristo de la Salud\, Nuestro Padre Jesús Nazareno de la Santa Faz y Nuestro Padre Jesús del Perdón
DESCRIPTION:Quinario conjunto Extraordinario del Santísimo Cristo de la Salud\, Nuestro Padre Jesús Nazareno de la Santa Faz y Nuestro Padre Jesús del Perdón\, a las 20:30 horas en la Parroquia de San Juan y Todos los Santos (Trinidad).
URL:https://cordobacapitalcofrade.com/agenda/quinario-conjunto-extraordinario-del-santisimo-cristo-de-la-salud-nuestro-padre-jesus-nazareno-de-la-santa-faz-y-nuestro-padre-jesus-del-perdon/
LOCATION:Parroquia de la Trinidad\, Plaza de la Trinidad\, Córdoba\, España
CATEGORIES:Cultos
ATTACH;FMTTYPE=image/webp:https://cordobacapitalcofrade.com/wp-content/uploads/2025/03/quinario-conjunto-trinidad-RvxfUxnAgz8ItqnhBs4I73N-1200x840@diario_abc.webp
END:VEVENT
BEGIN:VEVENT
DTSTART;TZID=UTC:20250321T090000
DTEND;TZID=UTC:20250321T190000
DTSTAMP:20260422T231738
CREATED:20250317T174103Z
LAST-MODIFIED:20250317T174103Z
UID:5649-1742547600-1742583600@cordobacapitalcofrade.com
SUMMARY:1er día del Solemne Besamanos de María Santísima en su Soledad
DESCRIPTION:1er día del Solemne Besamanos de María Santísima en su Soledad en horario de 09:00 a 14:30 horas y de 16:30 a 19:00 horas en la Parroquia de Santa María de Guadalupe (Franciscanos).
URL:https://cordobacapitalcofrade.com/agenda/1er-dia-del-solemne-besamanos-de-maria-santisima-en-su-soledad/
LOCATION:Parroquia de Santa María de Guadalupe (Franciscanos)\, Av. del 28 de Febrero\, 3\, Levante\, 14007 Córdoba\, Córdoba\, España
CATEGORIES:Cultos
ATTACH;FMTTYPE=image/jpeg:https://cordobacapitalcofrade.com/wp-content/uploads/2025/03/481999335_1072398594926079_9022076144307389218_n.jpg
END:VEVENT
END:VCALENDAR