BEGIN:VCALENDAR
VERSION:2.0
PRODID:-//Agenda Cofrade 365 Días - ECPv6.3.7//NONSGML v1.0//EN
CALSCALE:GREGORIAN
METHOD:PUBLISH
X-WR-CALNAME:Agenda Cofrade 365 Días
X-ORIGINAL-URL:https://cordobacapitalcofrade.com
X-WR-CALDESC:Eventos para Agenda Cofrade 365 Días
REFRESH-INTERVAL;VALUE=DURATION:PT1H
X-Robots-Tag:noindex
X-PUBLISHED-TTL:PT1H
BEGIN:VTIMEZONE
TZID:UTC
BEGIN:STANDARD
TZOFFSETFROM:+0000
TZOFFSETTO:+0000
TZNAME:UTC
DTSTART:20250101T000000
END:STANDARD
END:VTIMEZONE
BEGIN:VEVENT
DTSTART;TZID=UTC:20250324T183000
DTEND;TZID=UTC:20250328T203000
DTSTAMP:20260423T002829
CREATED:20250319T135203Z
LAST-MODIFIED:20250319T135203Z
UID:5698-1742841000-1743193800@cordobacapitalcofrade.com
SUMMARY:Solemne Quinario del Santísimo Cristo de la Confianza
DESCRIPTION:Solemne Quinario del Santísimo Cristo de la Confianza\, a las 19:30 horas en la Parroquia de la Inmaculada Concepción y San Alberto Magno. Previamente\, a las 18:30 Exposición del Santísimo Sacramento y a las 19:00 horas Santo Rosario\, Ejercicio del Quinario y Bendición.
URL:https://cordobacapitalcofrade.com/agenda/solemne-quinario-del-santisimo-cristo-de-la-confianza-2/
LOCATION:Parroquia de la Inmaculada Concepción y San Alberto Magno\, C. San Diego de Alcalá\, 10\, Poniente Sur\, 14005 Córdoba\, Córdoba\, España
CATEGORIES:Cultos
ATTACH;FMTTYPE=image/jpeg:https://cordobacapitalcofrade.com/wp-content/uploads/2025/03/481784538_629892076644896_8336570506131080682_n.jpg
END:VEVENT
BEGIN:VEVENT
DTSTART;TZID=UTC:20250325T190000
DTEND;TZID=UTC:20250328T200000
DTSTAMP:20260423T002829
CREATED:20250324T160840Z
LAST-MODIFIED:20250324T160840Z
UID:5745-1742929200-1743192000@cordobacapitalcofrade.com
SUMMARY:Solemne Quinario en honor de Nuestro Padre Jesús en su Soberano Poder
DESCRIPTION:Solemne Quinario en honor de Nuestro Padre Jesús en su Soberano Poder a las 19:00 horas en la Iglesia de la Merced.
URL:https://cordobacapitalcofrade.com/agenda/solemne-quinario-en-honor-de-nuestro-padre-jesus-en-su-soberano-poder-3/
LOCATION:Iglesia de la Merced\, Pl. de Colón\, 15\, Córdoba\, Córdoba\, 14001\, España
CATEGORIES:Cultos
ATTACH;FMTTYPE=image/jpeg:https://cordobacapitalcofrade.com/wp-content/uploads/2025/03/482191619_1079801147520330_916389399270561726_n.jpg
END:VEVENT
END:VCALENDAR