BEGIN:VCALENDAR
VERSION:2.0
PRODID:-//Agenda Cofrade 365 Días - ECPv6.3.7//NONSGML v1.0//EN
CALSCALE:GREGORIAN
METHOD:PUBLISH
X-WR-CALNAME:Agenda Cofrade 365 Días
X-ORIGINAL-URL:https://cordobacapitalcofrade.com
X-WR-CALDESC:Eventos para Agenda Cofrade 365 Días
REFRESH-INTERVAL;VALUE=DURATION:PT1H
X-Robots-Tag:noindex
X-PUBLISHED-TTL:PT1H
BEGIN:VTIMEZONE
TZID:UTC
BEGIN:STANDARD
TZOFFSETFROM:+0000
TZOFFSETTO:+0000
TZNAME:UTC
DTSTART:20250101T000000
END:STANDARD
END:VTIMEZONE
BEGIN:VEVENT
DTSTART;TZID=UTC:20250331T210000
DTEND;TZID=UTC:20250404T214500
DTSTAMP:20260422T074701
CREATED:20250313T170728Z
LAST-MODIFIED:20250313T170728Z
UID:5622-1743454800-1743803100@cordobacapitalcofrade.com
SUMMARY:Quinario del Santísimo Cristo de Gracia
DESCRIPTION:Quinario del Santísimo Cristo de Gracia\, a las 21:00 horas en la Parroquia de Nuestra Señora de Gracia (Trinitarios).
URL:https://cordobacapitalcofrade.com/agenda/quinario-del-santisimo-cristo-de-gracia/
LOCATION:Parroquia de Ntra. Sra. De Gracia y San Eulogio (P.P. Trinitarios)\, Plaza Cristo de Gracia\, 5\, Córdoba\, Córdoba\, 14002\, España
CATEGORIES:Cultos
ATTACH;FMTTYPE=image/jpeg:https://cordobacapitalcofrade.com/wp-content/uploads/2025/03/471854888_18433828093073126_4155326340351621984_n.jpg
END:VEVENT
BEGIN:VEVENT
DTSTART;TZID=UTC:20250401T193000
DTEND;TZID=UTC:20250405T203000
DTSTAMP:20260422T074701
CREATED:20250319T132155Z
LAST-MODIFIED:20250319T132155Z
UID:5684-1743535800-1743885000@cordobacapitalcofrade.com
SUMMARY:Solemne Quinario en honor de Nuestro Padre Jesús de Pasión
DESCRIPTION:Solemne Quinario en honor de Nuestro Padre Jesús de Pasión\, a las 19:30 horas en la Parroquia de Nuestra Señora de la Paz (San Basilio).
URL:https://cordobacapitalcofrade.com/agenda/solemne-quinario-en-honor-de-nuestro-padre-jesus-de-pasion/
LOCATION:Parroquia de Nuestra Señora de la Paz\, Córdoba\, C/San Basilio\, Córdoba\, España
CATEGORIES:Cultos
ATTACH;FMTTYPE=image/jpeg:https://cordobacapitalcofrade.com/wp-content/uploads/2025/03/Quinario-Pasion-0118-min-scaled.jpg
END:VEVENT
BEGIN:VEVENT
DTSTART;TZID=UTC:20250401T200000
DTEND;TZID=UTC:20250405T210000
DTSTAMP:20260422T074701
CREATED:20250313T165128Z
LAST-MODIFIED:20250313T165128Z
UID:5611-1743537600-1743886800@cordobacapitalcofrade.com
SUMMARY:Solemne Quinario en honor del Santísimo Cristo de la Caridad
DESCRIPTION:Solemne Quinario en honor del Santísimo Cristo de la Caridad\, a las 20:00 horas en la Parroquia de San Francisco y San Eulogio. Al finalizar cada Eucaristía tendrá lugar el Rezo de las Cinco Llagas.
URL:https://cordobacapitalcofrade.com/agenda/solemne-quinario-en-honor-del-santisimo-cristo-de-la-caridad/
LOCATION:Parroquia de San Francisco y San Eulogio\, C. Compás de San Francisco\, 0\, Córdoba\, España
CATEGORIES:Cultos
ATTACH;FMTTYPE=image/jpeg:https://cordobacapitalcofrade.com/wp-content/uploads/2025/03/482809864_1050364070470761_8086757910858255612_n.jpg
END:VEVENT
BEGIN:VEVENT
DTSTART;TZID=UTC:20250403T100000
DTEND;TZID=UTC:20250404T193000
DTSTAMP:20260422T074701
CREATED:20250331T151140Z
LAST-MODIFIED:20250331T151140Z
UID:5791-1743674400-1743795000@cordobacapitalcofrade.com
SUMMARY:Piadosa Veneración a Nuestra Señora de las Angustias Coronada
DESCRIPTION:Piadosa Veneración a Nuestra Señora de las Angustias Coronada en horario de apertura de la Iglesia Conventual de San Agustín.
URL:https://cordobacapitalcofrade.com/agenda/piadosa-veneracion-a-nuestra-senora-de-las-angustias-coronada/
LOCATION:Iglesia Conventual de San Agustín\, Pl. de San Agustín\, s/n\, Centro\, 14001 Córdoba\, Córdoba\, España
CATEGORIES:Cultos
ATTACH;FMTTYPE=image/jpeg:https://cordobacapitalcofrade.com/wp-content/uploads/2025/03/483100630_941784648168940_747827256576492437_n.jpg
END:VEVENT
BEGIN:VEVENT
DTSTART;TZID=UTC:20250404T110000
DTEND;TZID=UTC:20250404T200000
DTSTAMP:20260422T074701
CREATED:20250331T153155Z
LAST-MODIFIED:20250331T153155Z
UID:5808-1743764400-1743796800@cordobacapitalcofrade.com
SUMMARY:Besapiés del Santísimo Cristo del Descendimiento
DESCRIPTION:Besapiés del Santísimo Cristo del Descendimiento en horario de 11:00 a 20:00 horas en la Parroquia de San José y Espíritu Santo.
URL:https://cordobacapitalcofrade.com/agenda/besapies-del-santisimo-cristo-del-descendimiento-2/
LOCATION:Parroquia de San José y Espíritu Santo\, Pl. de Santa Teresa\, 1\, Córdoba\, España
CATEGORIES:Cultos
ATTACH;FMTTYPE=image/jpeg:https://cordobacapitalcofrade.com/wp-content/uploads/2025/03/Besapies-Descendimiento-0165-min-scaled.jpg
END:VEVENT
BEGIN:VEVENT
DTSTART;TZID=UTC:20250404T191500
DTEND;TZID=UTC:20250410T203000
DTSTAMP:20260422T074701
CREATED:20250322T140656Z
LAST-MODIFIED:20250322T140656Z
UID:5724-1743794100-1744317000@cordobacapitalcofrade.com
SUMMARY:Solemne Septenario en honor de Nuestra Señora de los Dolores Coronada
DESCRIPTION:Solemne Septenario en honor de Nuestra Señora de los Dolores Coronada\, a las 20:00 horas en el Santuario de Nuestra Señora de los Dolores. Previamente\, a las 19:15 horas Exposición del Santísimo y a las 19:30 horas rezo de la Coronada Dolorosa.
URL:https://cordobacapitalcofrade.com/agenda/solemne-septenario-en-honor-de-nuestra-senora-de-los-dolores-coronada/
LOCATION:Santuario de Nuestra Señora de los Dolores\, Pl. de Capuchinos\, 6\, 14001 Córdoba\, Córdoba\, España
CATEGORIES:Cultos
ATTACH;FMTTYPE=image/jpeg:https://cordobacapitalcofrade.com/wp-content/uploads/2025/03/Felicitacion-Dolores-0468-min-scaled.jpg
END:VEVENT
BEGIN:VEVENT
DTSTART;TZID=UTC:20250404T203000
DTEND;TZID=UTC:20250404T220000
DTSTAMP:20260422T074701
CREATED:20250331T153431Z
LAST-MODIFIED:20250331T153431Z
UID:5811-1743798600-1743804000@cordobacapitalcofrade.com
SUMMARY:Misa por los Hermanos Difuntos del Descendimiento y Concierto de marchas procesionales a cargo de la Banda de Cornetas y Tambores "Caído-Fuensanta" de Córdoba.
DESCRIPTION:Misa por los Hermanos Difuntos a las 20:30 horas en la Parroquia de San José y Espíritu Santo. Tras la Santa Misa Concierto de marchas procesionales a cargo de la Banda de Cornetas y Tambores «Caído-Fuensanta» de Córdoba.
URL:https://cordobacapitalcofrade.com/agenda/misa-por-los-hermanos-difuntos-del-descendimiento-y-concierto-de-marchas-procesionales-a-cargo-de-la-banda-de-cornetas-y-tambores-caido-fuensanta-de-cordoba/
LOCATION:Parroquia de San José y Espíritu Santo\, Pl. de Santa Teresa\, 1\, Córdoba\, España
CATEGORIES:Conciertos,Cultos
ATTACH;FMTTYPE=image/jpeg:https://cordobacapitalcofrade.com/wp-content/uploads/2025/03/Besapies-Descendimiento-0165-min-scaled.jpg
END:VEVENT
END:VCALENDAR