BEGIN:VCALENDAR
VERSION:2.0
PRODID:-//Agenda Cofrade 365 Días - ECPv6.3.7//NONSGML v1.0//EN
CALSCALE:GREGORIAN
METHOD:PUBLISH
X-ORIGINAL-URL:https://cordobacapitalcofrade.com
X-WR-CALDESC:Eventos para Agenda Cofrade 365 Días
REFRESH-INTERVAL;VALUE=DURATION:PT1H
X-Robots-Tag:noindex
X-PUBLISHED-TTL:PT1H
BEGIN:VTIMEZONE
TZID:UTC
BEGIN:STANDARD
TZOFFSETFROM:+0000
TZOFFSETTO:+0000
TZNAME:UTC
DTSTART:20250101T000000
END:STANDARD
END:VTIMEZONE
BEGIN:VEVENT
DTSTART;TZID=UTC:20250404T191500
DTEND;TZID=UTC:20250410T203000
DTSTAMP:20260422T182625
CREATED:20250322T140656Z
LAST-MODIFIED:20250322T140656Z
UID:5724-1743794100-1744317000@cordobacapitalcofrade.com
SUMMARY:Solemne Septenario en honor de Nuestra Señora de los Dolores Coronada
DESCRIPTION:Solemne Septenario en honor de Nuestra Señora de los Dolores Coronada\, a las 20:00 horas en el Santuario de Nuestra Señora de los Dolores. Previamente\, a las 19:15 horas Exposición del Santísimo y a las 19:30 horas rezo de la Coronada Dolorosa.
URL:https://cordobacapitalcofrade.com/agenda/solemne-septenario-en-honor-de-nuestra-senora-de-los-dolores-coronada/
LOCATION:Santuario de Nuestra Señora de los Dolores\, Pl. de Capuchinos\, 6\, 14001 Córdoba\, Córdoba\, España
CATEGORIES:Cultos
ATTACH;FMTTYPE=image/jpeg:https://cordobacapitalcofrade.com/wp-content/uploads/2025/03/Felicitacion-Dolores-0468-min-scaled.jpg
END:VEVENT
BEGIN:VEVENT
DTSTART;TZID=UTC:20250407T100000
DTEND;TZID=UTC:20250409T193000
DTSTAMP:20260422T182625
CREATED:20250331T151241Z
LAST-MODIFIED:20250331T151241Z
UID:5794-1744020000-1744227000@cordobacapitalcofrade.com
SUMMARY:Piadosa Veneración a Nuestra Señora de las Angustias Coronada
DESCRIPTION:Piadosa Veneración a Nuestra Señora de las Angustias Coronada en horario de apertura de la Iglesia Conventual de San Agustín.
URL:https://cordobacapitalcofrade.com/agenda/piadosa-veneracion-a-nuestra-senora-de-las-angustias-coronada-2/
LOCATION:Iglesia Conventual de San Agustín\, Pl. de San Agustín\, s/n\, Centro\, 14001 Córdoba\, Córdoba\, España
CATEGORIES:Cultos
ATTACH;FMTTYPE=image/jpeg:https://cordobacapitalcofrade.com/wp-content/uploads/2025/03/483100630_941784648168940_747827256576492437_n.jpg
END:VEVENT
BEGIN:VEVENT
DTSTART;TZID=UTC:20250408T190000
DTEND;TZID=UTC:20250409T203000
DTSTAMP:20260422T182625
CREATED:20250407T182142Z
LAST-MODIFIED:20250407T182142Z
UID:5857-1744138800-1744230600@cordobacapitalcofrade.com
SUMMARY:Solemne Triduo en honor del Santísimo Cristo de la Providencia
DESCRIPTION:Solemne Triduo en honor del Santísimo Cristo de la Providencia\, a las 20:00 horas en la Parroquia de San Juan y Todos los Santos (Trinidad). Previamente\, a las 19:00 horas\, Meditación y Exposición del Santísimo.
URL:https://cordobacapitalcofrade.com/agenda/solemne-triduo-en-honor-del-santisimo-cristo-de-la-providencia-2/
LOCATION:Parroquia de la Trinidad\, Plaza de la Trinidad\, Córdoba\, España
CATEGORIES:Cultos
ATTACH;FMTTYPE=image/jpeg:https://cordobacapitalcofrade.com/wp-content/uploads/2025/04/489772298_958315296501544_6971651574241239146_n.jpg
END:VEVENT
END:VCALENDAR