BEGIN:VCALENDAR
VERSION:2.0
PRODID:-//Agenda Cofrade 365 Días - ECPv6.3.7//NONSGML v1.0//EN
CALSCALE:GREGORIAN
METHOD:PUBLISH
X-WR-CALNAME:Agenda Cofrade 365 Días
X-ORIGINAL-URL:https://cordobacapitalcofrade.com
X-WR-CALDESC:Eventos para Agenda Cofrade 365 Días
REFRESH-INTERVAL;VALUE=DURATION:PT1H
X-Robots-Tag:noindex
X-PUBLISHED-TTL:PT1H
BEGIN:VTIMEZONE
TZID:UTC
BEGIN:STANDARD
TZOFFSETFROM:+0000
TZOFFSETTO:+0000
TZNAME:UTC
DTSTART:20250101T000000
END:STANDARD
END:VTIMEZONE
BEGIN:VEVENT
DTSTART;TZID=UTC:20250411T090000
DTEND;TZID=UTC:20250411T210000
DTSTAMP:20260423T025525
CREATED:20250410T094927Z
LAST-MODIFIED:20250410T094927Z
UID:5917-1744362000-1744405200@cordobacapitalcofrade.com
SUMMARY:Besapiés del Santísimo Cristo de Gracia
DESCRIPTION:Besapiés del Santísimo Cristo de Gracia durante todo el día en la Parroquia de Nuestra Señora de Gracia (Trinitarios).
URL:https://cordobacapitalcofrade.com/agenda/besapies-del-santisimo-cristo-de-gracia-2/
LOCATION:Parroquia de Ntra. Sra. De Gracia y San Eulogio (P.P. Trinitarios)\, Plaza Cristo de Gracia\, 5\, Córdoba\, Córdoba\, 14002\, España
CATEGORIES:Cultos
ATTACH;FMTTYPE=image/jpeg:https://cordobacapitalcofrade.com/wp-content/uploads/2025/04/471837315_18433833520073126_322180225128424444_n.jpg
END:VEVENT
BEGIN:VEVENT
DTSTART;TZID=UTC:20250411T090000
DTEND;TZID=UTC:20250411T213000
DTSTAMP:20260423T025525
CREATED:20250114T163331Z
LAST-MODIFIED:20250114T163331Z
UID:4955-1744362000-1744407000@cordobacapitalcofrade.com
SUMMARY:Besamanos de María Santísima de la Paz y Esperanza Coronada
DESCRIPTION:Besamanos de María Santísima de la Paz y Esperanza Coronada en horario de 09:00 a 21:30 horas en la Iglesia Conventual del Santo Ángel (Capuchinos).
URL:https://cordobacapitalcofrade.com/agenda/besamanos-de-maria-santisima-de-la-paz-y-esperanza-coronada/
LOCATION:Iglesia Conventual del Santo Ángel (Capuchinos)\, Pl. de Capuchinos\, 5\, Córdoba\, España
CATEGORIES:Cultos
ATTACH;FMTTYPE=image/jpeg:https://cordobacapitalcofrade.com/wp-content/uploads/2025/01/Besamanos-Paz-0540-min-scaled.jpg
END:VEVENT
BEGIN:VEVENT
DTSTART;TZID=UTC:20250411T100000
DTEND;TZID=UTC:20250411T193000
DTSTAMP:20260423T025525
CREATED:20250410T093214Z
LAST-MODIFIED:20250410T093214Z
UID:5908-1744365600-1744399800@cordobacapitalcofrade.com
SUMMARY:Besapiés del Santísimo Cristo de las Lágrimas
DESCRIPTION:Besapiés del Santísimo Cristo de las Lágrimas en horario de 10:00 a 13:00 horas y de 17:00 a 19:30 horas en la Parroquia de Nuestra Señora de la Asunción.
URL:https://cordobacapitalcofrade.com/agenda/besapies-del-santisimo-cristo-de-las-lagrimas-2/
LOCATION:Parroquia de Nuestra Señora de la Asunción\, Plaza de la Marina Española\, s/n\, Noroeste\, 14011 Córdoba\, Córdoba\, España
CATEGORIES:Cultos
ATTACH;FMTTYPE=image/jpeg:https://cordobacapitalcofrade.com/wp-content/uploads/2025/04/Lagrimas-2023-0049-min-scaled.jpg
END:VEVENT
BEGIN:VEVENT
DTSTART;TZID=UTC:20250411T100000
DTEND;TZID=UTC:20250411T193000
DTSTAMP:20260423T025525
CREATED:20250410T095817Z
LAST-MODIFIED:20250410T095817Z
UID:5923-1744365600-1744399800@cordobacapitalcofrade.com
SUMMARY:Besamanos de María Santísima de los Dolores de Alcolea
DESCRIPTION:Besamanos de María Santísima de los Dolores de Alcolea en horario de 10:00 a 19:30 horas en la Parroquia de Nuestra Señora de los Ángeles.
URL:https://cordobacapitalcofrade.com/agenda/besamanos-de-maria-santisima-de-los-dolores-de-alcolea/
LOCATION:Parroquia de Nuestra Señora de los Ángeles\, 14610 Córdoba\, Córdoba\, España
CATEGORIES:Cultos
ATTACH;FMTTYPE=image/jpeg:https://cordobacapitalcofrade.com/wp-content/uploads/2025/04/484349942_1044923194331646_8505566966609380070_n.jpg
END:VEVENT
BEGIN:VEVENT
DTSTART;TZID=UTC:20250411T100000
DTEND;TZID=UTC:20250411T194000
DTSTAMP:20260423T025525
CREATED:20250410T094611Z
LAST-MODIFIED:20250410T094611Z
UID:5914-1744365600-1744400400@cordobacapitalcofrade.com
SUMMARY:Acto reverencial ante el Santísimo Cristo de la Misericordia
DESCRIPTION:Acto reverencial ante el Santísimo Cristo de la Misericordia en horario de 10:00 a 14:00 horas y de 17:00 a 19:40 horas en la Basílica de San Pedro.
URL:https://cordobacapitalcofrade.com/agenda/acto-reverencial-ante-el-santisimo-cristo-de-la-misericordia/
LOCATION:Basílica de San Pedro\, Pl. de San Pedro\, 1\, 14002 Córdoba\, Córdoba\, España
CATEGORIES:Cultos
ATTACH;FMTTYPE=image/jpeg:https://cordobacapitalcofrade.com/wp-content/uploads/2025/04/Besapies-Misericordia-0399-min-scaled.jpg
END:VEVENT
BEGIN:VEVENT
DTSTART;TZID=UTC:20250411T100000
DTEND;TZID=UTC:20250411T200000
DTSTAMP:20260423T025525
CREATED:20250410T093704Z
LAST-MODIFIED:20250410T093704Z
UID:5911-1744365600-1744401600@cordobacapitalcofrade.com
SUMMARY:Besamanos de Nuestra Señora de los Dolores
DESCRIPTION:Besamanos de Nuestra Señora de los Dolores en horario de 10:00 a 14:00 horas y de 15:00 horas al cierre en la Parroquia de San Andrés Apóstol.
URL:https://cordobacapitalcofrade.com/agenda/besamanos-de-nuestra-senora-de-los-dolores/
LOCATION:Parroquia de San Andrés Apóstol\, Pl. San Andrés\, 0\, Córdoba\, España
CATEGORIES:Cultos
ATTACH;FMTTYPE=image/jpeg:https://cordobacapitalcofrade.com/wp-content/uploads/2025/04/Besamanos-Dolores-0272-min-scaled.jpg
END:VEVENT
BEGIN:VEVENT
DTSTART;TZID=UTC:20250411T110000
DTEND;TZID=UTC:20250411T120000
DTSTAMP:20260423T025525
CREATED:20250410T100920Z
LAST-MODIFIED:20250410T100920Z
UID:5929-1744369200-1744372800@cordobacapitalcofrade.com
SUMMARY:Fiesta de Regla de la Hermandad de los Dolores
DESCRIPTION:Fiesta de Regla de la Cofradía presidida por el Obispo de Córdoba\, Don Demetrio Fernández González a las 11:00 horas en la Iglesia Hospital de San Jacinto.
URL:https://cordobacapitalcofrade.com/agenda/fiesta-de-regla-de-la-hermandad-de-los-dolores-2/
LOCATION:Santuario de Nuestra Señora de los Dolores\, Pl. de Capuchinos\, 6\, 14001 Córdoba\, Córdoba\, España
CATEGORIES:Cultos
ATTACH;FMTTYPE=image/jpeg:https://cordobacapitalcofrade.com/wp-content/uploads/2025/04/Felicitacion-Dolores-0477-min-scaled.jpg
END:VEVENT
BEGIN:VEVENT
DTSTART;TZID=UTC:20250411T110000
DTEND;TZID=UTC:20250411T200000
DTSTAMP:20260423T025525
CREATED:20250410T095324Z
LAST-MODIFIED:20250410T095324Z
UID:5920-1744369200-1744401600@cordobacapitalcofrade.com
SUMMARY:Besamanos de Nuestra Señora de los Dolores y del Rayo
DESCRIPTION:Besamanos de Nuestra Señora de los Dolores y del Rayo en horario de 11:00 a 20:00 horas en la Parroquia de San José y Espíritu Santo.
URL:https://cordobacapitalcofrade.com/agenda/besamanos-de-nuestra-senora-de-los-dolores-y-del-rayo/
LOCATION:Parroquia de San José y Espíritu Santo\, Pl. de Santa Teresa\, 1\, Córdoba\, España
CATEGORIES:Cultos
ATTACH;FMTTYPE=image/jpeg:https://cordobacapitalcofrade.com/wp-content/uploads/2025/04/486181164_1051820360308690_2639521077053553585_n.jpg
END:VEVENT
END:VCALENDAR