BEGIN:VCALENDAR
VERSION:2.0
PRODID:-//Agenda Cofrade 365 Días - ECPv6.3.7//NONSGML v1.0//EN
CALSCALE:GREGORIAN
METHOD:PUBLISH
X-WR-CALNAME:Agenda Cofrade 365 Días
X-ORIGINAL-URL:https://cordobacapitalcofrade.com
X-WR-CALDESC:Eventos para Agenda Cofrade 365 Días
REFRESH-INTERVAL;VALUE=DURATION:PT1H
X-Robots-Tag:noindex
X-PUBLISHED-TTL:PT1H
BEGIN:VTIMEZONE
TZID:UTC
BEGIN:STANDARD
TZOFFSETFROM:+0000
TZOFFSETTO:+0000
TZNAME:UTC
DTSTART:20250101T000000
END:STANDARD
END:VTIMEZONE
BEGIN:VEVENT
DTSTART;TZID=UTC:20250504T103000
DTEND;TZID=UTC:20250504T113000
DTSTAMP:20260422T123956
CREATED:20250503T120255Z
LAST-MODIFIED:20250503T120255Z
UID:5995-1746354600-1746358200@cordobacapitalcofrade.com
SUMMARY:Fiesta de Regla de la Hermandad de la Cabeza
DESCRIPTION:Fiesta de Regla de la Hermandad\, a las 10:30 horas en la Parroquia de San Francisco y San Eulogio.
URL:https://cordobacapitalcofrade.com/agenda/fiesta-de-regla-de-la-hermandad-de-la-cabeza-2/
LOCATION:Parroquia de San Francisco y San Eulogio\, C. Compás de San Francisco\, 0\, Córdoba\, España
CATEGORIES:Cultos
END:VEVENT
BEGIN:VEVENT
DTSTART;TZID=UTC:20250504T110000
DTEND;TZID=UTC:20250504T113000
DTSTAMP:20260422T123956
CREATED:20250503T120604Z
LAST-MODIFIED:20250503T120604Z
UID:6001-1746356400-1746358200@cordobacapitalcofrade.com
SUMMARY:1er día del Solemne Triduo en honor de Nuestra Señora de Linares Coronada
DESCRIPTION:1er día del Solemne Triduo en honor de Nuestra Señora de Linares Coronada a las 11:00 horas en el Santuario de Linares.
URL:https://cordobacapitalcofrade.com/agenda/1er-dia-del-solemne-triduo-en-honor-de-nuestra-senora-de-linares-coronada/
LOCATION:Santuario de Nuestra Señora de Linares\, Carretera del Santuario de Linares\, 14029 Córdoba\, Córdoba\, España
CATEGORIES:Cultos
END:VEVENT
END:VCALENDAR