BEGIN:VCALENDAR
VERSION:2.0
PRODID:-//Agenda Cofrade 365 Días - ECPv6.3.7//NONSGML v1.0//EN
CALSCALE:GREGORIAN
METHOD:PUBLISH
X-WR-CALNAME:Agenda Cofrade 365 Días
X-ORIGINAL-URL:https://cordobacapitalcofrade.com
X-WR-CALDESC:Eventos para Agenda Cofrade 365 Días
REFRESH-INTERVAL;VALUE=DURATION:PT1H
X-Robots-Tag:noindex
X-PUBLISHED-TTL:PT1H
BEGIN:VTIMEZONE
TZID:UTC
BEGIN:STANDARD
TZOFFSETFROM:+0000
TZOFFSETTO:+0000
TZNAME:UTC
DTSTART:20250101T000000
END:STANDARD
END:VTIMEZONE
BEGIN:VEVENT
DTSTART;TZID=UTC:20250526T210000
DTEND;TZID=UTC:20250526T220000
DTSTAMP:20260422T015411
CREATED:20250524T131347Z
LAST-MODIFIED:20250524T131347Z
UID:6158-1748293200-1748296800@cordobacapitalcofrade.com
SUMMARY:Misa de despidida de la Hermandad del Rocío ante San Rafael
DESCRIPTION:Misa de despidida de la Hermandad del Rocío ante San Rafael\, a las 21:00 horas en la Iglesia del Juramento de San Rafael.
URL:https://cordobacapitalcofrade.com/agenda/misa-de-despidida-de-la-hermandad-del-rocio-ante-san-rafael/
LOCATION:Iglesia del Juramento de San Rafael\, Pl. de San Rafael\, 8\, Córdoba\, España
CATEGORIES:Cultos
END:VEVENT
END:VCALENDAR