BEGIN:VCALENDAR
VERSION:2.0
PRODID:-//Agenda Cofrade 365 Días - ECPv6.3.7//NONSGML v1.0//EN
CALSCALE:GREGORIAN
METHOD:PUBLISH
X-ORIGINAL-URL:https://cordobacapitalcofrade.com
X-WR-CALDESC:Eventos para Agenda Cofrade 365 Días
REFRESH-INTERVAL;VALUE=DURATION:PT1H
X-Robots-Tag:noindex
X-PUBLISHED-TTL:PT1H
BEGIN:VTIMEZONE
TZID:UTC
BEGIN:STANDARD
TZOFFSETFROM:+0000
TZOFFSETTO:+0000
TZNAME:UTC
DTSTART:20250101T000000
END:STANDARD
END:VTIMEZONE
BEGIN:VEVENT
DTSTART;TZID=UTC:20250617T203000
DTEND;TZID=UTC:20250619T211500
DTSTAMP:20260422T050029
CREATED:20250616T144635Z
LAST-MODIFIED:20250616T144819Z
UID:6317-1750192200-1750367700@cordobacapitalcofrade.com
SUMMARY:Solemne Triduo en honor del Santísimo Sacramento de la Hermandad de la Merced
DESCRIPTION:Solemne Triduo en honor del Santísimo Sacramento a las 20:30 horas en la Parroquia de San Antonio de Pádua.
URL:https://cordobacapitalcofrade.com/agenda/solemne-triduo-en-honor-del-santisimo-sacramento/
LOCATION:Parroquia de San Antonio de Pádua\, Av. Agrupación Córdoba\, 11\, 14007 Córdoba\, Córdoba\, España
CATEGORIES:Cultos
ATTACH;FMTTYPE=image/jpeg:https://cordobacapitalcofrade.com/wp-content/uploads/2025/06/482359354_949471297353569_6201138851835598345_n.jpg
END:VEVENT
BEGIN:VEVENT
DTSTART;TZID=UTC:20250619T093000
DTEND;TZID=UTC:20250621T103000
DTSTAMP:20260422T050029
CREATED:20250610T113530Z
LAST-MODIFIED:20250610T124521Z
UID:6230-1750325400-1750501800@cordobacapitalcofrade.com
SUMMARY:Solemne Triduo Eucarístico de la Diócesis de Córdoba
DESCRIPTION:Solemne Triduo Eucarístico\, a las 09:30 horas en la Santa Iglesia Catedral.
URL:https://cordobacapitalcofrade.com/agenda/solemne-triduo-eucaristico-de-la-diocesis-de-cordoba/
LOCATION:Santa Iglesia Catedral de Córdoba\, C. Cardenal Herrero\, 1\, Córdoba\, España
CATEGORIES:Cultos
ATTACH;FMTTYPE=image/jpeg:https://cordobacapitalcofrade.com/wp-content/uploads/2025/06/fcfb66e0-ee79-4154-8d2d-8374cce48d3e_source-aspect-ratio_default_0_x767y392.jpg
END:VEVENT
BEGIN:VEVENT
DTSTART;TZID=UTC:20250619T190000
DTEND;TZID=UTC:20250621T204500
DTSTAMP:20260422T050029
CREATED:20250524T123556Z
LAST-MODIFIED:20250610T123245Z
UID:6127-1750359600-1750538700@cordobacapitalcofrade.com
SUMMARY:Solemne Triduo en honor del Santísimo Sacramento de la Hermandad de la Sangre
DESCRIPTION:Solemne Triduo en honor del Santísimo Sacramento\, a las 20:00 horas en la Iglesia Conventual del Santo Ángel (Capuchinos). Previamente\, a las 19:00 horas\, Exposición del Santísimo\, Ejercicio del Triduo\, Bendición y Reserva.
URL:https://cordobacapitalcofrade.com/agenda/solemne-triduo-en-honor-del-santisimo-sacramento-de-la-hermandad-de-la-sangre/
LOCATION:Iglesia Conventual del Santo Ángel (Capuchinos)\, Pl. de Capuchinos\, 5\, Córdoba\, España
CATEGORIES:Cultos
ATTACH;FMTTYPE=image/jpeg:https://cordobacapitalcofrade.com/wp-content/uploads/2025/05/487135138_1078672574296711_3004552731240900556_n.jpg
END:VEVENT
BEGIN:VEVENT
DTSTART;TZID=UTC:20250619T193000
DTEND;TZID=UTC:20250627T201500
DTSTAMP:20260422T050029
CREATED:20250618T120202Z
LAST-MODIFIED:20250618T120202Z
UID:6328-1750361400-1751055300@cordobacapitalcofrade.com
SUMMARY:Solemne Novena en honor del Sagrado Corazón de Jesús
DESCRIPTION:Solemne Novena en honor del Sagrado Corazón de Jesús\, a las 19:30 horas en la Real Colegiata de San Hipólito.
URL:https://cordobacapitalcofrade.com/agenda/solemne-novena-en-honor-del-sagrado-corazon-de-jesus/
LOCATION:Real Colegiata de San Hipólito\, Pl. de San Ignacio de Loyola\, Córdoba\, España
CATEGORIES:Cultos
ATTACH;FMTTYPE=image/jpeg:https://cordobacapitalcofrade.com/wp-content/uploads/2025/06/Quinario-Buena-Muerte-0038-scaled.jpg
END:VEVENT
BEGIN:VEVENT
DTSTART;TZID=UTC:20250619T200000
DTEND;TZID=UTC:20250619T210000
DTSTAMP:20260422T050029
CREATED:20250613T121102Z
LAST-MODIFIED:20250613T121102Z
UID:6283-1750363200-1750366800@cordobacapitalcofrade.com
SUMMARY:Triduo del Santísimo Sacramento de la Hermandad del Remedio de Ánimas
DESCRIPTION:Triduo del Santísimo Sacramento\, a las 20:00 horas en la Real Parroquia de San Lorenzo Mártir.
URL:https://cordobacapitalcofrade.com/agenda/triduo-del-santisimo-sacramento-de-la-hermandad-del-remedio-de-animas/
LOCATION:Real Parroquia de San Lorenzo Mártir\, Pl. de San Lorenzo\, 5\, Córdoba\, España
CATEGORIES:Cultos
ATTACH;FMTTYPE=image/jpeg:https://cordobacapitalcofrade.com/wp-content/uploads/2025/06/485358957_1065106508994228_1591321906909461919_n.jpg
END:VEVENT
BEGIN:VEVENT
DTSTART;TZID=UTC:20250619T203000
DTEND;TZID=UTC:20250619T213000
DTSTAMP:20260422T050029
CREATED:20250613T124019Z
LAST-MODIFIED:20250613T124019Z
UID:6291-1750365000-1750368600@cordobacapitalcofrade.com
SUMMARY:Solemne Eucaristía de Regla en honor del Santísimo Cristo de la Universidad
DESCRIPTION:Solemne Eucaristía de Regla en honor del Santísimo Cristo de la Universidad\, a las 20:30 horas en la Iglesia del Juramento de San Rafael.
URL:https://cordobacapitalcofrade.com/agenda/solemne-eucaristia-de-regla-en-honor-del-santisimo-cristo-de-la-universidad/
LOCATION:Iglesia del Juramento de San Rafael\, Pl. de San Rafael\, 8\, Córdoba\, España
CATEGORIES:Cultos
ATTACH;FMTTYPE=image/jpeg:https://cordobacapitalcofrade.com/wp-content/uploads/2025/06/Santo-Cristo-2025.jpg
END:VEVENT
END:VCALENDAR