BEGIN:VCALENDAR
VERSION:2.0
PRODID:-//Agenda Cofrade 365 Días - ECPv6.3.7//NONSGML v1.0//EN
CALSCALE:GREGORIAN
METHOD:PUBLISH
X-ORIGINAL-URL:https://cordobacapitalcofrade.com
X-WR-CALDESC:Eventos para Agenda Cofrade 365 Días
REFRESH-INTERVAL;VALUE=DURATION:PT1H
X-Robots-Tag:noindex
X-PUBLISHED-TTL:PT1H
BEGIN:VTIMEZONE
TZID:UTC
BEGIN:STANDARD
TZOFFSETFROM:+0000
TZOFFSETTO:+0000
TZNAME:UTC
DTSTART:20250101T000000
END:STANDARD
END:VTIMEZONE
BEGIN:VEVENT
DTSTART;TZID=UTC:20250619T193000
DTEND;TZID=UTC:20250627T201500
DTSTAMP:20260422T015509
CREATED:20250618T120202Z
LAST-MODIFIED:20250618T120202Z
UID:6328-1750361400-1751055300@cordobacapitalcofrade.com
SUMMARY:Solemne Novena en honor del Sagrado Corazón de Jesús
DESCRIPTION:Solemne Novena en honor del Sagrado Corazón de Jesús\, a las 19:30 horas en la Real Colegiata de San Hipólito.
URL:https://cordobacapitalcofrade.com/agenda/solemne-novena-en-honor-del-sagrado-corazon-de-jesus/
LOCATION:Real Colegiata de San Hipólito\, Pl. de San Ignacio de Loyola\, Córdoba\, España
CATEGORIES:Cultos
ATTACH;FMTTYPE=image/jpeg:https://cordobacapitalcofrade.com/wp-content/uploads/2025/06/Quinario-Buena-Muerte-0038-scaled.jpg
END:VEVENT
BEGIN:VEVENT
DTSTART;TZID=UTC:20250624T193000
DTEND;TZID=UTC:20250626T204500
DTSTAMP:20260422T015509
CREATED:20250623T181337Z
LAST-MODIFIED:20250623T181337Z
UID:6364-1750793400-1750970700@cordobacapitalcofrade.com
SUMMARY:Solemne Triduo a Jesús Sacramentado de la Hermandad de la Quinta Angustia
DESCRIPTION:Solemne Triduo a Jesús Sacramentado\, a las 20:00 horas en la Iglesia de la Merced. Previamente a las 19:30 horas\, Exposición del Santísimo.
URL:https://cordobacapitalcofrade.com/agenda/solemne-triduo-a-jesus-sacramentado-de-la-hermandad-de-la-quinta-angustia/
LOCATION:Iglesia de la Merced\, Pl. de Colón\, 15\, Córdoba\, Córdoba\, 14001\, España
CATEGORIES:Cultos
ATTACH;FMTTYPE=image/jpeg:https://cordobacapitalcofrade.com/wp-content/uploads/2025/06/486608645_1091145536385891_6183101940709200292_n.jpg
END:VEVENT
END:VCALENDAR