BEGIN:VCALENDAR
VERSION:2.0
PRODID:-//Agenda Cofrade 365 Días - ECPv6.3.7//NONSGML v1.0//EN
CALSCALE:GREGORIAN
METHOD:PUBLISH
X-ORIGINAL-URL:https://cordobacapitalcofrade.com
X-WR-CALDESC:Eventos para Agenda Cofrade 365 Días
REFRESH-INTERVAL;VALUE=DURATION:PT1H
X-Robots-Tag:noindex
X-PUBLISHED-TTL:PT1H
BEGIN:VTIMEZONE
TZID:UTC
BEGIN:STANDARD
TZOFFSETFROM:+0000
TZOFFSETTO:+0000
TZNAME:UTC
DTSTART:20250101T000000
END:STANDARD
END:VTIMEZONE
BEGIN:VEVENT
DTSTART;TZID=UTC:20250619T193000
DTEND;TZID=UTC:20250627T201500
DTSTAMP:20260422T015359
CREATED:20250618T120202Z
LAST-MODIFIED:20250618T120202Z
UID:6328-1750361400-1751055300@cordobacapitalcofrade.com
SUMMARY:Solemne Novena en honor del Sagrado Corazón de Jesús
DESCRIPTION:Solemne Novena en honor del Sagrado Corazón de Jesús\, a las 19:30 horas en la Real Colegiata de San Hipólito.
URL:https://cordobacapitalcofrade.com/agenda/solemne-novena-en-honor-del-sagrado-corazon-de-jesus/
LOCATION:Real Colegiata de San Hipólito\, Pl. de San Ignacio de Loyola\, Córdoba\, España
CATEGORIES:Cultos
ATTACH;FMTTYPE=image/jpeg:https://cordobacapitalcofrade.com/wp-content/uploads/2025/06/Quinario-Buena-Muerte-0038-scaled.jpg
END:VEVENT
BEGIN:VEVENT
DTSTART;TZID=UTC:20250624T193000
DTEND;TZID=UTC:20250626T204500
DTSTAMP:20260422T015359
CREATED:20250623T181337Z
LAST-MODIFIED:20250623T181337Z
UID:6364-1750793400-1750970700@cordobacapitalcofrade.com
SUMMARY:Solemne Triduo a Jesús Sacramentado de la Hermandad de la Quinta Angustia
DESCRIPTION:Solemne Triduo a Jesús Sacramentado\, a las 20:00 horas en la Iglesia de la Merced. Previamente a las 19:30 horas\, Exposición del Santísimo.
URL:https://cordobacapitalcofrade.com/agenda/solemne-triduo-a-jesus-sacramentado-de-la-hermandad-de-la-quinta-angustia/
LOCATION:Iglesia de la Merced\, Pl. de Colón\, 15\, Córdoba\, Córdoba\, 14001\, España
CATEGORIES:Cultos
ATTACH;FMTTYPE=image/jpeg:https://cordobacapitalcofrade.com/wp-content/uploads/2025/06/486608645_1091145536385891_6183101940709200292_n.jpg
END:VEVENT
BEGIN:VEVENT
DTSTART;TZID=UTC:20250626T200000
DTEND;TZID=UTC:20250627T210000
DTSTAMP:20260422T015359
CREATED:20250619T122253Z
LAST-MODIFIED:20250619T122253Z
UID:6350-1750968000-1751058000@cordobacapitalcofrade.com
SUMMARY:Solemne Triduo en honor de Jesús Sacramentado de la Hermandad de la Vera Cruz
DESCRIPTION:Solemne Triduo en honor de Jesús Sacramentado\, a las 20:00 horas en la Parroquia de San José y Espíritu Santo.
URL:https://cordobacapitalcofrade.com/agenda/solemne-triduo-en-honor-de-jesus-sacramentado-de-la-hermandad-de-la-vera-cruz/
LOCATION:Parroquia de San José y Espíritu Santo\, Pl. de Santa Teresa\, 1\, Córdoba\, España
CATEGORIES:Cultos
ATTACH;FMTTYPE=image/jpeg:https://cordobacapitalcofrade.com/wp-content/uploads/2025/06/484064475_1028411895978094_2954456439671637207_n.jpg
END:VEVENT
BEGIN:VEVENT
DTSTART;TZID=UTC:20250626T203000
DTEND;TZID=UTC:20250628T213000
DTSTAMP:20260422T015359
CREATED:20250619T115859Z
LAST-MODIFIED:20250619T115859Z
UID:6339-1750969800-1751146200@cordobacapitalcofrade.com
SUMMARY:Solemne Triduo en honor de Jesús Sacramentado de la Hermandad del Prendimiento
DESCRIPTION:Solemne Triduo en honor de Jesús Sacramentado\, a las 20:30 horas en el Santuario de María Auxiliadora.
URL:https://cordobacapitalcofrade.com/agenda/solemne-triduo-en-honor-de-jesus-sacramentado-de-la-hermandad-del-prendimiento/
LOCATION:Santuario de María Auxiliadora\, C. María Auxiliadora\, 8\, Centro\, 14002 Córdoba\, Córdoba\, España
CATEGORIES:Cultos
ATTACH;FMTTYPE=image/jpeg:https://cordobacapitalcofrade.com/wp-content/uploads/2025/06/TercerDia13-696x464-1.jpg
END:VEVENT
BEGIN:VEVENT
DTSTART;TZID=UTC:20250626T203000
DTEND;TZID=UTC:20250628T213000
DTSTAMP:20260422T015359
CREATED:20250623T181701Z
LAST-MODIFIED:20250623T181701Z
UID:6367-1750969800-1751146200@cordobacapitalcofrade.com
SUMMARY:Solemne Triduo a Jesús Sacramentado de la Hermandad de la Soledad
DESCRIPTION:Solemne Triduo a Jesús Sacramentado\, a las 20:30 horas en la Parroquia de Santa María de Guadalupe (Franciscanos).
URL:https://cordobacapitalcofrade.com/agenda/solemne-triduo-a-jesus-sacramentado-de-la-hermandad-de-la-soledad/
LOCATION:Parroquia de Santa María de Guadalupe (Franciscanos)\, Av. del 28 de Febrero\, 3\, Levante\, 14007 Córdoba\, Córdoba\, España
CATEGORIES:Cultos
ATTACH;FMTTYPE=image/jpeg:https://cordobacapitalcofrade.com/wp-content/uploads/2025/06/482006955_1077256454440293_8344002781358752639_n.jpg
END:VEVENT
BEGIN:VEVENT
DTSTART;TZID=UTC:20250626T210000
DTEND;TZID=UTC:20250628T221500
DTSTAMP:20260422T015359
CREATED:20250619T120921Z
LAST-MODIFIED:20250619T120921Z
UID:6344-1750971600-1751148900@cordobacapitalcofrade.com
SUMMARY:Triduo en honor del Santísimo Sacramento de la Hermandad de la Sagrada Cena
DESCRIPTION:Triduo en honor del Santísimo Sacramento\, a las 21:00 horas en la Parroquia del Beato Álvaro de Córdoba.
URL:https://cordobacapitalcofrade.com/agenda/triduo-en-honor-del-santisimo-sacramento-de-la-hermandad-de-la-sagrada-cena/
LOCATION:Parroquia del Beato Álvaro de Córdoba\, Av. Guerrita\, 23\, 14005 Córdoba\, Córdoba\, España
CATEGORIES:Cultos
ATTACH;FMTTYPE=image/jpeg:https://cordobacapitalcofrade.com/wp-content/uploads/2025/06/corpus.jpg
END:VEVENT
END:VCALENDAR