BEGIN:VCALENDAR
VERSION:2.0
PRODID:-//Agenda Cofrade 365 Días - ECPv6.3.7//NONSGML v1.0//EN
CALSCALE:GREGORIAN
METHOD:PUBLISH
X-ORIGINAL-URL:https://cordobacapitalcofrade.com
X-WR-CALDESC:Eventos para Agenda Cofrade 365 Días
REFRESH-INTERVAL;VALUE=DURATION:PT1H
X-Robots-Tag:noindex
X-PUBLISHED-TTL:PT1H
BEGIN:VTIMEZONE
TZID:UTC
BEGIN:STANDARD
TZOFFSETFROM:+0000
TZOFFSETTO:+0000
TZNAME:UTC
DTSTART:20250101T000000
END:STANDARD
END:VTIMEZONE
BEGIN:VEVENT
DTSTART;TZID=UTC:20250629T100000
DTEND;TZID=UTC:20250629T123000
DTSTAMP:20260421T224605
CREATED:20250619T121528Z
LAST-MODIFIED:20250619T121528Z
UID:6347-1751191200-1751200200@cordobacapitalcofrade.com
SUMMARY:Función Principal de Instituto de la Hermandad de la Sagrada Cena y Procesión del Corpus Christi
DESCRIPTION:Función Principal de Instituto de la Hermandad a las 10:00 horas en la Parroquia del Beato Álvaro de Córdoba. \n– Tras la Eucaristía\, Procesión de su Divina Majestad y la Purísima Inmaculada Concepción con este recorrido: Salida (11:00 horas)\, Avenida Guerrita\, Manuel Fuentes Bocanegra\, Pasaje Manuel Calero (11:30 horas)\, Avenida de Lagartijo\, Avenida Guerrita\, Manuel Fuentes Bocanegra (12:00 horas)\, Manuel Cano Pireo\, José María Martorell y Entrada (12:30 horas). El acompañamiento musical será el de la Agrupación Musical «Sagrada Cena» de Córdoba.
URL:https://cordobacapitalcofrade.com/agenda/funcion-principal-de-instituto-de-la-hermandad-de-la-sagrada-cena-y-procesion-del-corpus-christi/
LOCATION:Parroquia del Beato Álvaro de Córdoba\, Av. Guerrita\, 23\, 14005 Córdoba\, Córdoba\, España
CATEGORIES:Cultos,Procesión
ATTACH;FMTTYPE=image/webp:https://cordobacapitalcofrade.com/wp-content/uploads/2025/06/octava-corpus-cena1-kZrF-1248x698@abc.webp
END:VEVENT
BEGIN:VEVENT
DTSTART;TZID=UTC:20250629T120000
DTEND;TZID=UTC:20250629T140000
DTSTAMP:20260421T224605
CREATED:20250619T115325Z
LAST-MODIFIED:20250619T115325Z
UID:6337-1751198400-1751205600@cordobacapitalcofrade.com
SUMMARY:Función Solemne en honor de Jesús Sacramentado y Procesión Claustral de la Hermandad de la Estrella
DESCRIPTION:Función Solemne en honor de Jesús Sacramentado y posterior Procesión Claustral\, a las 12:00 horas en la Parroquia de San Fernando.
URL:https://cordobacapitalcofrade.com/agenda/funcion-solemne-en-honor-de-jesus-sacramentado-y-procesion-claustral-de-la-hermandad-de-la-estrella/
LOCATION:Parroquia de San Fernando\, C. Goya\, 24\, 14006 Córdoba\, Córdoba\, España
CATEGORIES:Cultos,Procesión
ATTACH;FMTTYPE=image/jpeg:https://cordobacapitalcofrade.com/wp-content/uploads/2025/06/509370986_1125874716250042_4990025773051841914_n.jpg
END:VEVENT
END:VCALENDAR