BEGIN:VCALENDAR
VERSION:2.0
PRODID:-//Agenda Cofrade 365 Días - ECPv6.3.7//NONSGML v1.0//EN
CALSCALE:GREGORIAN
METHOD:PUBLISH
X-ORIGINAL-URL:https://cordobacapitalcofrade.com
X-WR-CALDESC:Eventos para Agenda Cofrade 365 Días
REFRESH-INTERVAL;VALUE=DURATION:PT1H
X-Robots-Tag:noindex
X-PUBLISHED-TTL:PT1H
BEGIN:VTIMEZONE
TZID:UTC
BEGIN:STANDARD
TZOFFSETFROM:+0000
TZOFFSETTO:+0000
TZNAME:UTC
DTSTART:20250101T000000
END:STANDARD
END:VTIMEZONE
BEGIN:VEVENT
DTSTART;TZID=UTC:20250911T200000
DTEND;TZID=UTC:20250913T210000
DTSTAMP:20260421T170602
CREATED:20250901T180626Z
LAST-MODIFIED:20250901T180626Z
UID:6828-1757620800-1757797200@cordobacapitalcofrade.com
SUMMARY:Triduo en honor de María Santísima Nazarena
DESCRIPTION:Triduo en honor de María Santísima Nazarena\, a las 20:00 horas en la Iglesia Hospital de Jesús Nazareno
URL:https://cordobacapitalcofrade.com/agenda/triduo-en-honor-de-maria-santisima-nazarena/
LOCATION:Iglesia Hospital de Jesús Nazareno\, C. Jesús Nazareno\, 11\, Córdoba\, España
CATEGORIES:Cultos
ATTACH;FMTTYPE=image/jpeg:https://cordobacapitalcofrade.com/wp-content/uploads/2025/09/Triduo-Nazareno-0041-scaled.jpg
END:VEVENT
BEGIN:VEVENT
DTSTART;TZID=UTC:20250911T203000
DTEND;TZID=UTC:20250913T213000
DTSTAMP:20260421T170602
CREATED:20250908T111012Z
LAST-MODIFIED:20250908T111012Z
UID:6924-1757622600-1757799000@cordobacapitalcofrade.com
SUMMARY:Solemne Triduo en honor de Nuestra Señora de las Angustias Coronada
DESCRIPTION:Solemne Triduo en honor de Nuestra Señora de las Angustias Coronada\, a las 20:30 horas en la Iglesia Conventual de San Agustín.
URL:https://cordobacapitalcofrade.com/agenda/solemne-triduo-en-honor-de-nuestra-senora-de-las-angustias-coronada-2/
LOCATION:Iglesia Conventual de San Agustín\, Pl. de San Agustín\, s/n\, Centro\, 14001 Córdoba\, Córdoba\, España
CATEGORIES:Cultos
ATTACH;FMTTYPE=image/jpeg:https://cordobacapitalcofrade.com/wp-content/uploads/2025/09/482223457_941801901500548_3532731424691526546_n.jpg
END:VEVENT
BEGIN:VEVENT
DTSTART;TZID=UTC:20250911T210000
DTEND;TZID=UTC:20250913T220000
DTSTAMP:20260421T170602
CREATED:20250908T110018Z
LAST-MODIFIED:20250908T110018Z
UID:6917-1757624400-1757800800@cordobacapitalcofrade.com
SUMMARY:Solemne Triduo de María Santísima
DESCRIPTION:Solemne Triduo de María Santísima\, a las 21:00 horas en la Parroquia de San Francisco y San Eulogio.
URL:https://cordobacapitalcofrade.com/agenda/solemne-triduo-de-maria-santisima/
LOCATION:Parroquia de San Francisco y San Eulogio\, C. Compás de San Francisco\, 0\, Córdoba\, España
CATEGORIES:Cultos
ATTACH;FMTTYPE=image/jpeg:https://cordobacapitalcofrade.com/wp-content/uploads/2025/09/482249580_1055675733272928_8123044795531332705_n.jpg
END:VEVENT
END:VCALENDAR