BEGIN:VCALENDAR
VERSION:2.0
PRODID:-//Agenda Cofrade 365 Días - ECPv6.3.7//NONSGML v1.0//EN
CALSCALE:GREGORIAN
METHOD:PUBLISH
X-ORIGINAL-URL:https://cordobacapitalcofrade.com
X-WR-CALDESC:Eventos para Agenda Cofrade 365 Días
REFRESH-INTERVAL;VALUE=DURATION:PT1H
X-Robots-Tag:noindex
X-PUBLISHED-TTL:PT1H
BEGIN:VTIMEZONE
TZID:UTC
BEGIN:STANDARD
TZOFFSETFROM:+0000
TZOFFSETTO:+0000
TZNAME:UTC
DTSTART:20250101T000000
END:STANDARD
END:VTIMEZONE
BEGIN:VEVENT
DTSTART;TZID=UTC:20250921T110000
DTEND;TZID=UTC:20250921T120000
DTSTAMP:20260421T170538
CREATED:20250826T130612Z
LAST-MODIFIED:20250826T130612Z
UID:6783-1758452400-1758456000@cordobacapitalcofrade.com
SUMMARY:Misa de Acción de Gracias de la Hermandad de Araceli
DESCRIPTION:Misa de Acción de Gracias de la Hermandad\, a las 11:00 horas en la Parroquia del Salvador y Santo Domingo de Silos (Compañía).
URL:https://cordobacapitalcofrade.com/agenda/misa-de-accion-de-gracias-de-la-hermandad-de-araceli/
LOCATION:Parroquia Salvador y Santo Domingo de Silos (Compañía)\, Pl. de la Compañía\, 7\, Córdoba\, España
CATEGORIES:Cultos
ATTACH;FMTTYPE=image/jpeg:https://cordobacapitalcofrade.com/wp-content/uploads/2025/08/Procesion-Extraordinaria-Araceli-0237-min-scaled.jpg
END:VEVENT
BEGIN:VEVENT
DTSTART;TZID=UTC:20250921T120000
DTEND;TZID=UTC:20250921T130000
DTSTAMP:20260421T170538
CREATED:20250816T125659Z
LAST-MODIFIED:20250816T125659Z
UID:6744-1758456000-1758459600@cordobacapitalcofrade.com
SUMMARY:Fiesta de Regla de la Hermandad del Socorro
DESCRIPTION:Fiesta de Regla de la Hermandad\, a las 12:00 horas en la Ermita del Socorro.
URL:https://cordobacapitalcofrade.com/agenda/fiesta-de-regla-de-la-hermandad-del-socorro/
LOCATION:Ermita del Socorro\, Plaza del Socorro\, 1\, Córdoba\, Córdoba\, 14002\, España
CATEGORIES:Cultos
ATTACH;FMTTYPE=image/jpeg:https://cordobacapitalcofrade.com/wp-content/uploads/2025/08/470684454_18455505829067612_8854399913133113664_n-1.jpg
END:VEVENT
BEGIN:VEVENT
DTSTART;TZID=UTC:20250921T120000
DTEND;TZID=UTC:20250921T130000
DTSTAMP:20260421T170538
CREATED:20250901T183634Z
LAST-MODIFIED:20250901T183634Z
UID:6851-1758456000-1758459600@cordobacapitalcofrade.com
SUMMARY:Función Principal de Nuestra Señora de la Estrella
DESCRIPTION:Función Principal de Nuestra Señora de la Estrella\, a las 12:00 horas en la Parroquia de San Fernando.
URL:https://cordobacapitalcofrade.com/agenda/funcion-principal-de-nuestra-senora-de-la-estrella/
LOCATION:Parroquia de San Fernando\, C. Goya\, 24\, 14006 Córdoba\, Córdoba\, España
CATEGORIES:Cultos
ATTACH;FMTTYPE=image/jpeg:https://cordobacapitalcofrade.com/wp-content/uploads/2025/09/482253705_1050065770497604_7647299333782654072_n.jpg
END:VEVENT
BEGIN:VEVENT
DTSTART;TZID=UTC:20250921T200000
DTEND;TZID=UTC:20250923T210000
DTSTAMP:20260421T170538
CREATED:20250905T131239Z
LAST-MODIFIED:20250905T131239Z
UID:6889-1758484800-1758661200@cordobacapitalcofrade.com
SUMMARY:Solemne Triduo en honor de Nuestra Señora de la Merced
DESCRIPTION:Solemne Triduo en honor de Nuestra Señora de la Merced\, a las 20:00 horas en la Parroquia de San Antonio de Pádua.
URL:https://cordobacapitalcofrade.com/agenda/solemne-triduo-en-honor-de-nuestra-senora-de-la-merced/
LOCATION:Parroquia de San Antonio de Pádua\, Av. Agrupación Córdoba\, 11\, 14007 Córdoba\, Córdoba\, España
CATEGORIES:Cultos
ATTACH;FMTTYPE=image/jpeg:https://cordobacapitalcofrade.com/wp-content/uploads/2025/09/469380839_18334688059145556_5599796989470547975_n.jpg
END:VEVENT
END:VCALENDAR