BEGIN:VCALENDAR
VERSION:2.0
PRODID:-//Agenda Cofrade 365 Días - ECPv6.3.7//NONSGML v1.0//EN
CALSCALE:GREGORIAN
METHOD:PUBLISH
X-WR-CALNAME:Agenda Cofrade 365 Días
X-ORIGINAL-URL:https://cordobacapitalcofrade.com
X-WR-CALDESC:Eventos para Agenda Cofrade 365 Días
REFRESH-INTERVAL;VALUE=DURATION:PT1H
X-Robots-Tag:noindex
X-PUBLISHED-TTL:PT1H
BEGIN:VTIMEZONE
TZID:UTC
BEGIN:STANDARD
TZOFFSETFROM:+0000
TZOFFSETTO:+0000
TZNAME:UTC
DTSTART:20250101T000000
END:STANDARD
END:VTIMEZONE
BEGIN:VEVENT
DTSTART;TZID=UTC:20250925T200000
DTEND;TZID=UTC:20250927T210000
DTSTAMP:20260421T131250
CREATED:20250912T124747Z
LAST-MODIFIED:20250912T124747Z
UID:6998-1758830400-1759006800@cordobacapitalcofrade.com
SUMMARY:Solemne Triduo en honor de María Santísima de la Amargura
DESCRIPTION:Solemne Triduo en honor de María Santísima de la Amargura\, a las 20:00 horas en la Parroquia de Nuestra Señora de Gracia (Trinitarios).
URL:https://cordobacapitalcofrade.com/agenda/solemne-triduo-en-honor-de-maria-santisima-de-la-amargura/
LOCATION:Parroquia de Ntra. Sra. De Gracia y San Eulogio (P.P. Trinitarios)\, Plaza Cristo de Gracia\, 5\, Córdoba\, Córdoba\, 14002\, España
CATEGORIES:Cultos
ATTACH;FMTTYPE=image/jpeg:https://cordobacapitalcofrade.com/wp-content/uploads/2025/09/488067387_1115829063922093_5375820949804590681_n.jpg
END:VEVENT
BEGIN:VEVENT
DTSTART;TZID=UTC:20250926T200000
DTEND;TZID=UTC:20250927T210000
DTSTAMP:20260421T131250
CREATED:20250922T182647Z
LAST-MODIFIED:20250922T182647Z
UID:7062-1758916800-1759006800@cordobacapitalcofrade.com
SUMMARY:Solemne Triduo de Nuestra Señora Reina de los Apóstoles
DESCRIPTION:Solemne Triduo de Nuestra Señora Reina de los Apóstoles a las 20:30 horas en el Santuario de la Fuensanta. Previamente a las 20:00 horas Rezo del Santo Rosario.
URL:https://cordobacapitalcofrade.com/agenda/solemne-triduo-de-nuestra-senora-reina-de-los-apostoles/
LOCATION:Santuario de Nuestra Señora de la Fuensanta\, Pl. Santuario de la Fuensanta\, s/n\, Sureste\, 14010 Córdoba\, Córdoba\, España
CATEGORIES:Cultos
ATTACH;FMTTYPE=image/jpeg:https://cordobacapitalcofrade.com/wp-content/uploads/2025/09/484214030_980386594234117_7267587716080232197_n.jpg
END:VEVENT
BEGIN:VEVENT
DTSTART;TZID=UTC:20250926T200000
DTEND;TZID=UTC:20250927T211500
DTSTAMP:20260421T131250
CREATED:20250922T185645Z
LAST-MODIFIED:20250922T185645Z
UID:7081-1758916800-1759007700@cordobacapitalcofrade.com
SUMMARY:Solemne Triduo en honor de Nuestra Señora de los Dolores y del Rayo
DESCRIPTION:Solemne Triduo en honor de Nuestra Señora de los Dolores y del Rayo a las 20:00 horas en la Parroquia de San José y Espíritu Santo.
URL:https://cordobacapitalcofrade.com/agenda/solemne-triduo-en-honor-de-nuestra-senora-de-los-dolores-y-del-rayo/
LOCATION:Parroquia de San José y Espíritu Santo\, Pl. de Santa Teresa\, 1\, Córdoba\, España
CATEGORIES:Cultos
ATTACH;FMTTYPE=image/jpeg:https://cordobacapitalcofrade.com/wp-content/uploads/2025/09/551862685_18286903597273736_8861867778857072963_n.jpg
END:VEVENT
BEGIN:VEVENT
DTSTART;TZID=UTC:20250927T190000
DTEND;TZID=UTC:20250927T200000
DTSTAMP:20260421T131250
CREATED:20250901T174507Z
LAST-MODIFIED:20250901T174507Z
UID:6823-1758999600-1759003200@cordobacapitalcofrade.com
SUMMARY:Santa Misa con motivo de la Peregrinación de la Hermandad de la Sangre a la Santa Iglesia Catedral
DESCRIPTION:Santa Misa con motivo de la Peregrinación de la Hermandad de la Sangre a la Santa Iglesia Catedral por el Año Jubilar «Peregrinos de la Esperanza» a las 19:00 horas.
URL:https://cordobacapitalcofrade.com/agenda/santa-misa-con-motivo-de-la-peregrinacion-de-la-hermandad-de-la-sangre-a-la-santa-iglesia-catedral/
LOCATION:Santa Iglesia Catedral de Córdoba\, C. Cardenal Herrero\, 1\, Córdoba\, España
CATEGORIES:Cultos
ATTACH;FMTTYPE=image/jpeg:https://cordobacapitalcofrade.com/wp-content/uploads/2025/09/525756179_1179953314168636_827839114358103174_n.jpg
END:VEVENT
BEGIN:VEVENT
DTSTART;TZID=UTC:20250927T210000
DTEND;TZID=UTC:20250927T220000
DTSTAMP:20260421T131250
CREATED:20250915T195812Z
LAST-MODIFIED:20250915T195812Z
UID:7040-1759006800-1759010400@cordobacapitalcofrade.com
SUMMARY:Función Principal de María Santísima de la Victoria
DESCRIPTION:Función Principal de María Santísima de la Victoria\, a las 21:00 horas en la Real Parroquia de San Lorenzo Mártir.
URL:https://cordobacapitalcofrade.com/agenda/funcion-principal-de-maria-santisima-de-la-victoria-2/
LOCATION:Real Parroquia de San Lorenzo Mártir\, Pl. de San Lorenzo\, 5\, Córdoba\, España
CATEGORIES:Cultos
ATTACH;FMTTYPE=image/jpeg:https://cordobacapitalcofrade.com/wp-content/uploads/2025/09/480303703_639920225218410_4646311863365671522_n.jpg
END:VEVENT
END:VCALENDAR