BEGIN:VCALENDAR
VERSION:2.0
PRODID:-//Agenda Cofrade 365 Días - ECPv6.3.7//NONSGML v1.0//EN
CALSCALE:GREGORIAN
METHOD:PUBLISH
X-ORIGINAL-URL:https://cordobacapitalcofrade.com
X-WR-CALDESC:Eventos para Agenda Cofrade 365 Días
REFRESH-INTERVAL;VALUE=DURATION:PT1H
X-Robots-Tag:noindex
X-PUBLISHED-TTL:PT1H
BEGIN:VTIMEZONE
TZID:UTC
BEGIN:STANDARD
TZOFFSETFROM:+0000
TZOFFSETTO:+0000
TZNAME:UTC
DTSTART:20250101T000000
END:STANDARD
END:VTIMEZONE
BEGIN:VEVENT
DTSTART;TZID=UTC:20250928T080000
DTEND;TZID=UTC:20250928T210000
DTSTAMP:20260421T133207
CREATED:20250912T125400Z
LAST-MODIFIED:20250912T125400Z
UID:7003-1759046400-1759093200@cordobacapitalcofrade.com
SUMMARY:Besamanos de María Santísima de la Amargura
DESCRIPTION:Besamanos de María Santísima de la Amargura en horario de 08:00 a 14:00 horas y de 16:00 a 21:00 horas en la Parroquia de Nuestra Señora de Gracia (Trinitarios).
URL:https://cordobacapitalcofrade.com/agenda/besamanos-de-maria-santisima-de-la-amargura/
LOCATION:Parroquia de Ntra. Sra. De Gracia y San Eulogio (P.P. Trinitarios)\, Plaza Cristo de Gracia\, 5\, Córdoba\, Córdoba\, 14002\, España
CATEGORIES:Cultos
ATTACH;FMTTYPE=image/jpeg:https://cordobacapitalcofrade.com/wp-content/uploads/2025/09/463897185_18323253892159266_7986763734131648710_n.jpg
END:VEVENT
BEGIN:VEVENT
DTSTART;TZID=UTC:20250928T100000
DTEND;TZID=UTC:20250928T140000
DTSTAMP:20260421T133207
CREATED:20250922T183024Z
LAST-MODIFIED:20250922T183024Z
UID:7067-1759053600-1759068000@cordobacapitalcofrade.com
SUMMARY:Función Principal de Nuestra Señora Reina de los Apóstoles
DESCRIPTION:Besamanos de Nuestra Señora Reina de los Apóstoles en horario de 10:00 a 14:00 horas en el Santuario de la Fuensanta.
URL:https://cordobacapitalcofrade.com/agenda/funcion-principal-de-nuestra-senora-reina-de-los-apostoles-2/
LOCATION:Santuario de Nuestra Señora de la Fuensanta\, Pl. Santuario de la Fuensanta\, s/n\, Sureste\, 14010 Córdoba\, Córdoba\, España
CATEGORIES:Cultos
ATTACH;FMTTYPE=image/jpeg:https://cordobacapitalcofrade.com/wp-content/uploads/2025/09/482053467_980389067567203_8349098062497666019_n.jpg
END:VEVENT
BEGIN:VEVENT
DTSTART;TZID=UTC:20250928T100000
DTEND;TZID=UTC:20250928T210000
DTSTAMP:20260421T133207
CREATED:20250915T195949Z
LAST-MODIFIED:20250915T195949Z
UID:7043-1759053600-1759093200@cordobacapitalcofrade.com
SUMMARY:Besamanos de María Santísima de la Victoria
DESCRIPTION:Besamanos de María Santísima de la Victoria en horario de 10:00 a 14:00 horas y de 18:00 a 21:00 horas en la Real Parroquia de San Lorenzo Mártir.
URL:https://cordobacapitalcofrade.com/agenda/besamanos-de-maria-santisima-de-la-victoria-2/
LOCATION:Real Parroquia de San Lorenzo Mártir\, Pl. de San Lorenzo\, 5\, Córdoba\, España
CATEGORIES:Cultos
ATTACH;FMTTYPE=image/jpeg:https://cordobacapitalcofrade.com/wp-content/uploads/2025/09/480303703_639920225218410_4646311863365671522_n-1.jpg
END:VEVENT
BEGIN:VEVENT
DTSTART;TZID=UTC:20250928T113000
DTEND;TZID=UTC:20250928T124500
DTSTAMP:20260421T133207
CREATED:20250922T185743Z
LAST-MODIFIED:20250922T185743Z
UID:7084-1759059000-1759063500@cordobacapitalcofrade.com
SUMMARY:Solemne Triduo en honor de Nuestra Señora de los Dolores y del Rayo
DESCRIPTION:Solemne Triduo en honor de Nuestra Señora de los Dolores y del Rayo a las 11:30 horas en la Parroquia de San José y Espíritu Santo.
URL:https://cordobacapitalcofrade.com/agenda/solemne-triduo-en-honor-de-nuestra-senora-de-los-dolores-y-del-rayo-2/
LOCATION:Parroquia de San José y Espíritu Santo\, Pl. de Santa Teresa\, 1\, Córdoba\, España
CATEGORIES:Cultos
ATTACH;FMTTYPE=image/jpeg:https://cordobacapitalcofrade.com/wp-content/uploads/2025/09/551862685_18286903597273736_8861867778857072963_n.jpg
END:VEVENT
BEGIN:VEVENT
DTSTART;TZID=UTC:20250928T123000
DTEND;TZID=UTC:20250928T133000
DTSTAMP:20260421T133207
CREATED:20250912T124958Z
LAST-MODIFIED:20250912T124958Z
UID:7001-1759062600-1759066200@cordobacapitalcofrade.com
SUMMARY:Función Principal de Instituto de la Hermandad del Rescatado
DESCRIPTION:Función Principal de Instituto de la Hermandad\, a las 12:30 horas en la Parroquia de Nuestra Señora de Gracia (Trinitarios).
URL:https://cordobacapitalcofrade.com/agenda/funcion-principal-de-instituto-de-la-hermandad-del-rescatado/
LOCATION:Parroquia de Ntra. Sra. De Gracia y San Eulogio (P.P. Trinitarios)\, Plaza Cristo de Gracia\, 5\, Córdoba\, Córdoba\, 14002\, España
CATEGORIES:Cultos
ATTACH;FMTTYPE=image/jpeg:https://cordobacapitalcofrade.com/wp-content/uploads/2025/09/488067387_1115829063922093_5375820949804590681_n.jpg
END:VEVENT
BEGIN:VEVENT
DTSTART;TZID=UTC:20250928T123000
DTEND;TZID=UTC:20250928T133000
DTSTAMP:20260421T133207
CREATED:20250922T182907Z
LAST-MODIFIED:20250922T182907Z
UID:7065-1759062600-1759066200@cordobacapitalcofrade.com
SUMMARY:Función Principal de Nuestra Señora Reina de los Apóstoles
DESCRIPTION:Función Principal de Nuestra Señora Reina de los Apóstoles\, a las 12:30 horas en el Santuario de la Fuensanta.
URL:https://cordobacapitalcofrade.com/agenda/funcion-principal-de-nuestra-senora-reina-de-los-apostoles/
LOCATION:Santuario de Nuestra Señora de la Fuensanta\, Pl. Santuario de la Fuensanta\, s/n\, Sureste\, 14010 Córdoba\, Córdoba\, España
CATEGORIES:Cultos
ATTACH;FMTTYPE=image/jpeg:https://cordobacapitalcofrade.com/wp-content/uploads/2025/09/484214030_980386594234117_7267587716080232197_n.jpg
END:VEVENT
END:VCALENDAR