BEGIN:VCALENDAR
VERSION:2.0
PRODID:-//Agenda Cofrade 365 Días - ECPv6.3.7//NONSGML v1.0//EN
CALSCALE:GREGORIAN
METHOD:PUBLISH
X-WR-CALNAME:Agenda Cofrade 365 Días
X-ORIGINAL-URL:https://cordobacapitalcofrade.com
X-WR-CALDESC:Eventos para Agenda Cofrade 365 Días
REFRESH-INTERVAL;VALUE=DURATION:PT1H
X-Robots-Tag:noindex
X-PUBLISHED-TTL:PT1H
BEGIN:VTIMEZONE
TZID:UTC
BEGIN:STANDARD
TZOFFSETFROM:+0000
TZOFFSETTO:+0000
TZNAME:UTC
DTSTART:20250101T000000
END:STANDARD
END:VTIMEZONE
BEGIN:VEVENT
DTSTART;TZID=UTC:20251123T090000
DTEND;TZID=UTC:20251123T210000
DTSTAMP:20260421T101818
CREATED:20251116T130208Z
LAST-MODIFIED:20251116T130208Z
UID:7553-1763888400-1763931600@cordobacapitalcofrade.com
SUMMARY:Besamanos de Nuestro Padre Jesús de la Fe
DESCRIPTION:Besamanos de Nuestro Padre Jesús de la Fe en horario de 09:00 a 13:00 horas y de 18:00 a 21:00 horas en la Parroquia del Beato Álvaro de Córdoba.
URL:https://cordobacapitalcofrade.com/agenda/besamanos-de-nuestro-padre-jesus-de-la-fe-2/
LOCATION:Parroquia del Beato Álvaro de Córdoba\, Av. Guerrita\, 23\, 14005 Córdoba\, Córdoba\, España
CATEGORIES:Cultos
ATTACH;FMTTYPE=image/jpeg:https://cordobacapitalcofrade.com/wp-content/uploads/2025/11/475438564_9190013791037477_6829996112460929503_n.jpg
END:VEVENT
BEGIN:VEVENT
DTSTART;TZID=UTC:20251123T100000
DTEND;TZID=UTC:20251123T210000
DTSTAMP:20260421T101818
CREATED:20251113T164241Z
LAST-MODIFIED:20251113T164241Z
UID:7530-1763892000-1763931600@cordobacapitalcofrade.com
SUMMARY:Besapiés de Nuestro Padre Jesús de los Reyes
DESCRIPTION:Besapiés de Nuestro Padre Jesús de los Reyes en horario de 10:00 a 14:00 horas y de 18:00 a 21:00 horas en la Real Parroquia de San Lorenzo Mártir.
URL:https://cordobacapitalcofrade.com/agenda/besapies-de-nuestro-padre-jesus-de-los-reyes-3/
LOCATION:Real Parroquia de San Lorenzo Mártir\, Pl. de San Lorenzo\, 5\, Córdoba\, España
CATEGORIES:Cultos
ATTACH;FMTTYPE=image/jpeg:https://cordobacapitalcofrade.com/wp-content/uploads/2025/11/Besapies-Borriquita-0069-scaled.jpg
END:VEVENT
BEGIN:VEVENT
DTSTART;TZID=UTC:20251123T110000
DTEND;TZID=UTC:20251123T200000
DTSTAMP:20260421T101818
CREATED:20251117T133416Z
LAST-MODIFIED:20251117T133416Z
UID:7576-1763895600-1763928000@cordobacapitalcofrade.com
SUMMARY:Besamanos del Señor Amarrado a la Columna
DESCRIPTION:Besamanos del Señor Amarrado a la Columna en horario de 11:00 a 12:00 horas y de 18:00 a 20:00 horas en la Parroquia de San Francisco y San Eulogio.
URL:https://cordobacapitalcofrade.com/agenda/besamanos-del-senor-amarrado-a-la-columna-2/
LOCATION:Parroquia de San Francisco y San Eulogio\, C. Compás de San Francisco\, 0\, Córdoba\, España
CATEGORIES:Cultos
ATTACH;FMTTYPE=image/jpeg:https://cordobacapitalcofrade.com/wp-content/uploads/2025/11/Besamanos-Amarrado-0169-scaled.jpg
END:VEVENT
BEGIN:VEVENT
DTSTART;TZID=UTC:20251123T111500
DTEND;TZID=UTC:20251123T121500
DTSTAMP:20260421T101818
CREATED:20251117T131840Z
LAST-MODIFIED:20251117T131840Z
UID:7567-1763896500-1763900100@cordobacapitalcofrade.com
SUMMARY:Función Solemne de Nuestro Padre Jesús del Silencio
DESCRIPTION:Función Solemne de Nuestro Padre Jesús del Silencio\, a las 11:15 horas en la Parroquia de Jesús Divino Obrero.
URL:https://cordobacapitalcofrade.com/agenda/funcion-solemne-de-nuestro-padre-jesus-del-silencio-2/
LOCATION:Parroquia de Jesús Divino Obrero\, C. Beato Henares\, 1\, Córdoba\, España
CATEGORIES:Cultos
ATTACH;FMTTYPE=image/jpeg:https://cordobacapitalcofrade.com/wp-content/uploads/2025/11/483542644_664767996112753_5676479699632895587_n.jpg
END:VEVENT
BEGIN:VEVENT
DTSTART;TZID=UTC:20251123T123000
DTEND;TZID=UTC:20251123T133000
DTSTAMP:20260421T101819
CREATED:20251117T133626Z
LAST-MODIFIED:20251117T133626Z
UID:7579-1763901000-1763904600@cordobacapitalcofrade.com
SUMMARY:Función Solemne del Señor Amarrado a la Columna
DESCRIPTION:Función Solemne del Señor Amarrado a la Columna a las 12:30 horas en la Parroquia de San Francisco y San Eulogio.
URL:https://cordobacapitalcofrade.com/agenda/funcion-solemne-del-senor-amarrado-a-la-columna-2/
LOCATION:Parroquia de San Francisco y San Eulogio\, C. Compás de San Francisco\, 0\, Córdoba\, España
CATEGORIES:Cultos
ATTACH;FMTTYPE=image/jpeg:https://cordobacapitalcofrade.com/wp-content/uploads/2025/11/Besamanos-Amarrado-0169-scaled.jpg
END:VEVENT
BEGIN:VEVENT
DTSTART;TZID=UTC:20251123T123000
DTEND;TZID=UTC:20251123T133000
DTSTAMP:20260421T101819
CREATED:20251117T135024Z
LAST-MODIFIED:20251117T135024Z
UID:7584-1763901000-1763904600@cordobacapitalcofrade.com
SUMMARY:Solemne Eucaristía en honor de Nuestro Padre Jesús de la Humildad y Paciencia con motivo de la Festividad de Cristo Rey
DESCRIPTION:Solemne Eucaristía en honor de Nuestro Padre Jesús de la Humildad y Paciencia con motivo de la Festividad de Cristo Rey\, a las 12:30 horas en la Iglesia Conventual del Santo Ángel (Capuchinos).
URL:https://cordobacapitalcofrade.com/agenda/solemne-eucaristia-en-honor-de-nuestro-padre-jesus-de-la-humildad-y-paciencia-con-motivo-de-la-festividad-de-cristo-rey/
LOCATION:Iglesia Conventual del Santo Ángel (Capuchinos)\, Pl. de Capuchinos\, 5\, Córdoba\, España
CATEGORIES:Cultos
ATTACH;FMTTYPE=image/jpeg:https://cordobacapitalcofrade.com/wp-content/uploads/2025/11/468107919_18359870167188192_2761117697492482895_n.jpg
END:VEVENT
BEGIN:VEVENT
DTSTART;TZID=UTC:20251123T130000
DTEND;TZID=UTC:20251123T140000
DTSTAMP:20260421T101819
CREATED:20251117T134211Z
LAST-MODIFIED:20251119T123835Z
UID:7581-1763902800-1763906400@cordobacapitalcofrade.com
SUMMARY:Función en honor de Nuestro Padre Jesús Humilde en su Coronación de Espinas
DESCRIPTION:Función en honor de Nuestro Padre Jesús Humilde en su Coronación de Espinas\, a las 13:00 horas en la Parroquia de San Antonio de Pádua.
URL:https://cordobacapitalcofrade.com/agenda/funcion-en-honor-de-nuestro-padre-jesus-humilde-en-su-coronacion-de-espinas-2/
LOCATION:Parroquia de San Antonio de Pádua\, Av. Agrupación Córdoba\, 11\, 14007 Córdoba\, Córdoba\, España
CATEGORIES:Cultos
ATTACH;FMTTYPE=image/jpeg:https://cordobacapitalcofrade.com/wp-content/uploads/2025/11/467551997_18333331321145556_2544124960586475091_n.jpg
END:VEVENT
BEGIN:VEVENT
DTSTART;TZID=UTC:20251123T163000
DTEND;TZID=UTC:20251123T200000
DTSTAMP:20260421T101819
CREATED:20251117T132613Z
LAST-MODIFIED:20251117T132613Z
UID:7569-1763915400-1763928000@cordobacapitalcofrade.com
SUMMARY:Besamanos de Nuestro Padre Jesús del Silencio
DESCRIPTION:Besamanos de Nuestro Padre Jesús del Silencio en horario de 16:30 a 20:00 horas en la Parroquia de Jesús Divino Obrero.
URL:https://cordobacapitalcofrade.com/agenda/besamanos-de-nuestro-padre-jesus-del-silencio-3/
LOCATION:Parroquia de Jesús Divino Obrero\, C. Beato Henares\, 1\, Córdoba\, España
CATEGORIES:Cultos
ATTACH;FMTTYPE=image/jpeg:https://cordobacapitalcofrade.com/wp-content/uploads/2025/11/Besamanos-Silencio-0149-min-1-scaled.jpg
END:VEVENT
BEGIN:VEVENT
DTSTART;TZID=UTC:20251123T200000
DTEND;TZID=UTC:20251123T210000
DTSTAMP:20260421T101819
CREATED:20251108T131005Z
LAST-MODIFIED:20251108T131005Z
UID:7421-1763928000-1763931600@cordobacapitalcofrade.com
SUMMARY:Fiesta de Regla de la Hermandad de la Presentación al Pueblo
DESCRIPTION:Fiesta de Regla de la Hermandad\, a las 20:00 horas en la Parroquia de San Vicente Ferrer.
URL:https://cordobacapitalcofrade.com/agenda/fiesta-de-regla-de-la-hermandad-de-la-presentacion-al-pueblo-2/
LOCATION:Parroquia de San Vicente Ferrer (Cañero)\, C. Funcionario Lázaro Navajas\, 70\, 14014 Córdoba\, España\, Córdoba\, España
CATEGORIES:Cultos
ATTACH;FMTTYPE=image/jpeg:https://cordobacapitalcofrade.com/wp-content/uploads/2025/11/483508239_18495766243012587_1261212496450754938_n.jpg
END:VEVENT
END:VCALENDAR