BEGIN:VCALENDAR
VERSION:2.0
PRODID:-//Agenda Cofrade 365 Días - ECPv6.3.7//NONSGML v1.0//EN
CALSCALE:GREGORIAN
METHOD:PUBLISH
X-ORIGINAL-URL:https://cordobacapitalcofrade.com
X-WR-CALDESC:Eventos para Agenda Cofrade 365 Días
REFRESH-INTERVAL;VALUE=DURATION:PT1H
X-Robots-Tag:noindex
X-PUBLISHED-TTL:PT1H
BEGIN:VTIMEZONE
TZID:UTC
BEGIN:STANDARD
TZOFFSETFROM:+0000
TZOFFSETTO:+0000
TZNAME:UTC
DTSTART:20250101T000000
END:STANDARD
END:VTIMEZONE
BEGIN:VEVENT
DTSTART;TZID=UTC:20251127T200000
DTEND;TZID=UTC:20251129T204500
DTSTAMP:20260421T042342
CREATED:20251030T124236Z
LAST-MODIFIED:20251030T124236Z
UID:7350-1764273600-1764449100@cordobacapitalcofrade.com
SUMMARY:Solemne Triduo en honor de María Santísima de Gracia y Amparo
DESCRIPTION:Solemne Triduo en honor de María Santísima de Gracia y Amparo\, a las 20:00 horas en la Parroquia de San Nicolás de la Villa.
URL:https://cordobacapitalcofrade.com/agenda/solemne-triduo-en-honor-de-maria-santisima-de-gracia-y-amparo/
LOCATION:Parroquia de San Nicolás de la Villa\, Pl. de San Nicolás\, 14003 Córdoba\, Córdoba\, España
CATEGORIES:Cultos
ATTACH;FMTTYPE=image/jpeg:https://cordobacapitalcofrade.com/wp-content/uploads/2025/10/Triduo-Gracia-y-Amparo-0055-min-scaled.jpg
END:VEVENT
BEGIN:VEVENT
DTSTART;TZID=UTC:20251129T100000
DTEND;TZID=UTC:20251130T200000
DTSTAMP:20260421T042342
CREATED:20251113T162423Z
LAST-MODIFIED:20251113T162423Z
UID:7522-1764410400-1764532800@cordobacapitalcofrade.com
SUMMARY:Besamanos de María Santísima de la Victoria
DESCRIPTION:Besamanos de María Santísima de la Victoria en horario de 10:00 a 13:00 horas y de 16:30 a 20:00 horas en la Parroquia de Santa Beatríz de Silva. Durante estos días habrá la campaña «Un beso\, un litro» recogida de litros de leche\, aceite\, alimentos y donativos destinados a Cáritas Parroquial.
URL:https://cordobacapitalcofrade.com/agenda/besamanos-de-maria-santisima-de-la-victoria-3/
LOCATION:Parroquia Sta. Beatriz de Silva\, Pasaje Mercado\, 3\, Córdoba\, Córdoba\, 14005\, España
CATEGORIES:Cultos
ATTACH;FMTTYPE=image/jpeg:https://cordobacapitalcofrade.com/wp-content/uploads/2025/11/Besamanos-Victoria-0067-scaled.jpg
END:VEVENT
BEGIN:VEVENT
DTSTART;TZID=UTC:20251129T190000
DTEND;TZID=UTC:20251129T203000
DTSTAMP:20260421T042342
CREATED:20251124T162535Z
LAST-MODIFIED:20251124T162535Z
UID:7657-1764442800-1764448200@cordobacapitalcofrade.com
SUMMARY:Solemne Función en honor del Beato Diego José de Cádiz
DESCRIPTION:Solemne Función en honor del Beato Diego José de Cádiz\, a las 19:30 horas en la Iglesia Conventual del Santo Ángel (Capuchinos). Previamente a las 19:00 horas\, Rezo del Santo Rosario. Tras finalizar la Eucaristía se bendecirá el Belén del Redil en las dependencias del Convento.
URL:https://cordobacapitalcofrade.com/agenda/solemne-funcion-en-honor-del-beato-diego-jose-de-cadiz/
LOCATION:Iglesia Conventual del Santo Ángel (Capuchinos)\, Pl. de Capuchinos\, 5\, Córdoba\, España
CATEGORIES:Cultos
ATTACH;FMTTYPE=image/png:https://cordobacapitalcofrade.com/wp-content/uploads/2025/11/Captura-de-pantalla-2025-11-24-172310.png
END:VEVENT
END:VCALENDAR